{"text_format":"1","workbook":"xlsx","n_sheets":18,"sheets":["Client Report","Analyze","Synchrony","Maps","Histograms","Symmetry","Variance","Heads","Report","Training Plan","Summary Report","Formulae","Options","Text","Raw","Autoplan","Amplitude","HeadData"],"not_rendered":{"charts":66,"images":166,"macros":1,"external_links":0,"defined_names":15,"comments":0,"pivot_tables":0},"unopened":[],"bounds":{"document_bytes":16777216,"sheet_cells":100000,"rows_first":2000,"rows_last":500,"rows_between":2000,"halvings":0,"cell_chars":16384,"cell_head_chars":4096},"cells_cut":0,"cells_raw":0,"read":"whole","date_system":"1900"}

{"sheet":"Client Report","index":0,"n_rows":65,"n_cols":53,"rows_kept":65,"cut":false,"hidden":false,"merged":[[101,0,101,6],[89,0,89,2],[90,0,90,6],[92,0,92,2],[93,0,93,6],[94,0,94,2],[95,0,95,6],[96,0,96,2],[97,0,97,6],[98,0,98,2],[99,0,99,6],[100,0,100,2],[29,13,29,37],[30,13,30,37],[31,13,31,37],[15,26,15,36],[5,7,5,17],[11,15,11,16],[11,30,11,31],[5,21,5,22],[15,15,15,16]]}
[null,null,null,"Client Report Submitted by petelobo on 8/17/2015"]
[]
[]
[]
[null,null,null,null,null,null,null,null,null,null,null,null,null,null,null,null,null,null,null,null,null,null,null,null,null,null,null,null,null,null,null,null,null,null,null,null,null,null,null,null,null,null,null,null,null,null,null,null,6,8,6,11,14]
[null,null,"Trainee Name:",null,null,null,null,"Example adult",null,null,null,null,null,null,null,null,null,null,null,null,"Age:",46,null,null,null,null,null,null,null,null,null,null,null,null,null,null,null,null,null,null,null,null,null,null,null,null,null,null,null,18,16,18,19]
[null,null,null,null,null,null,null,null,null,null,null,null,null,null,null,null,null,null,null,null,null,null,null,null,null,null,null,null,null,null,null,null,null,null,null,null,null,null,null,null,null,null,null,null,"-","-",null,null,6,22,22,22,22]
[null,"Family/Vocational Information",null,null,null,null,null,null,null,null,null,null,null,null,null,null,null,null,null,null,null,null,null,null,null,null,null,null,null,null,null,null,null,null,null,null,null,null,null,null,null,null,null,null,"1-12 x/year",1,null,null,null,23,23,23,23]
[null,null,null,null,null,null,null,null,null,null,null,null,null,null,null,null,null,null,null,null,null,null,null,null,null,null,null,null,null,null,null,null,null,null,null,null,null,null,null,null,null,null,null,null,"1-4 x/month",2,null,null,12,16,15,19,19]
[null,null,"Trainee grew up in (check all that apply):",null,null,null,null,null,null,null,null,null,null,null,null,null,null,null,null,null,null,null,null,null,null,null,null,null,null,null,null,null,null,null,null,null,null,null,null,null,null,null,null,null,"1-2 x/week",3,null,null,null,17,16,20,20]
[null,null,null,null,null,null,null,null,null,null,null,null,null,null,null,null,null,null,null,null,null,null,null,null,null,null,null,null,null,null,null,null,null,null,null,null,null,null,null,null,null,null,null,null,"3-4 x/week",4,null,null,12,31,35,33,33]
[null,null,"Number of siblings (client included): ",null,null,null,null,null,null,null,null,null,null,null,null,3,null,null,null,null,"Client's place in birth order: ",null,null,null,null,null,null,null,null,null,2,null,null,null,null,null,null,null,null,null,null,null,null,null,">3-4 x/week",5,null,null,null,32,36,34,34]
[null,null,null,null,null,null,null,null,null,null,null,null,null,null,null,null,null,null,null,null,null,null,null,null,null,null,null,null,null,null,null,null,null,null,null,null,null,null,null,null,null,null,null,null,null,">5",null,null,16,16,20,18,9]
[null,null,"Is there a history of (check all that apply): ",null,null,null,null,null,null,null,null,null,null,null,null,null,null,null,null,null,null,null,null,null,null,null,null,null,null,null,null,null,null,null,null,null,null,null,null,null,null,null,null,null,null,null,null,null,null,17,21,19,10]
[null,null,null,null,null,null,null,null,null,null,null,null,null,null,null,null,null,null,null,null,null,null,null,null,null,null,null,null,null,null,null,null,null,null,null,null,null,null,null,null,null,null,null,null,null,null,null,null,16,27,26,26,27]
[null,null,"Number of years of school completed:  ",null,null,null,null,null,null,null,null,null,null,null,null,12,null,null,null,null,null,"Occupation:",null,null,null,null,"homemaker",null,null,null,null,null,null,null,null,null,null,null,null,null,null,null,null,null,null,null,null,null,null,37,36,36,36]
[null,null,null,null,null,null,null,null,null,null,null,null,null,null,null,null,null,null,null,null,null,null,null,null,null,null,null,null,null,null,null,null,null,null,null,null,null,null,null,null,null,null,null,null,null,null,null,null,null,21,21,22,22]
[null,"Physical Information",null,null,null,null,null,null,null,null,null,null,null,null,null,null,null,null,null,null,null,null,null,null,null,null,null,null,null,null,null,null,null,null,null,null,null,null,null,null,null,null,null,null,null,null,null,null,null,11,10,8,8]
[null,null,null,null,null,null,null,null,null,null,null,null,null,null,null,null,null,null,null,null,null,null,null,null,null,null,null,null,null,null,null,null,null,null,null,null,null,null,null,null,null,null,null,null,null,null,null,null,null,228,120,303,303]
[null,null,"Is the trainee: ",null,null,null,null,null,null,null,null,null,null,null,null,null,null,null,null,null,null,null,null,null,null,null,null,null,null,null,null,null,null,null,null,null,null,null,null,null,null,null,null,null,null,null,null,null,null,312,204,388,388]
[null,null,null,null,null,null,null,null,null,null,null,null,null,null,null,null,null,null,null,null,null,null,null,null,null,null,null,null,null,null,null,null,null,null,null,null,null,null,null,null,null,null,null,null,null,null,null,null,null,400,291,475,475]
[null,null,"How many of these medications are you taking?",null,null,null,null,null,null,null,null,null,null,null,null,null,null,null,null,"Check appropriate boxes below:",null,null,null,null,null,null,null,null,null,null,null,null,null,null,null,null,null,null,null,null,null,null,null,null,null,null,null,null,null,25,24,25,25]
[null,null,null,null,null,null,"Antidepressants",null,null,null,null,null,null,null,null,null,null,null,null,null,null,null,null,null,null,null,null,null,null,"Frequency",null,null,null,null,null,null,null,null,null,null,null,null,null,null,null,null,null,null,null,11,10,10,10]
[null,null,null,null,null,null,"Anti-anxiety",null,null,null,null,null,null,null,null,null,null,null,null,null,null,null,null,null,null,null,null,null,null,"Frequency"]
[null,null,null,null,null,null,"Anticonvulsants"]
[null,null,null,null,null,null,"Antipsychotics"]
[null,null,null,null,null,null,"Stimulants"]
[null,null,null,null,null,null,"Mood stabilizers"]
[]
[null,null,"List of medications being taken:",null,null,null,null,null,null,null,null,null,null,"Sertraline"]
[]
[]
[]
[null,"Problem Areas"]
[null,null,"STRESS",null,null,null,null,null,null,null,null,null,null,null,null,null,null,null,null,null,"ANXIETY"]
[]
[]
[]
[]
[]
[]
[null,null,"DEPRESSION",null,null,null,null,null,null,null,null,null,null,null,null,null,null,null,null,null,"ANGER"]
[]
[]
[]
[]
[]
[null,null,"SLEEP DISTURBANCE",null,null,null,null,null,null,null,null,null,null,null,null,null,null,null,null,null,"PHYSICAL DISTURBANCE"]
[]
[]
[]
[]
[]
[]
[]
[]
[]
[null,null,"ATTENTION",null,null,null,null,null,null,null,null,null,null,null,null,null,null,null,null,null,"LEARNING"]
[]
[]
[]
[]
[]
[]
[null,null,"CONTROL",null,null,null,null,null,null,null,null,null,null,null,null,null,null,null,null,null,"MEMORY"]

{"sheet":"Analyze","index":1,"n_rows":72,"n_cols":23,"rows_kept":72,"cut":false,"hidden":false,"merged":[]}
[null,null,null,"Name:","Example adult",null,null,"Age:","46"]
[null,null,null,"Trainer:","sample",null,null,"Date:","8/17/2015"]
["Histogram"]
[null,"Overall EEG Shape",null,"F7","F3","Fp1","Fz","Fp2","F4","F8","T3","C3","Cz","C4","T4","T5","P3","Pz","P4","T6","O1","Oz","O2"]
[null,null,"Slow Percent EC",0.23,0.35,0.31,0.33,0.35,0.37,0.41,0.26,0.34,0.3,0.33,0.31,0.28000000000000003,0.3,0.28000000000000003,0.3,0.28000000000000003,0.22,0.22,0.23]
[null,null,"Slow Percent EO",0.22,0.35,"-",0.38,"-",0.37,0.44,0.25,0.33,0.33,0.32,0.28999999999999998,0.32,0.33,0.31,0.33,0.28000000000000003,0.34,0.28000000000000003,0.33]
[null,null,"Mid Percent EC",0.28999999999999998,0.39,0.35,0.43,0.35,0.39,0.37,0.33,0.42,0.44,0.43,0.37,0.48,0.47,0.47,0.46,0.41,0.57999999999999996,0.53,0.56999999999999995]
[null,null,"Mid Percent EO",0.2,0.36,"-",0.35,"-",0.37,0.31,0.3,0.4,0.38,0.42,0.38,0.38,0.4,0.4,0.39,0.34,0.4,0.39,0.4]
[null,null,"Fast Percent EC",0.48,0.26,0.34,0.24,0.3,0.24,0.23,0.41,0.25,0.25,0.24,0.32,0.24,0.23,0.25,0.24,0.31,0.19,0.25,0.2]
[null,null,"Fast Percent EO",0.59,0.28999999999999998,"-",0.27,"-",0.27,0.24,0.44,0.27,0.28999999999999998,0.26,0.33,0.3,0.26,0.28999999999999998,0.28000000000000003,0.38,0.27,0.33,0.28000000000000003]
[null,"EEG Speed"]
[null,null,"Alpha Peak Freq",9.8000000000000007,9.5,9.5,9.6,9.5,9.4,9.1999999999999993,10,9.8000000000000007,9.5,9.8000000000000007,9.5,9.5,9.4,9.6,9.4,9.5,9.8000000000000007,10,9.9]
[null,null,"Beta Peak Freq",23.6,18.899999999999999,20,17.399999999999999,21.1,17.899999999999999,17.899999999999999,23.7,17,17,16.7,19.8,17.3,16.899999999999999,16.600000000000001,16.899999999999999,22.7,17.399999999999999,18.899999999999999,17.2]
[null,null,"Overall Peak Freq",8.6,6.7,7.7,8.3000000000000007,6.7,6.2,5.3,8,7.8,9.1,8.1,7.1,9.1,8.9,9.5,8.6,9,9.9,10.1,10]
[null,"Alpha Pattern"]
[null,null,"A/T Ratio EC",1.6,1.5,1.5,1.9,1.4,1.4,1.4,1.7,1.7,2,1.7,1.5,2.5,2.1,2.2000000000000002,2,2,3.8,3.5,3.5]
[null,null,"A/T Ratio EO",1.1000000000000001,1.2,"-",1.1000000000000001,"-",1.3,1,1.5,1.6,1.4,1.6,1.7,1.4,1.5,1.5,1.5,1.5,1.3,1.6,1.3]
[null,null,"Alpha EC/EO",1.7,1.4,"-",1.6,"-",1.4,1.6,1.2,1.2,1.5,1.1000000000000001,1,2.1,1.7,1.7,1.7,1.7,3.4,2.4,3]
[null,null,"Alpha EO/TSK",0.6,1.8,"-",1.2,"-",1.8,0.7,1.7,1.7,1.2,1.6,1.3,0.6,1.7,1.2,1.6,0.7,1.3,1.2,1.3]
[]
["Heads"]
[null,"Temporal Lobe"]
[null,null,"Disconnect"]
[null,null,null,"Disconnect",null,null,null,"No"]
[null,null,null,"Absolute R/L ratio",null,null,null,1.05]
[null,null,null,"Relative R/L ratio",null,null,null,0.8]
[null,null,"Hot Temporals",null,null,null,null,"T3","T4",null,"T3%L","T4%R"]
[null,null,null,"Beta Percent",null,null,null,0.183,0.14699999999999999,null,1.3440000000000001,1.093]
[null,null,null,"High Beta Percent",null,null,null,0.14699999999999999,0.11799999999999999,null,1.95,1.6]
[]
[null,"Reversal",null,"EC","EO","EC","EO","EC","EO","EC","EO","EC","EO","EC","EO","EC","EO"]
[null,null,"Left/Right Beta","F7/F8","F7/F8","F3/F4","F3/F4","C3/C4","C3/C4","T3/T4","T3/T4","T5/T6","T5/T6","P3/P4","P3/P4","O1/O2","O1/O2"]
[null,null,"irritable anxious angry",2.06,2.27,1.08,1.1000000000000001,1.01,1.03,1.25,1.32,0.82,0.85,0.97,0.97,0.97,0.98]
[null,null,"Right/Left Alpha","F8/F7","F8/F7","F4/F3","F4/F3","C4/C3","C4/C3","T4/T3","T4/T3","T6/T5","T6/T5","P4/P3","P4/P3","O1/O2","O1/O2"]
[null,null,"depressed negative",1.25,1.59,0.98,1.01,1,1.04,0.91,1.1000000000000001,0.87,0.84,0.96,1,0.91,0.99]
[null,null,null,"EC","EO","EC","EO","EC","EO","EC","EO","EC","EO","EC","EO"]
[null,null,"Front/Back Beta","F3/P3","F3/P3","F4/P4","F4/P4","F3/O1","F3/O1","F4/O2","F4/O2","Fz/Pz","Fz/Pz","Cz/Oz","Cz/Oz"]
[null,null,"perfectionism insomnia",1.08,1.08,0.97,0.95,1.27,1.0900000000000001,1.1399999999999999,0.97,0.94,0.91,1.04,0.9]
[null,null,"Back/Front Alpha","P3/F3","P3/F3","P4/F4","P4/F4","O1/F3","O1/F3","O2/F4","O2/F4","Pz/Fz","Pz/Fz","Oz/Cz","Oz/Cz"]
[null,null,"unmotivated foggy",1.03,0.97,1.01,0.96,1.39,1,1.56,1,0.93,1.1200000000000001,1.26,1.04]
[]
[null,"Blocking",null,"Left & Right vs Midline",null,null,null,null,null,null,"Eyes Closed",null,null,null,null,"Eyes Open"]
[null,null,"Fz vs F3 or F4","EC","EO",null,"Swingle Ratio",null,0.35,0.33,0.37,null,null,0.35,0.38,0.37]
[null,null,"Slow Pct",-8.5000000000000006E-2,6.8000000000000005E-2,null,0.66,null,0.39,0.43,0.39,null,null,0.36,0.35,0.37]
[null,null,"Mid Pct",0.154,-7.5999999999999998E-2,null,null,null,0.26,0.24,0.24,null,null,0.28999999999999998,0.27,0.27]
[null,null,"Fast Pct",-3.4000000000000002E-2,0.01,null,null,null,"F3","Fz","F4",null,null,"F3","Fz","F4"]
[null,null,"Cz vs C3 or C4","EC","EO",null,"Swingle Ratio",null,0.34,0.3,0.33,null,null,0.33,0.33,0.32]
[null,null,"Slow Pct",-8.8999999999999996E-2,1.4999999999999999E-2,null,0.59,null,0.42,0.44,0.43,null,null,0.4,0.38,0.42]
[null,null,"Mid Pct",7.4999999999999997E-2,-9.1999999999999998E-2,null,null,null,0.25,0.25,0.24,null,null,0.27,0.28999999999999998,0.26]
[null,null,"Fast Pct",2.5999999999999999E-2,7.2999999999999995E-2,null,null,null,"C3","Cz","C4",null,null,"C3","Cz","C4"]
[]
[]
["Report"]
[null,"Coherence/Phase %",null,"COH","PH%","COH","PH%","COH","PH%","COH","PH%","COH","PH%","COH","PH%","COH","PH%","COH","PH%","COH","PH%","COH","PH%"]
[null,null,"High Synchrony","Fp1Fp2","Fp1Fp2","F7-F8","F7-F8","F3-F4","F3-F4","C3-C4","C3-C4","T3-T4","T3-T4","T5-T6","T5-T6","P3-P4","P3-P4","O1-O2","O1-O2","Fz-Pz","Fz-Pz","Cz-Oz","Cz-Oz"]
[null,null,"SMR",null,null,null,null,null,null,78.099999999999994,70.900000000000006]
[null,null,"Alpha ",92.1,87.4,37,37.200000000000003,90.1,87.9,88.5,81.2,24.9,31.4,50.4,40.299999999999997,82.1,74.900000000000006,86.2,72.2,49,35,22.7,25.5]
[null,null,"Theta",82,77.8,23.1,41.9,88.4,81.2,83.5,76.900000000000006,19.3,28.8,48.7,41.6,83.6,74.400000000000006,89.6,82.3,64.7,56.1,50.7,48.3]
[null,null,"Gamma",24.1,30.2,6.2,23,29.4,34.1,36.200000000000003,39.5,9,18.899999999999999,17.100000000000001,26.8,54,54.7,46.6,44.2,74.3,63.5,50.1,48.5]
[]
[null,null,"Low Synchrony","Fp1Fp2","Fp1Fp2","F7-F8","F7-F8","F3-F4","F3-F4","C3-C4","C3-C4","T3-T4","T3-T4","T5-T6","T5-T6","P3-P4","P3-P4","O1-O2","O1-O2","Fz-Pz","Fz-Pz","Cz-Oz","Cz-Oz"]
[null,null,"Low Beta",64.400000000000006,58.9,18,31.6,74.3,67.900000000000006,null,null,11,25,29.5,28.4,74.7,68,83.8,72.900000000000006,54.6,49.6,24.9,33.1]
[null,null,"Beta",40.1,40.9,11.8,26.8,45,43.1,65.3,57.6,10.199999999999999,21.3,26.9,31,68.099999999999994,60.7,80.3,72.5,62,53.5,45.8,45.6]
[null,null,"High Beta",31.1,36.9,12.3,24.1,28.9,33.700000000000003,42.8,40.799999999999997,12.7,21.4,18.899999999999999,27.9,61.3,55,63,54.7,72.599999999999994,61.2,52,43.9]
[null,"Filtering/Processing"]
[null,null,"Theta/Beta","F7","F3","Fp1","Fz","Fp2","F4","F8","T3","C3","Cz","C4","T4","T5","P3","Pz","P4","T6","O1","Oz","O2"]
[null,null,"T/B ratio EC",0.47,1.88,1.1200000000000001,1.38,1.66,1.84,2.87,0.63,1.33,0.95,1.19,1.1100000000000001,1.1299999999999999,1.06,0.66,1.04,1.1499999999999999,0.93,0.67,0.9]
[null,null,"T/B ratio EO",0.3,1.69,"-",1.77,"-",1.89,2.9,0.65,1.32,1.1000000000000001,1.23,0.98,1.1100000000000001,1.08,0.86,1.1200000000000001,0.85,1.36,0.9,1.38]
[null,null,"T/B ratio TSK",0.2,2.04,"-",1.57,"-",2.0099999999999998,2.62,0.55000000000000004,1.32,1.05,1.1299999999999999,0.73,1.22,1.24,0.87,1.1499999999999999,1.46,1.43,0.76,1.61]
[null,null,"T/B ratio Activation",0.35,-0.21,"-",0.11,"-",-7.0000000000000007E-2,0.1,0.15,0,0.05,0.09,0.25,-0.1,-0.15,-0.01,-0.03,-0.72,-0.05,0.15,-0.16]
[null,null,"SMR% EO",null,null,null,null,null,null,null,null,9.9000000000000005E-2,0.107,0.106]
[null,null,"Alpha PF (EC 10 Hz)",9.7899999999999991,9.4600000000000009,9.5399999999999991,9.61,9.49,9.3800000000000008,9.1999999999999993,10.029999999999999,9.81,9.4700000000000006,9.75,9.5399999999999991,9.4700000000000006,9.3800000000000008,9.6,9.4,9.4700000000000006,9.85,10.050000000000001,9.92]

{"sheet":"Synchrony","index":2,"n_rows":35,"n_cols":18,"rows_kept":35,"cut":false,"hidden":false,"merged":[[17,1,19,1],[32,2,34,2],[3,4,3,5],[3,8,3,9],[3,10,3,11],[20,1,22,1],[23,1,25,1],[26,1,28,1],[29,1,31,1],[26,2,28,2],[29,2,31,2],[32,1,34,1],[20,2,22,2],[23,2,25,2],[14,2,16,2],[17,2,19,2],[3,14,3,15],[3,16,3,17],[5,1,7,1],[11,1,13,1],[14,1,16,1],[3,6,3,7],[5,2,7,2],[11,2,13,2],[3,12,3,13],[8,1,10,1],[8,2,10,2]]}
[null,null,"Name:","Example adult",null,null,null,"Age:","46"]
[null,null,"Trainer:","sample",null,null,null,"Date:","8/17/2015"]
[]
[null,null,null,null,"Delta",null,"Theta",null,"Alpha",null,"Low Beta",null,"Beta",null,"High Beta",null,"Gamma"]
[null,"Position","Site","CND","COH","Phase %","COH","Phase %","COH","Phase %","COH","Phase %","COH","Phase %","COH","Phase %","COH","Phase %"]
[null,"Frontal","Fp1-Fp2","EC",86,78.8,82,77.8,92,87.4,64,58.9,40,40.9,31,36.9,24,30.2]
[null,null,null,"EO","-","-","-","-","-","-","-","-","-","-","-","-","-","-"]
[null,null,null,"TSK","-","-","-","-","-","-","-","-","-","-","-","-","-","-"]
[null,"Frontal","F3-F4","EC",92,80.599999999999994,88,81.2,90,87.9,74,67.900000000000006,45,43.1,29,33.700000000000003,29,34.1]
[null,null,null,"EO",73,76.8,84,77.5,88,84.6,76,66.400000000000006,49,43.5,28,33.6,24,33.5]
[null,null,null,"TSK",90,74.599999999999994,87,76.7,80,81.400000000000006,66,65.8,39,44.1,36,33.200000000000003,29,32.5]
[null,"Frontal","F7-F8","EC",33,49.7,23,41.9,37,37.200000000000003,18,31.6,12,26.8,12,24.1,6,23]
[null,null,null,"EO",63,45.9,46,39.299999999999997,28,36.5,23,31.2,14,25.7,12,23,11,22.3]
[null,null,null,"TSK",19,42,17,35.700000000000003,34,36.1,12,29.5,12,24.5,9,22,9,20.8]
[null,"Central","C3-C4","EC",89,88.9,84,76.900000000000006,89,81.2,78,70.900000000000006,65,57.6,43,40.799999999999997,36,39.5]
[null,null,null,"EO",86,82.5,83,75.2,88,82.8,80,71.3,64,56.6,45,41.8,37,38]
[null,null,null,"TSK",83,80.400000000000006,77,73.099999999999994,80,80,78,70.5,60,56.1,42,41.8,41,39.200000000000003]
[null,"Midline","Fz-Pz","EC",64,61.8,65,56.1,49,35,55,49.6,62,53.5,73,61.2,74,63.5]
[null,null,null,"EO",59,62,63,60.6,78,48.8,67,54.2,65,55.1,68,62.3,74,64]
[null,null,null,"TSK",52,59.6,58,59.3,78,56.8,70,58.1,65,56.8,70,61.8,71,64.8]
[null,"Midline","Cz-Oz","EC",68,57.9,51,48.3,23,25.5,25,33.1,46,45.6,52,43.9,50,48.5]
[null,null,null,"EO",61,57.6,56,50.6,63,32.799999999999997,44,33.6,48,44.5,50,45.9,45,46.4]
[null,null,null,"TSK",48,53.6,52,50.7,66,42.7,43,37.799999999999997,47,44.9,50,46.3,43,45.9]
[null,"Temporal","T3-T4","EC",33,41.9,19,28.8,25,31.4,11,25,10,21.3,13,21.4,9,18.899999999999999]
[null,null,null,"EO",26,34.5,22,28.9,23,31.6,12,25.1,13,21.3,13,20.3,10,17.600000000000001]
[null,null,null,"TSK",40,35.6,26,29.7,17,29.4,11,24,14,21.4,14,20.9,10,18.399999999999999]
[null,"Temporal","T5-T6","EC",50,43.9,49,41.6,50,40.299999999999997,29,28.4,27,31,19,27.9,17,26.8]
[null,null,null,"EO",47,47.8,47,42.6,53,43.9,29,30.1,29,31.5,20,27.3,17,26.9]
[null,null,null,"TSK",62,48.7,56,44.1,52,45.2,31,32.1,30,32.4,17,26.9,14,26.5]
[null,"Parietal","P3-P4","EC",87,78.099999999999994,84,74.400000000000006,82,74.900000000000006,75,68,68,60.7,61,55,54,54.7]
[null,null,null,"EO",72,72.7,85,75.2,86,75.2,75,67,68,59.9,57,53,55,51.1]
[null,null,null,"TSK",84,71.7,80,75,84,76.099999999999994,71,66.099999999999994,64,58.8,67,53.8,63,50.8]
[null,"Occipital","O1-O2","EC",92,79.900000000000006,90,82.3,86,72.2,84,72.900000000000006,80,72.5,63,54.7,47,44.2]
[null,null,null,"EO",84,80.099999999999994,90,82.2,90,78.2,84,75.400000000000006,78,72,67,55.6,57,46]
[null,null,null,"TSK",88,77.900000000000006,89,82.1,89,79.7,83,75.3,80,71.8,76,57.9,70,50.6]

{"sheet":"Maps","index":3,"n_rows":2,"n_cols":7,"rows_kept":2,"cut":false,"hidden":false,"merged":[]}
[null,"Name:","Example adult",null,null,"Age:","46"]
[null,"Trainer:","sample",null,null,"Date:","8/17/2015"]

{"sheet":"Histograms","index":4,"n_rows":2,"n_cols":7,"rows_kept":2,"cut":false,"hidden":false,"merged":[]}
[null,"Name:","Example adult",null,null,"Age:","46"]
[null,"Trainer:","sample",null,null,"Date:","8/17/2015"]

{"sheet":"Symmetry","index":5,"n_rows":2,"n_cols":7,"rows_kept":2,"cut":false,"hidden":false,"merged":[]}
[null,"Name:","Example adult",null,null,"Age:","46"]
[null,"Trainer:","sample",null,null,"Date:","8/17/2015"]

{"sheet":"Variance","index":6,"n_rows":8,"n_cols":24,"rows_kept":8,"cut":false,"hidden":false,"merged":[]}
[null,"Name:","Example adult",null,null,"Age:","46"]
[null,"Trainer:","sample",null,null,"Date:","8/17/2015"]
[]
[]
[]
[]
[]
[null,null,null,null,null,"     Head Amplitudes - Eyes Closed",null,null,null,null,null,null,null,null,null,null,null,null,null,null,null,null,null,"     Head Percentages - Eyes Closed"]

{"sheet":"Heads","index":7,"n_rows":47,"n_cols":34,"rows_kept":47,"cut":false,"hidden":false,"merged":[]}
[null,null,null,null,"Name:","Example adult",null,null,null,null,"Age:","46"]
[null,null,null,null,"Trainer:","sample",null,null,null,null,"Date:","8/17/2015"]
[]
[null,null,null,null,null,null,null,null,null,null,null,null,null,null,null,null,"Frequencies"]
[null,null,null,null,null,null,null,null,null,null,null,null,null,null,null,"Delta (δ)",null,null,"2-4 Hz"]
[null,null,null,null,null,null,null,null,null,null,null,null,null,null,null,"Theta (θ)",null,null,"4-8 Hz"]
[null,null,null,null,null,null,null,null,null,null,null,null,null,null,null,"Alpha (α)",null,null,"8-12 Hz"]
[null,null,null,null,null,"     Head Amplitudes - Eyes Closed",null,null,null,null,null,null,null,null,null,"Low Beta (Loβ)",null,null,"12-15 Hz",null,null,null,null,"     Head Percentages - Eyes Closed"]
[null,null,null,null,null,null,null,null,null,null,null,null,null,null,null,"Beta (β)",null,null,"15-23 Hz"]
[null,null,null,null,null,null,"Fp1",null,null,null,"Fp2",null,null,null,null,"High Beta (Hiβ) ",null,null,"23-38 Hz",null,null,null,null,null,"Fp1%",null,null,null,"Fp2%"]
[null,null,null,null,null,null,10.447979411764706,null,null,null,10.447979411764706,null,null,null,null,"Gamma (γ)",null,null,"38-42 Hz",null,null,null,null,null,12.792170181946824,null,null,null,15.291275604215802]
[null,null,null,null,null,null,10.460349999999996,null,null,null,10.460349999999996,null,null,null,null,null,null,null,null,null,null,null,null,null,17.902109052860713,null,null,null,19.683468228721935]
[null,null,null,"F7",null,"F3",15.64051764705882,null,"Fz",null,15.64051764705882,"F4",null,"F8",null,null,null,null,null,null,null,"F7 %",null,"F3 %",27.549173494077944,null,"Fz %",null,28.158927222538804,"F4 %",null,"F8 %"]
[null,null,null,8.7446512820512812,null,11.21224358974359,6.1700235294117647,null,10.079825454545453,null,6.1700235294117647,13.627592307692307,null,15.714579487179485,null,null,null,null,null,null,null,9.8956552930062678,null,15.399815523749389,7.554378497910939,null,13.487032373330635,null,6.8955958661766497,16.545247418451762,null,18.574102023141258]
[null,null,null,8.6397205128205119,null,10.725971794871795,9.9002647058823534,null,9.659365454545453,null,9.9002647058823534,12.431307692307694,null,13.604528205128204,null,null,null,null,null,null,null,13.433175048183237,null,19.550862206890557,16.470117213776643,null,19.280032034689327,null,14.194435741503444,20.147893457139066,null,22.021448928740071]
[null,null,null,13.865843589743585,null,15.592415384615391,9.6732058823529421,null,17.931259999999995,null,9.6732058823529421,17.691810256410253,null,18.429669230769228,null,null,null,null,null,null,null,21.260576076005194,null,29.909769623739518,11.843562374628332,null,34.541561895457143,null,10.343632977580095,29.929973877568507,null,29.28808932342951]
[null,null,null,6.5450589743589749,null,6.6827384615384631,4.8094117647058798,null,6.3854509090909088,null,4.8094117647058798,7.7988051282051272,null,6.4342025641025655,null,null,null,null,null,null,null,7.4065443427791724,null,9.1786214487256448,5.8884891847985914,null,8.5438764309541515,null,5.4326643592632635,9.4685222085495955,null,7.6050100456520813]
[null,null,null,12.576574358974359,null,7.8256615384615387,null,null,8.2324618181818181,null,null,9.1684282051282082,null,8.0319410256410269,null,null,null,null,null,null,null,21.10782427600525,null,13.352327064256384,null,null,13.720668115947671,null,null,12.507107149287863,null,11.705405407289341]
[null,null,null,15.818792307692307,null,6.3236051282051262,null,null,5.4288327272727273,null,null,6.5545333333333327,null,6.1269820512820514,null,null,null,null,null,null,null,17.900921463830215,null,8.6853582550128614,null,null,7.263899863375749,null,null,7.9578529547934238,null,7.2418857792098628]
[null,null,null,7.9490230769230763,null,2.8564230769230763,null,null,2.3638836363636364,null,null,2.836179487179487,null,3.0153641025641025,null,null,null,null,null,null,null,8.9953035001906798,null,3.923245877625634,null,null,3.1629292862453244,null,null,3.4434029342097752,null,3.564058492537868]
[]
[null,"T3",null,null,null,"C3",null,null,"Cz",null,null,"C4",null,null,null,"T4",null,null,null,"T3 %",null,null,null,"C3 %",null,null,"Cz %",null,null,"C4 %",null,null,null,"T4 %"]
[null,6.7488237288135595,null,null,null,9.9186175438596482,null,null,9.4578481481481482,null,null,10.221259649122809,null,null,null,10.282533898305081,null,null,null,11.192338378357473,null,null,null,14.592448485883111,null,null,12.227777337643001,null,null,14.222781617517407,null,null,null,13.076894474804371]
[null,6.1978661016949141,null,null,null,9.172517543859648,null,null,9.5235425925925945,null,null,9.7931298245614027,null,null,null,10.210830508474574,null,null,null,14.740980031130945,null,null,null,18.973493013998848,null,null,18.190728108779481,null,null,18.997633514756789,null,null,null,17.671486593461548]
[null,10.515816949152546,null,null,null,15.535003508771934,null,null,18.670081481481482,null,null,16.630538596491231,null,null,null,15.093369491525429,null,null,null,24.164935545630314,null,null,null,31.835321976958721,null,null,34.466410242468612,null,null,32.269773507644572,null,null,null,27.132374377525672]
[null,5.2730983050847433,null,null,null,6.6925684210526342,null,null,7.6129203703703716,null,null,7.5042122807017568,null,null,null,7.8444966101694904,null,null,null,8.7449758512550613,null,null,null,9.8462270059921746,null,null,9.842523766499939,null,null,10.44203710147144,null,null,null,9.9763011134887716]
[null,7.8212305084745797,null,null,null,7.9533350877192994,null,null,9.7703388888888867,null,null,8.959722807017549,null,null,null,9.6965728813559338,null,null,null,18.340939734500978,null,null,null,13.516381586349308,null,null,14.680557080863979,null,null,13.920950326220202,null,null,null,14.680639478708562]
[null,8.8707169491525395,null,null,null,5.1616561403508765,null,null,5.7366888888888905,null,null,4.9673210526315783,null,null,null,9.289983050847459,null,null,null,14.711314110881391,null,null,null,7.5939213299480182,null,null,7.416798545491428,null,null,6.9119780712877947,null,null,null,11.814610020267299]
[null,4.8869101694915251,null,null,null,2.4756403508771925,null,null,2.4559333333333333,null,null,2.3247350877192985,null,null,null,4.4408559322033918,null,null,null,8.1045163482438358,null,null,null,3.6422066008698413,null,null,3.1752049182535642,null,null,3.2348458611018005,null,null,null,5.6476939417437881]
[]
[null,null,"T5",null,null,"P3",null,null,"Pz",null,null,"P4",null,null,"T6",null,null,null,null,null,"T5 %",null,null,"P3 %",null,null,"Pz %",null,null,"P4 %",null,null,"T6 %"]
[null,null,6.7671542372881355,null,null,9.2123862068965519,null,null,9.2657563636363651,null,null,9.5064568965517271,null,null,9.5568999999999988,null,null,null,null,null,10.710117622632493,null,null,11.890786449094385,null,null,10.924209229091279,null,null,11.470374940918807,null,null,11.171894265380471]
[null,null,7.7685983050847467,null,null,10.044912068965516,null,null,9.6237218181818154,null,null,10.721372413793103,null,null,10.158588135593218,null,null,null,null,null,17.12346627649131,null,null,18.201915028998307,null,null,16.820108293200427,null,null,18.310279878442525,null,null,16.745260915775106]
[null,null,19.050638983050845,null,null,20.963282758620693,null,null,21.522672727272731,null,null,21.907629310344827,null,null,20.654655932203386,null,null,null,null,null,40.070251413900579,null,null,36.472461767870371,null,null,36.088628120712443,null,null,35.160817350899023,null,null,32.477978756846646]
[null,null,5.2906220338983054,null,null,7.9314793103448293,null,null,9.1942490909090893,null,null,8.7727327586206929,null,null,7.2928694915254244,null,null,null,null,null,8.3732662642323881,null,null,10.237469922192096,null,null,10.839903061519236,null,null,10.585072345340411,null,null,8.525271463606515]
[null,null,7.2974830508474584,null,null,9.7748362068965502,null,null,11.812358181818182,null,null,10.515744827586207,null,null,9.4656237288135578,null,null,null,null,null,14.136073788529268,null,null,14.080084584176106,null,null,15.180096207508631,null,null,13.863708418487919,null,null,13.537918518735436]
[null,null,4.0749423728813561,null,null,4.9480982758620673,null,null,5.991976363636363,null,null,6.0770431034482746,null,null,9.7837406779661045,null,null,null,null,null,6.4492563031189301,null,null,6.3867035756014792,null,null,7.0644641325799089,null,null,7.3324860867944359,null,null,11.437068126080547]
[null,null,1.9824627118644065,null,null,2.1155156896551728,null,null,2.6146090909090907,null,null,2.7161396551724133,null,null,5.2221338983050831,null,null,null,null,null,3.1375683310950282,null,null,2.730578672067256,null,null,3.0825909553880844,null,null,3.277260979116877,null,null,6.1046079535752735]
[]
[null,null,null,null,null,null,"O1",null,"Oz",null,"O2",null,null,null,null,null,null,null,null,null,null,null,null,null,"O1 %",null,"Oz %",null,"O2 %"]
[null,null,null,null,null,null,8.2381862068965539,null,9.2881481481481512,null,8.6589224137931033,null,null,null,null,null,null,null,null,null,null,null,null,null,8.0841480620843349,null,9.200845246482805,null,8.4284721456170395]
[null,null,null,null,null,null,10.199603448275862,null,8.9002444444444446,null,10.302277586206895,null,null,null,null,null,null,null,null,null,null,null,null,null,14.27683664530632,null,13.04219446799822,null,14.338462925471756]
[null,null,null,null,null,null,38.389293103448281,null,30.925259259259249,null,36.419120689655195,null,null,null,null,null,null,null,null,null,null,null,null,null,50.864049888578243,null,44.588654287962413,null,48.837370375429359]
[null,null,null,null,null,null,7.5792810344827561,null,8.0318000000000005,null,8.234398275862068,null,null,null,null,null,null,null,null,null,null,null,null,null,7.4375631417037864,null,7.9563060011520674,null,8.0152463767853241]
[null,null,null,null,null,null,10.60093275862069,null,10.905840740740738,null,10.855710344827591,null,null,null,null,null,null,0,null,null,null,null,null,null,12.73220649191461,null,13.42767752420583,null,12.754113062688111]
[null,null,null,null,null,null,4.7269327586206895,null,7.987099999999999,null,5.3852327586206901,null,null,null,null,null,null,null,null,null,null,null,null,null,4.6385482605644937,null,7.9120261537639971,null,5.24190911231595]
[null,null,null,null,null,null,2.0041206896551715,null,3.909038888888889,null,2.4496206896551733,null,null,null,null,null,null,null,null,null,null,null,null,null,1.9666475098482099,null,3.8722963184346573,null,2.3844260016924501]

{"sheet":"Report","index":8,"n_rows":65,"n_cols":13,"rows_kept":65,"cut":false,"hidden":false,"merged":[[59,1,64,1],[59,2,61,2],[62,2,64,2],[41,1,46,1],[41,2,43,2],[44,2,46,2],[47,1,52,1],[47,2,49,2],[50,2,52,2],[53,1,58,1],[53,2,55,2],[56,2,58,2],[17,1,22,1],[17,2,19,2],[20,2,22,2],[23,1,28,1],[23,2,25,2],[26,2,28,2],[35,1,40,1],[35,2,37,2],[29,1,34,1],[29,2,31,2],[32,2,34,2],[38,2,40,2],[14,2,16,2],[5,1,10,1],[5,2,7,2],[8,2,10,2],[3,10,3,12],[3,6,3,7],[11,1,16,1],[11,2,13,2]]}
[null,null,"Name:","Example adult",null,null,"Age:","46"]
[null,null,"Trainer:","sample",null,null,"Date:","8/17/2015"]
[]
[null,null,null,null,null,null,"RATIOS",null,null,null,"Peak Frequency"]
[null,"Position","Site","CND"]
[null,"Frontal","Fp1","EC",0.9,"-",1.5,0.69,0.62,1.57,9.5399999999999991,19.97,7.74]
[null,null,null,"EO","-","-","-","-","-","-","-","-","-"]
[null,null,null,"TSK","-","-","-","-","-","-","-","-","-"]
[null,null,"Fp2","EC",0.6,"-",1.41,0.65,0.53,1.5,9.49,21.14,6.65]
[null,null,null,"EO","-","-","-","-","-","-","-","-","-"]
[null,null,null,"TSK","-","-","-","-","-","-","-","-","-"]
[null,"Frontal","F3","EC",0.53,"-",1.45,0.68,0.41,0.95,9.4600000000000009,18.86,6.66]
[null,null,null,"EO",0.59,"-",1.24,0.77,0.56000000000000005,1.1200000000000001,9.5,19.850000000000001,6.86]
[null,null,null,"TSK",0.49,"-",0.69,0.99,1.06,1.44,9.93,22.1,3.52]
[null,null,"F4","EC",0.54,"-",1.42,0.66,0.37,0.84,9.3800000000000008,17.87,6.2]
[null,null,null,"EO",0.53,"-",1.27,0.75,0.46,0.96,9.59,18.07,6.67]
[null,null,null,"TSK",0.5,"-",0.79,0.87,0.92,1.43,9.5299999999999994,21.32,3.68]
[null,"Frontal","F7","EC",2.12,"-",1.6,0.69,1.1399999999999999,2.42,9.7899999999999991,23.62,8.6199999999999992]
[null,null,null,"EO",3.35,"-",1.08,0.89,2.64,3.18,9.9499999999999993,26.45,23.53]
[null,null,null,"TSK",5.13,"-",1.59,0.81,1.75,2.98,9.94,24.28,18.600000000000001]
[null,null,"F8","EC",0.35,"-",1.35,0.59,0.33,0.95,9.1999999999999993,17.91,5.28]
[null,null,null,"EO",0.34,"-",0.96,0.68,0.5,1.02,9.1300000000000008,19.21,4.5999999999999996]
[null,null,null,"TSK",0.38,"-",1.36,0.56999999999999995,0.34,0.91,9.18,17.739999999999998,6.34]
[null,"Central","C3","EC",0.75,"-",1.69,0.7,0.33,0.77,9.81,17.04,7.78]
[null,null,null,"EO",0.76,9.8867738166710281E-2,1.6,0.79,0.4,0.88,9.6300000000000008,17.579999999999998,7.71]
[null,null,null,"TSK",0.76,"-",1.04,1.02,0.7,1.03,10.130000000000001,17.89,5.37]
[null,null,"C4","EC",0.84,"-",1.7,0.68,0.3,0.66,9.75,16.71,8.14]
[null,null,null,"EO",0.81,0.10618165935053846,1.62,0.8,0.36,0.74,9.69,17.190000000000001,8.33]
[null,null,null,"TSK",0.89,"-",1.1399999999999999,1.01,0.56000000000000005,0.8,10.18,16.579999999999998,6.47]
[null,"Midline","Fz","EC",0.73,"-",1.86,0.78,0.3,0.85,9.61,17.45,8.3000000000000007]
[null,null,null,"EO",0.56000000000000005,"-",1.1399999999999999,0.63,0.46,0.86,9.36,17.55,5.86]
[null,null,null,"TSK",0.64,"-",1.07,0.69,0.56999999999999995,0.92,9.3800000000000008,18.38,5.94]
[null,null,"Pz","EC",1.51,"-",2.2400000000000002,0.64,0.28000000000000003,0.65,9.6,16.64,9.52]
[null,null,null,"EO",1.17,"-",1.54,0.64,0.45,0.78,9.4499999999999993,16.84,8.1199999999999992]
[null,null,null,"TSK",1.1499999999999999,"-",1.42,0.69,0.55000000000000004,0.88,9.4499999999999993,17.91,7.96]
[null,"Midline","Cz","EC",1.05,"-",1.96,0.73,0.31,0.75,9.4700000000000006,17.02,9.06]
[null,null,null,"EO",0.91,0.10735715087356147,1.42,0.66,0.44,0.83,9.3800000000000008,17.28,7.28]
[null,null,null,"TSK",0.96,"-",1.32,0.66,0.54,0.87,9.35,17.89,7.13]
[null,null,"Oz","EC",1.5,"-",3.47,0.7,0.26,0.99,10.050000000000001,18.87,10.050000000000001]
[null,null,null,"EO",1.1200000000000001,"-",1.58,0.71,0.64,1.1000000000000001,9.5500000000000007,20.93,8.94]
[null,null,null,"TSK",1.31,"-",1.46,0.74,0.81,1.2,9.9,22.45,9.1999999999999993]
[null,"Temporal","T3","EC",1.59,"-",1.7,0.93,0.84,1.68,10.029999999999999,23.68,7.95]
[null,null,null,"EO",1.53,"-",1.45,1.03,1.1200000000000001,2.15,9.84,23.99,10.08]
[null,null,null,"TSK",1.8,"-",0.94,1.08,1.99,2.36,10.57,25.58,12.5]
[null,null,"T4","EC",0.9,"-",1.48,0.64,0.62,1.18,9.5399999999999991,19.77,7.13]
[null,null,null,"EO",1.02,"-",1.69,0.78,0.57999999999999996,1.25,9.66,20.09,8.68]
[null,null,null,"TSK",1.37,"-",1.37,0.85,0.94,1.54,10.06,22.38,8.86]
[null,"Temporal","T5","EC",0.88,"-",2.4500000000000002,0.51,0.21,0.77,9.4700000000000006,17.32,9.15]
[null,null,null,"EO",0.9,"-",1.37,0.77,0.48,0.88,9.6199999999999992,17.05,7.49]
[null,null,null,"TSK",0.82,"-",1.87,0.6,0.28000000000000003,0.79,9.66,17.59,8.1999999999999993]
[null,null,"T6","EC",0.87,"-",2.0299999999999998,0.56999999999999995,0.47,1.34,9.4700000000000006,22.74,8.9700000000000006]
[null,null,null,"EO",1.18,"-",1.55,0.71,0.83,1.51,9.39,26.71,8.27]
[null,null,null,"TSK",0.69,"-",1.64,0.6,0.53,1.38,9.34,23.46,8.2799999999999994]
[null,"Parietal","P3","EC",0.95,"-",2.09,0.52,0.24,0.62,9.3800000000000008,16.88,8.91]
[null,null,null,"EO",0.92,"-",1.47,0.65,0.37,0.66,9.3699999999999992,16.25,7.91]
[null,null,null,"TSK",0.8,"-",1.1399999999999999,0.76,0.7,1.1499999999999999,9.77,20.329999999999998,5.64]
[null,null,"P4","EC",0.96,"-",2.04,0.51,0.28000000000000003,0.69,9.4,16.88,8.57]
[null,null,null,"EO",0.9,"-",1.49,0.67,0.43,0.8,9.59,17.23,7.93]
[null,null,null,"TSK",0.87,"-",1.21,0.81,0.76,1.24,9.6999999999999993,21.57,6.3]
[null,"Occipital","O1","EC",1.08,"-",3.76,0.5,0.12,0.62,9.85,17.39,9.8800000000000008]
[null,null,null,"EO",0.74,"-",1.26,0.7,0.47,0.75,9.5399999999999991,17.29,7.67]
[null,null,null,"TSK",0.7,"-",1.03,0.78,0.72,1.06,9.86,19.14,7.63]
[null,null,"O2","EC",1.1100000000000001,"-",3.54,0.61,0.15,0.65,9.92,17.22,9.9600000000000009]
[null,null,null,"EO",0.72,"-",1.31,0.72,0.51,0.84,9.65,18.079999999999998,7.86]
[null,null,null,"TSK",0.62,"-",0.99,0.8,0.77,1.1499999999999999,9.86,20.54,7.44]

{"sheet":"Training Plan","index":9,"n_rows":48,"n_cols":34,"rows_kept":48,"cut":false,"hidden":false,"merged":[]}
[null,null,null,null,null,null,null,null,null,"Name:","Example adult",null,null,null,null,null,null,null,null,null,null,null,null,null,null,null,null,"Age:","46"]
[null,null,null,null,null,null,null,null,null,"Trainer:","sample",null,null,null,null,null,null,null,null,null,null,null,null,null,null,null,null,"Date:","8/17/2015"]
[null,null,51]
[]
[]
[]
[null,null,"Whole-Brain Training Plan"]
[]
[null,null,null,"Block 1 Training"]
[]
[null,null,null,null,"Active",null,null,null,null,"Reference",null,null,null,null,"Protocol",null,null,null,null,null,null,null,null,null,null,"State & Duration",null,null,null,null,null,null,null,"Notes"]
[null,null,null,null,"F7 Fpz F8",null,null,null,null,null,null,null,null,null,"nIR HEG (LIFE)",null,null,null,null,null,null,null,null,null,null,"EO",null,null,null,null,null,null,null,"EEG Sites: A1, A2, F7, F8, T3, "]
[null,null,null,null,"F7 F8",null,null,null,null,"L(A1 A2)",null,null,null,null,"BAL2C SUM (2-38) DIFF (15-38) ",null,null,null,null,null,null,null,null,null,null,"EC/EO"]
[null,null,null,null,"F7 F8",null,null,null,null,"L(A1 A2)",null,null,null,null,"BAL2C SUM (19-38) DIFF (2-11)",null,null,null,null,null,null,null,null,null,null,"EO"]
[null,null,null,null,"F7 T3",null,null,null,null,"C(A1)",null,null,null,null,"FRE2C IN (19-38) REW (9-13)",null,null,null,null,null,null,null,null,null,null,"EC/EO"]
[]
[]
[null,null,null,"Block 2 Training"]
[]
[null,null,null,null,"Active",null,null,null,null,"Reference",null,null,null,null,"Protocol",null,null,null,null,null,null,null,null,null,null,"State & Duration",null,null,null,null,null,null,null,"Notes"]
[null,null,null,null,"F7 Fpz F8",null,null,null,null,null,null,null,null,null,"nIR HEG (LIFE)",null,null,null,null,null,null,null,null,null,null,"EO",null,null,null,null,null,null,null,"EEG Sites: A1, A2, P3, P4, O1, O2, F3, F4, "]
[null,null,null,null,"P3 P4 O1 O2",null,null,null,null,"L(A1 A2)",null,null,null,null,"CON4C MBC Down",null,null,null,null,null,null,null,null,null,null,"EC/EO"]
[null,null,null,null,"F3 F4",null,null,null,null,"L(A1 A2)",null,null,null,null,"CON2C Gamma Up",null,null,null,null,null,null,null,null,null,null,"EO"]
[]
[]
[null,null,null,"Block 3 Training"]
[]
[null,null,null,null,"Active",null,null,null,null,"Reference",null,null,null,null,"Protocol",null,null,null,null,null,null,null,null,null,null,"State & Duration",null,null,null,null,null,null,null,"Notes"]
[null,null,null,null,"F7 Fpz F8",null,null,null,null,null,null,null,null,null,"nIR HEG (LIFE)",null,null,null,null,null,null,null,null,null,null,"EO",null,null,null,null,null,null,null,"EEG Sites: A1, A2, C3, C4, "]
[null,null,null,null,"C3 C4",null,null,null,null,"L(A1 A2)",null,null,null,null,"CON2C Gamma Up",null,null,null,null,null,null,null,null,null,null,"EO"]
[null,null,null,null,"C3",null,null,null,null,"C4",null,null,null,null,"SMR%1C Up",null,null,null,null,null,null,null,null,null,null,"EO"]
[null,null,null,null,"C3 C4",null,null,null,null,"L(A1 A2)",null,null,null,null,"BAL2C Alpha Beta (Alpha)",null,null,null,null,null,null,null,null,null,null,"EC/EO"]
[]
[]
[null,null,null,"Block 4 Training"]
[]
[null,null,null,null,"Active",null,null,null,null,"Reference",null,null,null,null,"Protocol",null,null,null,null,null,null,null,null,null,null,"State & Duration",null,null,null,null,null,null,null,"Notes"]
[null,null,null,null,"F7 Fpz F8",null,null,null,null,null,null,null,null,null,"nIR HEG (LIFE)",null,null,null,null,null,null,null,null,null,null,"EO",null,null,null,null,null,null,null,"EEG Sites: A1, A2, Fz, Pz, Cz, Oz, "]
[null,null,null,null,"Fz Pz Cz Oz",null,null,null,null,"L(A1 A2)",null,null,null,null,"CON4C MBC Down",null,null,null,null,null,null,null,null,null,null,"EC/EO"]
[null,null,null,null,"Fz Pz",null,null,null,null,"L(A1 A2)",null,null,null,null,"CON2C MBC Down",null,null,null,null,null,null,null,null,null,null,"EC/EO"]
[null,null,null,null,"Fz Cz",null,null,null,null,"L(A1 A2)",null,null,null,null,"FRE2C IN (2-6) REW (13-21)",null,null,null,null,null,null,null,null,null,null,"EC/EO"]
[]
[]
[null,null,null,"Block 5 Training"]
[]
[null,null,null,null,"Active",null,null,null,null,"Reference",null,null,null,null,"Protocol",null,null,null,null,null,null,null,null,null,null,"State & Duration",null,null,null,null,null,null,null,"Notes"]
[null,null,null,null,"O1 O2",null,null,null,null,"L(A1 A2)",null,null,null,null,"FRE2C Squash",null,null,null,null,null,null,null,null,null,null,"EC 10:00m",null,null,null,null,null,null,null,"EEG Sites: A1, A2, O1, O2, P4, "]
[null,null,null,null,"P4 or O1",null,null,null,null,"A2 or A1",null,null,null,null,"ALP1C Alpha Theta",null,null,null,null,null,null,null,null,null,null,"EC 23:50m"]

{"sheet":"Summary Report","index":10,"n_rows":4,"n_cols":29,"rows_kept":4,"cut":false,"hidden":false,"merged":[]}
[null,null,null,null,null,null,null,null,null,"Name:","Example adult",null,null,null,null,null,null,null,null,null,null,null,null,null,null,null,null,"Age:","46"]
[null,null,null,null,null,null,null,null,null,"Trainer:","sample",null,null,null,null,null,null,null,null,null,null,null,null,null,null,null,null,"Date:","8/17/2015"]
[]
[null,null,null,null,"Create Executive Summary Report"]

{"sheet":"Formulae","index":11,"n_rows":9,"n_cols":27,"rows_kept":9,"cut":false,"hidden":true,"merged":[]}
[1]
[]
[null,"Fast %","9 of 72",0.125,"Slow %","2 of 36",5.5555555555555552E-2,"Mid %","7 of 36",0.19444444444444445,"Lateral D","No",null,"OPF LF",1,null,"h FAPF","No",null,"h Sync","F3/F4, C3/C4, P3/P4, O1/O2",null,"Rev L/R F","No",null,"l APF","F3, F4, F7, F8, C3, C4, Fz, Pz, Cz, Oz, T4, T5, T6, P3, P4, O1, O2"]
[null,"BPF","11 of 36",0.30555555555555558,"APF","34 of 36",0.94444444444444442,"APF","34 of 36",0.94444444444444442,"ACC","No",null,"OPF RF",4,null,"h BPF","F3, F7, F8, Oz, T3, T4, T6",null,"l Sync","No",null,"Rev L/R S","C3/C4, T5/T6, P3/P4, O1/O2",null,"l OPF","F3, F4, F7, F8, C3, C4, Fz, Pz, Cz, Oz, T3, T4, T5, T6, P3, P4, O1, O2"]
[null,"OPF","3 of 36",8.3333333333333329E-2,"BPF","0 of 36",0,"A/T","8 of 36",0.22222222222222221,"DN","No",null,"OPF LR",3,null,"l T/B","F7, C4, Pz, Cz, Oz, T3, T4, T5, T6, P3, P4, O1, O2",null,"l APF","F3, F4, F8, C3, C4, Fz, Pz, Cz, Oz, T4, T5, T6, P3, P4, O1, O2",null,"Rev L/R A","F3/F4, C3/C4, T3/T4, T5/T6, P3/P4, O2/O1",null,"h T/B","F3, F4, F8"]
[null,"T/B","23 of 36",0.63888888888888884,"OPF","33 of 36",0.91666666666666663,"OPF","33 of 36",0.91666666666666663,"SMR","C3",null,"OPF RR",2,null,"Hot Temp","No",null,"h APF","No",null,"Rev F/B F","No",null,"A Spike","No"]
[null,"Fast Brain","No",null,"T/B","4 of 36",0.1111111111111111,"T/B","4 of 36",0.1111111111111111,null,null,null,null,null,null,"Disconnect","No",null,"F h A/T","F3, F4, F7, F8, C3, C4, Fz, Cz",null,"Rev F/B S","F8/T6, F3/P3, F4/P4, Fz/Pz",null,"D Spike","No"]
[null,"Scoop","No",null,"Slow Brain","No",null,"Mid Brain","No",null,null,null,null,null,null,null,"HRR","No",null,"h A/T ","F3, F4, F7, F8, C3, C4, Fz, Cz",null,"Rev F/B A","F8/T6x, F3/P3x, F4/P4x, Fz/Pzx",null,"B Spike","F7"]
[null,null,null,null,"SLL","No"]

{"sheet":"Options","index":12,"n_rows":37,"n_cols":14,"rows_kept":37,"cut":false,"hidden":true,"merged":[[28,1,31,1],[35,1,38,1],[3,9,3,11],[3,12,3,13],[7,1,10,1],[14,1,17,1],[21,1,24,1]]}
[null,null,"Name:","Example adult",null,"Age:","46"]
[null,null,"Trainer:","sample",null,"Date:","8/17/2015"]
["ul"]
[]
["Block  1",null,null,"Weight","Active","Reference","4CH Protocol","State",null,"Weight","Active","Reference","2CH/1CH Protocol","State"]
[null,"Selectable",null,16.8,"P3 P4 O1 O2","L(A1 A2)","BAL4C Alpha Beta","EC",2,179.6,"F7 F8","L(A1 A2)","BAL2C SUM (2-38) DIFF (15-38) ","EC/EO"]
[null,"Protocols",null,null,null,null,null,null,3,105.5,"F7 F8","L(A1 A2)","BAL2C SUM (19-38) DIFF (2-11)","EO"]
[null,0,null,null,null,null,null,null,1,75.5,"F7 T3","C(A1)","FRE2C IN (19-38) REW (9-13)","EC/EO"]
[null,null,null,null,null,null,null,null,null,64.400000000000006,"F7 F8","L(A1 A2)","BAL2C SUM (2-38) DIFF (2-11)","EC"]
[null,null,null,null,null,null,null,null,null,44.5,"T3 T4","L(A1 A2)","BAL2C SUM (2-38) DIFF (15-38) ","EC/EO"]
[null,null,null,null,null,null,null,null,null,28.8,"P3 P4","L(A1 A2)","FRE2C IN (6-10) REW (13-21)","EO"]
["Block  2",null,null,"Weight","Active","Reference","4CH Protocol","State",null,"Weight","Active","Reference","2CH/1CH Protocol","State"]
[null,"Selectable",1,199.5,"P3 P4 O1 O2","L(A1 A2)","CON4C MBC Down","EC/EO",null,124,"O1 O2","L(A1 A2)","CON2C MBC Down","EC/EO"]
[null,"Protocols",null,167.7,"F3 F4 O1 O2","L(A1 A2)","CON4C MBC Down","EC/EO",null,76.400000000000006,"P3 P4","L(A1 A2)","CON2C MBC Down","EC/EO"]
[null,1,null,118.4,"F3 F4 P3 P4","L(A1 A2)","CON4C MBC Down","EC/EO",2,50.5,"F3 F4","L(A1 A2)","CON2C Gamma Up","EO"]
[null,null,null,null,null,null,null,null,null,43.7,"F3 F4","L(A1 A2)","CON2C MBC Down","EC/EO"]
[]
[]
["Block  3",null,null,"Weight","Active","Reference","4CH Protocol","State",null,"Weight","Active","Reference","2CH/1CH Protocol","State"]
[null,"Selectable",null,67.900000000000006,"F3 F4 C3 C4","L(A1 A2)","CON4C Gamma Sync","EO",1,17.399999999999999,"C3 C4","L(A1 A2)","CON2C Gamma Up","EO"]
[null,"Protocols",null,null,null,null,null,null,2,8.6,"C3","C4","SMR%1C Up","EO"]
[null,0,null,null,null,null,null,null,3,5.6,"C3 C4","L(A1 A2)","BAL2C Alpha Beta (Alpha)","EC/EO"]
[null,null,null,null,null,null,null,null,null,3.9,"Cz","A2","SMR%1C Up","EO"]
[]
[]
["Block  4",null,null,"Weight","Active","Reference","4CH Protocol","State",null,"Weight","Active","Reference","2CH/1CH Protocol","State"]
[null,"Selectable",2,76.900000000000006,"Fz Pz Cz Oz","L(A1 A2)","CON4C MBC Down","EC/EO",3,64.3,"Fz Pz","L(A1 A2)","CON2C MBC Down","EC/EO"]
[null,"Protocols",null,null,null,null,null,null,null,30.7,"Cz Oz","L(A1 A2)","CON2C MBC Combined","EC"]
[null,0,null,null,null,null,null,null,1,13.4,"Fz Cz","L(A1 A2)","FRE2C IN (2-6) REW (13-21)","EC/EO"]
[null,null,null,null,null,null,null,null,null,4.3,"Cz Oz","L(A1 A2)","CON2C MBC Up","EC"]
[null,null,null,null,null,null,null,null,null,2.4,"Oz","A1","FRE1C IN (19-38) REW (9-13)","EO"]
[]
["Block  5",null,null,"Weight","Active","Reference","4CH Protocol","State",null,"Weight","Active","Reference","2CH/1CH Protocol","State"]
[null,"Selectable",null,null,null,null,null,null,1,95,"O1 O2","L(A1 A2)","FRE2C Squash","EC 10:00m"]
[null,"Protocols",null,null,null,null,null,null,null,90,"P3 P4","L(A1 A2)","FRE2C IN (19-38) REW (6-10)","EC 10:00m"]
[null,0,null,null,null,null,null,null,null,85,"P4 or O1","A2 or A1","ALP1C Alpha Up","EC 10:00m"]
[null,null,null,null,null,null,null,null,2,80,"P4 or O1","A2 or A1","ALP1C Alpha Theta","EC 23:50m"]

{"sheet":"Text","index":13,"n_rows":844,"n_cols":15,"rows_kept":844,"cut":false,"hidden":true,"merged":[]}
["Page","Object","English","Português","Español","Italiano"]
["Summary Report",null,"The following TLC Training Plan was created for ","O Plano de Treinamento TLC que se segue foi criado para","El siguiente Plan de Entrenamiento TLC fue creado por","Il seguente Piano di Trattamento TLC è stato creato per"]
["Summary Report",null,", age ",", idade ",", edad ",", età"]
["Summary Report",null,", by ",", por ",", por ",", da"]
["Summary Report",null," on "," em "," en "," su"]
["Summary Report",null,"No information about the client available.","Não há informação disponível sobre o cliente.","No hay información disponible acerca del cliente.","Non sono disponibili informazioni sul cliente."]
["Summary Report",null,"Data Quality","Qualidade dos Dados","Calidad de los Datos","Qualità dei dati"]
["Summary Report",null,"In summary, required data are present and appear to be relatively free of artifacts.","No resumo, os dados necessários estão presentes e parecem estar relativamente livre de artefatos.","En Resumen, los datos requeridos están presentes y parecen estar libres de distorsiones o artefactos.","Nel riepilogo, sono presenti i dati richiesti e si presentano relativamente liberi da artefatti."]
["Summary Report",null,"In summary, several quality issues were found.","No resumo, vários ítens de qualidade foram encontrados.","En Resumen, se encontraron varios errores de calidad.","Nel riepilogo, sono stati trovati molti problemi legati alla qualità."]
["Summary Report",null,"In summary, two quality issues were found.","No resumo, dois itens de qualidade foram encontrados.","En Resumen, se encontraron dos errores de calidad.","Nel riepilogo, sono stati trovati due problemi legati alla qualità."]
["Summary Report",null,"In summary, one potential quality issue was found. Check the data and see if there is an impact on the TLC training plan.","No resumo, um ítem de qualidade foi encontrado. Cheque os dados e veja se há impacto no plano de treinamento TLC.","En Resumen, se encontró un error de calidad en los datos. Revise y vea si hubo algún impacto en el Plan de Entrenamiento TLC.","Nel riepilogo, è staoi trovat un problema legato alla qualità. Controllare i dati per verificare che questi non influiscano sul piano di trattamento TLC."]
["Summary Report",null,"found.","encontrado.","hallado.","trovato."]
["Summary Report",null,"found, in particular regarding asymmetric recordings.","encontrado, no que diz respeito, em particular, à gravações assimétricas.","hallado, en particular con respecto a las grabaciones asimétricas.","trovato, in particolare per quanto riguarda le rilevazioni asimmetriche."]
["Summary Report",null,"found, in particular regarding muscle artifacts.","encontrado, no que diz respeito, em particular, a artefatos musculares.","hallado, en particular con respecto a las distorsiones musculares.","trovato, in particolare per quanto riguarda gli artefatti muscolari."]
["Summary Report",null,"found, in particular regarding missing sites.","encontrado, no que diz respeito, em particular a pontos perdidos.","hallado, en particular con respecto a los sitios faltantes.","trovato, in particolare per quanto riguarda siti mancanti."]
["Summary Report",null,"found, mostly pertaining to asymmetric recordings.","encontrado,  em sua maioria relacionados à gravações assimétricas.","hallado, en su mayoría pertinentes a las grabaciones asimétricas.","trovato, per la maggior parte riferito alle rilevazioni asimmetriche."]
["Summary Report",null,"found, mostly pertaining to muscle artifacts.","encontrado,  em sua maioria relacionados à artefatos musculares.","hallado, en su mayoría pertinentes a las distorsiones musculares.","trovato, per la maggior parte riferito ad artefatti muscolari."]
["Summary Report",null,"found, mostly pertaining to missing sites.","encontrados, em sua maioria relacionados a pontos perdidos.","hallado, en su mayoría pertinentes a los sitios faltantes.","trovato, per la maggior parte riferito a siti mancanti."]
["Summary Report",null,"Re-recording is recommended, as bad or missing data strongly compromises the validity of the TLC training plan.","Regravação é recomendada, por dados ruins ou perdidos que comprometem fortemente a  validade do plano de treinamento TLC.","Se recomienda volver a grabar, tanto datos erróneos como faltantes comprometen mucho la validez del Plan de Entrenamiento TLC.","Si raccomanda di ripetere la registrazione, poiché la qualità o la mancanza di dati  compromettono gravemente la validità del piano di trattamento."]
["Summary Report",null,"Check for disruption of the data and re-record the assessment, if necessary. Bad or missing data can compromise the validity of the TLC training plan.","Cheque se houve rompimento dos dados e grave de novo a avaliação, se necessário. Dados ruins ou perdidos podem comprometer a validade do plano de treinamento TLC.","Revise interrupción en los datos, y de ser necesario, vuelva a grabar la evaluación. Recuerde que tanto la falta de datos  como malos pueden comprometer la validez del plan de formación del TLC.","Controllare se i dati sono stati danneggiati e ripetere la registrazione, se necessario. Dati di cattiva qualità o mancanti possono compromettere la validità del piano di trattamento TLC."]
["Summary Report",null,"Client Information","Informações do cliente","Información del Cliente","Informazioni sul cliente"]
["Summary Report",null,"The following report regards ","A seguinte relação do relatório ","El siguiente informe considera ","Il seguente report riguarda"]
["Summary Report",null,", an ",", uma ",", de ",", un/una"]
["Summary Report",null,", a ",", a ",", de ",", un/una"]
["Summary Report",null," year old "," idade "," años de edad "," anni di età"]
["Summary Report",null,"female ","feminino ","mujer ","femmina"]
["Summary Report",null,"male ","masculino ","hombre ","maschio"]
["Summary Report",null," she "," ela "," ella "," lei"]
["Summary Report",null," he  "," ele "," el "," lui"]
["Summary Report",null,"who presented for an assessment of brain activation patterns","que apresentou  uma avaliação dos padrões de ativação do cérebro","quien se presentó para la evaluación de patrones de activación cerebral","che si è presentato per un assessment dei pattern di attivazione cerebrale"]
["Summary Report",null," recorded by "," gravado por "," grabado por "," registrato da"]
["Summary Report",null," grew up "," cresceu "," creció ","cresciuto"]
["Summary Report",null,"with his birth family","com sua família biológica","con su familia de nacimiento","con la sua famiglia di nascita"]
["Summary Report",null,"in an adoptive family","em uma família adotiva","en una familia adoptiva","in una famiglia adottiva"]
["Summary Report",null,"in a foster family","em uma família de acolhimento","en una familia adoptiva","in una famiglia affidataria"]
["Summary Report",null,"with his birth family ","com sua família biológica","con su familia de nacimiento","con la sua famiglia di nascita"]
["Summary Report",null,"as well as an adoptive family","bem como em uma família adotiva","así también como una familia adoptiva","così come una famiglia adottiva"]
["Summary Report",null,"as well as a foster family","bem como em uma família de acolhimento","así también como una familia adoptiva","così come una famiglia affidataria"]
["Summary Report",null,"in an adoptive as well as a foster family","em uma família adotivabem como em uma de acolhimento","en adopción, así como en una familia adoptiva","in una famiglia adottiva così come una famiglia affidataria"]
["Summary Report",null,"with his birth family as well as adoptive and foster families","em sua família biológica, bem como de acolhimento e  adotiva","con su familia de nacimiento así como familias de crianza y adoptivas","con la sua famiglia di nascita così come famiglie adottive e affidatarie"]
["Summary Report",null," with no siblings."," sem irmãos."," sin hermanos."," senza fratelli o sorelle."]
["Summary Report",null," and was "," e foi "," y fue "," ed è stato"]
["Summary Report",null,"the first","o primeira","el primero(a)","il primo"]
["Summary Report",null,"the second","o segundo","el segundo(a)","il secondo"]
["Summary Report",null,"the third","o terceiro","el tercero(a)","il terzo"]
["Summary Report",null,"the fourth","o quarto","el cuarto(a)","il quarto"]
["Summary Report",null,"the fifth","o quinto","el quinto(a)","il quinto"]
["Summary Report",null,"the sixth","o sexto","el sexto(a)","il sesto"]
["Summary Report",null,"the seventh","o sétimo","el séptimo(a)","il settimo"]
["Summary Report",null,"the eighth","o oitavo","el octavo(a)","l'ottavo"]
["Summary Report",null,"the ninth","o nono","el noveno(a)","il nono"]
["Summary Report",null," later than ninth"," depois do nono"," después del noveno"," oltre il nono"]
["Summary Report",null," of two siblings."," de dois irmãos."," de dos hermanos."," di due fratelli/sorelle."]
["Summary Report",null," of a total number of "," de um número total de "," de un numero total de "," di un numero totale di"]
["Summary Report",null," siblings."," irmãos."," hermanos."," fratelli/sorelle."]
["Summary Report",null," with one sibling."," com um irmão."," con un hermano.","con un fratello/sorella"]
["Summary Report",null," with a total number of "," com um número total de "," con un numero total de "," con un numero totale di"]
["Summary Report",null,"There is a known history of ","Há uma história conhecida de ","Hay una historia sabida de ","Vi è una storia conosciuta di"]
["Summary Report",null,"neglect.","negligência.","abandono.","rifiuto."]
["Summary Report",null,"abuse.","abuso.","abuso.","abuso."]
["Summary Report",null,"traumatic events.","eventos traumáticos.","eventos traumáticos.","evento traumatico."]
["Summary Report",null,"and abuse.","e abuso.","y abuso.","e abuso."]
["Summary Report",null,"and other traumatic events.","e outro evento traumático.","y otros eventos traumáticos.","e altri eventi traumatici."]
["Summary Report",null,"abuse and other traumatic events.","abuso e outro evento traumático.","abuso y otros eventos traumáticos.","abuso e altri eventi traumatici."]
["Summary Report",null,"neglect and abuse as well as other traumatic events.","negligência e abuso, bem como outros eventos traumáticos.","abandono y abuso y así como también otros eventos traumáticos.","rifiuto e abuso così come altri eventi traumatici."]
["Summary Report",null," has received "," recebeu "," ha recibido "," ha ricevuto"]
["Summary Report",null," years of school education"," anos de educação escolar"," años de educación escolar"," anni di scolarità"]
["Summary Report",null," has received one year of school education"," recebeu um ano de eduação escolar"," ha recibido un año de educación escolar"," con un anno di scolarità"]
["Summary Report",null," and "," e "," y "," e"]
["Summary Report",null,"In addition, ","Em acréscimo, ","Adicionalmente, ","Inoltre,"]
["Summary Report",null,"\" as current occupation.","\"como ocupação atual.","\" como ocupación actual.","\" come occupazione attuale."]
["Summary Report",null," reported \""," relatado\""," reportado \""," riporta \""]
["Summary Report",null,"The client ","O cliente ","El cliente ","Il cliente"]
["Summary Report",null," is left handed."," é canhoto."," es zurdo."," è mancino."]
["Summary Report",null," is mixed-dominant handed."," é ambidestro."," es ambidiestro."," è ambidestro."]
["Summary Report",null," is right handed."," é destro."," es derecho."," è destrimane."]
["Summary Report",null,"Both alcohol as well as recreational drugs are used by the client.","Ambos álcool e drogas recreativas foram usadas pelo cliente.","Tanto alcohol como drogas recreativas son utilizadas por el cliente.","Il cliente fa uso sia di alcolici che di droghe ricreazionali."]
["Summary Report",null,"Use of alcohol is being reported by the client.","Uso de álcool foi relatado pelo cliente.","Consumo de alcohol ha sido reportado por el cliente.","Il cliente riferisce di fare uso di alcolici."]
["Summary Report",null,"Use of recreational drugs is being reported by the client.","Uso de drogas recreativas está sendo relatado pelo cliente.","Uso de drogas recreativas ha sido reportado por el cliente.","Il cliente riferisce di fare uso di droghe ricreazionali."]
["Summary Report",null,"alcohol ","álcool ","alcohol ","alcol"]
["Summary Report",null,"drugs ","drogas ","drogas ","droghe"]
["Summary Report",null,"alcohol (1-12 times per year) ","álcool (1-12 vezes por ano) ","alcohol (1-12 veces por  año) ","alcol (1-12 volte all'anno)"]
["Summary Report",null,"alcohol (1-4 times per month) ","álcool (1-4 vezes por mês) ","alcohol (1-4 veces por mes) ","alcol (1-4 volte al mese)"]
["Summary Report",null,"alcohol (1-2 times per week) ","álcool (1-2 vezes por semana) ","alcohol (1-2 veces por semana) ","alcol (1-2 volte alla settimana)"]
["Summary Report",null,"alcohol (3-4 times per week) ","álcool (3-4 vezes por semana) ","alcohol (3-4 veces por semana) ","alcol (3-4 volte alla settimana)"]
["Summary Report",null,"alcohol (more than 4 times per week) ","álcool (mais do que 4 vezes por semana) ","alcohol (mas de 4 veces por semana) ","alcol (più di 4 volte alla settimana)"]
["Summary Report",null,"drugs (1-12 times per year) ","drogas (1-12 vezes por ano) ","drogas (1-12 veces por  año) ","droghe (1-12 volte all'anno)"]
["Summary Report",null,"drugs (1-4 times per month) ","drogas (1-4 vezes por mês) ","drogas (1-4 veces por mes) ","droghe (1-4 volte al mese)"]
["Summary Report",null,"drugs (1-2 times per week) ","drogas (1-2 vezes por semana) ","drogas (1-2 veces por semana) ","droghe (1-2 volte alla settimana)"]
["Summary Report",null,"drugs (3-4 times per week) ","drogas (3-4 vezes por semana) ","drogas (3-4 veces por semana) ","droghe (3-4 volte alla settimana)"]
["Summary Report",null,"drugs (more than 4 times per week) ","drogas (mais do que 4 vezes por semana) ","drogas (mas de 4 veces por semana) ","droghe (più di 4 volte alla settimana)"]
["Summary Report",null,"There is ","Há ","Existe ","C'è"]
["Summary Report",null,"a reported history of significant head injuries ","um relato de história de ferimentos sérios na cabeça ","antecedentes reportados de importantes lesiones en la cabeza ","una storia riferita di significativi traumi cranici"]
["Summary Report",null,"and seizure activity.","e atividade convulsiva.","y actividad de convulsiones.","e attività epilettica."]
["Summary Report",null," Both have been identified as high priority training objectives."," Ambos foram identificados como objetivos de treinamento prioritário."," Ambos han sido identificados como los objetivos de entrenamiento de mayor prioridad."," Entrambi sono stati identificati come obiettivi  di trattamento ad alta priorità."]
["Summary Report",null,"(identified as high priority training objective) ","(identificado como alta prioridade de objetivo de treinamento) ","(identificado como objetivo de entrenamiento de mayor prioridad) ","(identificato come obiettivo di trattamento ad alta priorità)"]
["Summary Report",null,", with the former being identified as high priority training objective.",", com o anterior sendo identificado como objetivo de treinamento de alta prioridade.",", con el anterior fue identificado como objetivo de entrenamiento de mayor prioridad.",", con il precedente identificato come obiettivo di trattamento ad alta priorità."]
["Summary Report",null,", with the latter being identified as high priority training objective.",", com o último sendo identificado como objetivo de treinamento de alta prioridade.",", con el último fue identificado como objetivo de entrenamiento de mayor prioridad.",", con l'ultimo identificato come obiettivo di trattamento ad alta priorità."]
["Summary Report",null,", which was identified as high priority training objective.",", que foi identificado como sendo um objetvo de treinamento de alta prioridade.",", que fue identificado como objetivo de entrenamiento de mayor prioridad.",", che è stato identificato come obiettivo di trattamento ad alta priorità."]
["Summary Report",null,"but no reported history of seizure activity.","mas sem histórico de atividade convulsiva.","pero no se reportaron antecedentes de convulsiones.","ma non viene riportata storia di attività epilettica."]
["Summary Report",null,"no reported history of significant head injuries ","sem relato de histórico de ferimentos significativos na cabeça ","no se reportaron antecedentes de lesiones en la cabeza significativos ","non viene riportata una storia di traumi cranici significativi"]
["Summary Report",null,"but a reported history of seizure activity.","mas um relato de histórico de atividade convulsiva.","pero se reportó antecedente de convulsiones.","ma viene riportata una storia di attviità epilettica."]
["Summary Report",null,"or seizure activity.","ou atividade convulsiva.","o convulsiones.","o attività epilettica."]
["Summary Report",null,"Medications reported as being taken at the time of the recording are listed below:","Foi relatado que os seguintes remédios estão sendo tomados no momento da gravação da avaliação:","Los medicamentos reportados que están siendo tomados en el momento de la grabación son los siguientes:","I farmaci assunti al momento della registrazione sono elencati qui sotto:"]
["Summary Report",null,"more than 5","mais de 5","mas de 5","più di 5"]
["Summary Report",null,"No medications were reported as being taken at the time of the recording.","Foi relatado que nenhum medicamento está sendo tomado no momento da gravação da avaliação.","No se reportaron medicamentos para el momento de la grabación.","Non sono state riportate terapie farmacologiche in atto al momento della registrazione."]
["Summary Report",null," reported the following areas of significant difficulty:"," relatou as seguintes áreas de dificuldade significativa:"," informó de las siguientes áreas de dificultad significativa:"," ha riportato le seguenti aree di difficoltà significativa:"]
["Summary Report",null," reported no areas of significant difficulty."," relatado  que não há áreas de dificuldade significativa."," no informó de áreas de dificultad significativa."," non ha riportato aree di difficoltà significativa."]
["Summary Report",null,"Block ","Bloco ","Bloqueo ","Blocco"]
["Summary Report",null," Training"," Treinamento"," Entrenamiento"," Training"]
["Summary Report",null,"Active","Ativo","Activo","Attivo"]
["Summary Report",null,"Reference","Referência","Referencia","Riferimento"]
["Summary Report",null,"Protocol","Protocolo","Protocolo","Protocollo"]
["Summary Report",null,"State & Duration","Estado e duração","Estado y Duración","Stato & Durata"]
["Summary Report",null,"Notes","Notas","Notas","Note"]
["Summary Report",null,"EEG Sites in brackets require Quick Insert Electrodes","Pontos de EEG entre parênteses requerem eletrodos Quick Inserts","Los sitios del EEG en los soportes requieren electrodos de inserción rápida ","I siti EEG in parentesi richiedono Elettrodi a Rapido Inserimento"]
["Summary Report",null,"TLC Training Plan","Plano de Treinamento TLC","Plan de Entrenamiento TLC ","Piano di Training TLC"]
["Summary Report",null,"is known to suffer from ","é conhecido que sofre de ","se sabe que sufre de ","soffre di"]
["Summary Report",null,"One site was found to be asymmetric: ","Foi encontrada assimetria em um ponto:","Se halló un sitio asimétrico:","Un sito è risultato essere asimmetrico:"]
["Summary Report",null,"The following sites were found to be asymmetric: ","Foi encontrada assimetria nos seguintes pontos:","Se hallaron los siguientes sitios asimétricos:","I seguenti siti sono risultati essere asimmetrici:"]
["Summary Report",null,"No asymmetries were found","Não foi encontrada assimetria","No se encontraron asimetrías","Non sono state trovate asimmetrie"]
["Summary Report",null,"There are unusually high levels of coherence at ","Existem níveis incomuns de coerência alta em","Hay altos niveles de coherencia inusuales en ","Ci sono livelli di coerenza insolitamente alti in"]
["Summary Report",null,"There are unusually high levels of coherence at the following sites: ","Existem níveis incomuns de coerência alta nos seguintes pontos:","Hay altos niveles de coherencia inusuales en los siguientes sitios:","Ci sono livelli di coerenza insolitamente alti nei seguenti siti:"]
["Summary Report",null," Potential for muscle movement or tension resulting in high-frequency artifact should be ruled out, or the data should be re-gathered."," Tensões ou movimentos musculares podem ter gerado artefatos de frequência alta e precisam ser descartados ou regravados","Se debe descartar movimientos o tensión  muscular, lo que puede resultar en distorsiones en las frecuencias altas, o se deben retomar los datos."," E' consigliabile escludere potenziali movimenti muscolari o la tensione che possono sfociare in artefatti, oppure ripetere la rilevazione."]
["Summary Report",null," and there are no excessive coherence values that would suggest muscle artifact.","  e não há valores excessivos de coerência que possam sugerir artefato muscular."," y no hay valores de coherencia excesiva que puedan sugerir distorsiones por músculos."," e non ci sono valori di coerenza eccessiva che possano suggerire artefatto muscolare."]
["Summary Report",null,"There are no excessive coherence values that would suggest muscle artifact.","Não há valores excessivos de coerência que possam sugerir artefato muscular.","No hay valores de coherencia excesiva que puedan sugerir distorsiones por músculos.","Non ci sono valori di coerenza eccessivi che possano suggerire artefatto muscolare."]
["Summary Report",null,"Required minimum data is present. Some task data missing. However, assessment validity should not be affected.","Os dados mínimos necessários estão presentes. Alguns dados de tarefa foram perdidos. No entanto, a validade da avaliação não deve ter sido afetada.","Los datos mínimos están presentes. Hay algunos datos de las Tareas que no se hallaron. De todas formas, la validez de la evaluación no debería verse afectada.","Sono presenti i dati minimi richiesti. Alcuni dati del compito sono mancanti. Comunque la validità dell'assessment non dovrebbe essere influenzata."]
["Summary Report",null,"Data is complete for all minimally required sites.","Os dados estão completos para todos os pontos minimamente necessários.","Los Datos están completos para todos los sitios requeridos.","I dati sono completi per tutti i siti minimi necessari"]
["Summary Report",null,"Data is missing for the following required site:  ","Faltam dados para os seguintes pontos:","Faltan datos para los siguientes sitios requeridos:","Mancano  i dati per il seguente sito necessario:"]
["Summary Report",null,"Data is missing for the following required sites: ","Faltam dados para os seguintes pontos:","Faltan datos para los siguientes sitios requeridos:","Mancano i dati per i seguenti siti necessari:"]
["Summary Report",null," out of "," de "," de "," di "]
[".",null,null,null,null," "]
[".",null,null,null,null," "]
[".",null,null,null,null," "]
[".",null,null,null,null," "]
[".",null,null,null,null," "]
[".",null,null,null,null," "]
[".",null,null,null,null," "]
[".",null,null,null,null," "]
[".",null,null,null,null," "]
[".",null,null,null,null," "]
[".",null,null,null,null," "]
[".",null,null,null,null," "]
[".",null,null,null,null," "]
[".",null,null,null,null," "]
[".",null,null,null,null," "]
[".",null,null,null,null," "]
[".",null,null,null,null," "]
["Needs to be empty",null,null,null,null," "]
["Client Report",null,"Stress","Estresse","Estrés","Stress"]
["Client Report",null,"Anxiety","Ansiedade","Ansiedad","Ansia"]
["Client Report",null,"Depression","Depressão","Depresión","Depressione"]
["Client Report",null,"Anger","Raiva","Rabia","Rabbia"]
["Client Report",null,"Sleep Disturbance","Perturbação do sono","Alteración del sueño","Disturbi del sonno"]
["Client Report",null,"Physical Disturbance","Perturbação física","Molestias físicas","Disturbi somatici"]
["Client Report",null,"Attention","Atenção","Atención","Attenzione"]
["Client Report",null,"Learning","Aprendizagem","Aprendizaje","Apprendimento"]
["Client Report",null,"Control","Controle","Control","Controllo"]
["Client Report",null,"Memory","Memôria","Memoria","Memoria"]
["Client Report",null,"Autism","Austimo","Autismo","Autismo"]
["Client Report",null,"Nonverbal Disorder","Distúrbio não verbal","Desordenes no verbales","Disturbo Non Verbale"]
["Client Report"]
["Client Report"]
["Client Report"]
["Client Report"]
["Client Report",null,"Nonverbal","Não verbal","No verbales","Non verbale"]
["Client Report",null,"Antidepressants","Antidepressivos","Antidepresivos","Antidepressivi"]
["Client Report",null,"Anti-anxiety","Ansiolíticos","Ansiolíticos","Ansiolitici"]
["Client Report",null,"Anticonvulsants","Anticonvulcionantes","Anticonvulsionantes","Anticonvulsivanti"]
["Client Report",null,"Antipsychotics","Antipsicótico","Antipsicóticos","Antipsicotici"]
["Client Report",null,"Stimulants","Estimulantes","Estimulantes","Stimolanti"]
["Client Report",null,"Mood stabilizers","Estabilizador de Humor","Estabilizadores del humor","Stabilizzatori dell'umore"]
["Client Report",null,"Alcohol","Álcool","Alcohol","Alcol"]
["Client Report",null,"Frequency","Frequência","Frecuencia","Frequenza"]
["Client Report",null,"Drugs","Drogras","Drogas","Droghe"]
["Client Report",null,"Head Injury with unconsciousness","Traumatismo craniano com perda de consiência","Lesiones en la cabeza","Trauma cranico con perdita di coscienza"]
["Client Report",null,"Training Priority","Prioridades de Treinamento","Prioridades del Entrenamiento","Priorità di Trattamento"]
["Client Report",null,"Seizures","Convulsões","Convulsiones","Crisi epilettiche"]
["Client Report",null,"Use Alcohol","Álcool","Usa Alcohol","Uso di Alcol"]
["Client Report",null,"Use Recreational Drugs","Drogras Recreativas","Usa Drogas Recreacionales ","Uso di Droghe Ricreazionali"]
["Client Report",null,"Check appropriate boxes below:","Checar as caixas correspondentes abaixo:","Marque la casilla apropiada a continuación:","Spuntare le caselle appropriate sotto:"]
["Client Report",null,"(appetite, etc.)","(apetite, etc)","(apetito, etc.)","(appetito, ecc.)"]
["Client Report",null,"Is the trainee: ","O cliente é:","Es el Entrenado: ","La persona in trattamento è:"]
["Client Report",null,"Right-handed","Destro ","Derecho","Destrimane"]
["Client Report",null,"Left-handed","Canhoto","Zurdo","Mancino"]
["Client Report",null,"Some of each","Ambidestro","Algunos de cada uno","Ambidestro"]
["Client Report",null,"How many of these medications are you taking?","Quantos medicamentos você está utilizando?","Cuantas de estas medicinas usted está tomando?","Quanti di questi farmaci sta assumendo?"]
["Client Report",null,"Trainee Name:","Nome:","Nombre del Entrenado:","Nome della persona che effettua il training:"]
["Client Report",null,"Age:","Idade:","Edad:","Età:"]
["Client Report",null,"Family/Vocational Information","Informações familiares e profissionais","Información de la Familia/Vocación ","Famiglia/Informazioni professionali"]
["Client Report",null,"Trainee grew up in (check all that apply):","Foi criado em (assinalar todos que se aplicam):","El Entrenado creció en (marque todas las que apliquen):","Il cliente è cresciuto in (spuntare tutti i campi corrispondenti):"]
["Client Report",null,"Birth Family","Família Biológica","Familia de Nacimiento","Famiglia di nascita"]
["Client Report",null,"Adoptive Family","Família Adotiva","Familia Adoptiva","Famiglia adottiva"]
["Client Report",null,"Foster Family","Família de Acolhimento","Familia Adoptiva Asignada","Famiglia affidataria"]
["Client Report",null,"Number of siblings (client included): ","Número de irmãos (cliente inclui):","Cantidad de hermanos (incluyendo al cliente):","Numero di fratelli/sorelle (incluso il cliente):"]
["Client Report",null,"Client's place in birth order: ","Lugar do cliente na ordem de nascimento:","Lugar de nacimiento del cliente:","Indicare se primogenito, secondogenito ecc.:"]
["Client Report",null,"Is there a history of (check all that apply): ","Existe história de:","Existen antecedentes de (marque todos los que apliquen): ","C'è una storia di (indicare tutti i campi necessari):"]
["Client Report",null,"Other Trauma","Outros Traumas","Otros Traumas","Altri traumi"]
["Client Report",null,"Number of years of school completed:  ","Escolaridade (anotar o número de anos de estudo):","Cantidad de años completados de escuela: ","Anni di scolarità:"]
["Client Report",null,"Occupation:","Ocupação:","Ocupación:","Occupazione:"]
["Client Report",null,"year","ano","año","anno"]
["Client Report",null,"month","mês","mes","mese"]
["Client Report",null,"week","semana","semana","settimana"]
["Client Report",null,"Neglect","Negligência","Negligencia","Rifiuto"]
["Client Report",null,"Abuse","Abuso","Abuso","Abuso"]
["Client Report",null,"Physical Information","Informações físicas","Información Física","Informazioni di tipo fisico"]
["Client Report",null,"1-12 x/year","1-12 x/ano","1-12 x/año","1-12 volte/anno"]
["Client Report",null,"1-4 x/month","1-4 x/mês","1-4 x/mes","1-4 volte/mese"]
["Client Report",null,"1-2 x/week","1-2 x/semana","1-2 x/semana","1-2 volte/settimana"]
["Client Report",null,"3-4 x/week","3-4 x/semana","3-4 x/semana","3-4 volte/settimana"]
["Client Report",null,">3-4 x/week",">3-4 x/semana",">3-4 x/semana",">3-4 volte/mese"]
["Client Report",null,"Problem Areas","Áreas Problemáticas","Áreas Problemáticas","Aree Problematiche"]
["Client Report",null,"Submit","Enviar","Enviar","Invia"]
["Client Report",null,"List of medications being taken:","Lista de medicações que estão sendo tomadas:","Lista de medicamentos que estan siendo tomados:","Terapia farmacologica in atto:"]
[".",null,null,null,null," "]
[".",null,null,null,null," "]
[".",null,null,null,null," "]
[".",null,null,null,null," "]
[".",null,null,null,null," "]
["All","Header","Name:","Nome:","Nombre:","Nome:",null,null,null,null,null,10,9,9,10]
["All","Header","Trainer:","Treinador:","Entrenador:","Trainer:",null,null,null,null,null,10,8,8,10]
["All","Header","Age:","Idade:","Edad:","Età:",null,null,null,null,null,10,9,9,10]
["All","Header","Date:","Data:","Fecha:","Data:",null,null,null,null,null,10,9,9,10]
["All","Button","Assessment","Avaliação","Evaluación","Assessment"]
["All","Button","Print Page","Imprimir Página","Imprimir","Stampa Pagina"]
["All","Button","Save As","Salvar como","Guardar como","Salva come"]
["All",null," except of "," menos ","a excepción de"," tranne"]
["All",null," and "," e "," y "," e "]
[".",null,null,null,null," "]
["Report","Legend","                    Comparatives\n","                    Comparativos\n","                    Comparativos\n","                    Comparativi\n"]
["Report","Legend","\nProvides comparative data (ratios and peak frequencies) for all measured sites by condition (eyes closed, open and task). These are not \"normative\" but \"descriptive\". Numbers in blue show under-activation; numbers in red show an overactive brain. Black numbers are as expected.\n","\nOferece dados comparativos (razões e frequências pico) para todas as medidas dos pontos em cada condição (olhos fechados, abertos e tarefa). Esses dados não são \"normativos\" mas \"descritivos\". Números em azul mostram baixa ativação e números em vermelho mostram um cérebro muito ativado. Números em preto estão de acordo com o esperado. \n","\nProvee datos comparativos (cocientes y frecuencias pico) para todos los sitios medidos (ojos cerrados, abiertos y tarea).  Estas no son \"normativas\" sino \"descriptivas\". Los números en azul muestran una sub-activación; los números en rojo muestran una sobre-activación. Los números en negro están dentro del rango esperado.\n","\nFornisce dati comparativi (rapporti e frequenze picco) per tutti i siti misurati  per condizione (occhi aperti, occhi chiusi, compito). Questi non sono \"normativi\" ma \"descrittivi\". I numeri in blu indicano ipo-attivazione; i numeri in rosso indicano un cervello sovra-attivo. I numeri in nero sono come attesi.\n"]
["Report","Legend","\nLow peak frequencies suggest under-arousal; high peaks suggest over-arousal.\n","\n Frequência pico baixa sugere baixa ativação e alta sugere excesso de ativação.\n","\nFrecuencias pico bajas sugieren under-arousal; las altas sugieren over-arousal.\n","\nBasse frequenze picco suggeriscono un sotto-arousal; picchi alti suggeriscono un sovra-arousal.\n"]
["Report","Legend","very high\n","muito alto   \n","muy alto\n","molto alto\n",null,null,null,null,null,11,9,10,10]
["Report","Legend","in range\n","na média    \n ","en rango\n","nella media\n",null,null,null,null,null,11,9,10,10]
["Report","Legend","very low","muito baixo","muy bajo","molto basso",null,null,null,null,null,11,9,10,10]
["Report","Header","Position","Posição","Posición","Posizione"]
["Report","Header","Site","Ponto","Sitio","Sito"]
["Report","Header","CND","CND","CND","CND"]
["Report","Header","RATIOS","RAZÕES","COCIENTES","Rapporti"]
["Report","Header","Peak Frequency","Frequência Pico","Frecuencia Pico","Frequenza Picco"]
["Report","Header","     Beta         SMR          Alpha   High Alpha            High Beta ","     Beta         SMR           Alfa     Alfa Rápida         Beta Rápida ","     Beta         SMR           Alfa    Alfa Alta            Beta Alta","     Beta        SMR           Alfa        Alfa Alte               Beta Alte"]
["Report","Header","    Theta       Total          Theta   Low Alpha     Alpha     Low Beta ","     Teta         Total           Teta     Alfa Lenta            Beta Lenta","    Theta       Total         Theta  Alfa Baja     Alfa     Beta Baja","    Theta     Totale       Theta     Alfa Basse        Alfa    Beta Basse"]
["Report","Caption","Frontal","Frontal","Frontal","Frontale",null,null,null,null,null,8,7,7,7]
["Report","Caption","Central","Central","Central","Centrale",null,null,null,null,null,8,7,7,7]
["Report","Caption","Midline","Sagital","Línea Media","Linea mediana",null,null,null,null,null,8,7,7,6]
["Report","Caption","Temporal","Temporal","Temporal","Temporale",null,null,null,null,null,8,7,7,7]
["Report","Caption","Parietal","Parietal","Parietal","Parietale",null,null,null,null,null,8,7,7,7]
["Report","Caption","Occipital","Occipital","Occipital","Occipitale",null,null,null,null,null,8,7,7,7]
["Report","Caption","EC","OF","OC","OC"]
["Report","Caption","EO","OA","OA","OA"]
["Report","Caption","TSK","TRF","TAR","CMPT"]
[".",null,null,null,null," "]
[".",null,null,null,null," "]
[".",null,null,null,null," "]
[".",null,null,null,null," "]
[".",null,null,null,null," "]
[".",null,null,null,null," "]
[".",null,null,null,null," "]
["."]
["Synchrony","Legend","                       Connectivity\n","                       Conectividade\n","                       Conectividad\n","                        Connettività\n"]
["Synchrony","Legend","\nThis page shows Coherence values (0-100) and the % of Phase Angle values that were between -30 and 30 degrees for the Eyes Closed, Eyes Open and Task conditions for each frequency band.   \n","\nEsta página mostra valores de Coerência (0-100) e a % dos valores do ângulo de Fase que estão entre -30 e 30 graus para Olhos Fechados e condições de Tarefa para cada banda de frequência. \n","\nEsta pagina muestra los valores de las Coherencias (0-100) y el % de los valores del ángulo de Fase que estaban entre -30 y 30 grados para las condiciones de Ojos Cerrados, Ojos Abiertos y Tarea para cada frecuencia de banda. \n","\nQuesta pagina mostra i valori di Coerenza (0-100) e la % dei valori di Angolo di Fase che erano tra -30 e 30 gradi per le condizioni Occhi Chiusi, Occhi Aperti e Compito per ogni banda di frequenza.\n"]
["Synchrony","Legend","\nLow levels of slow wave coherence suggest the brain’s inability to rest between tasks. High levels of fast wave coherence suggest difficulty processing or shifting.  Low phase values may suggest Synchrony training.\n","\nNíveis baixos de coerência em ondas lentas sugerem inabilidade do cérebro em descansar entre tarefas. Níveis altos de coerência em ondas rápidas sugerem dificuldade de processamento ou deslocamento. Valores baixos em fase podem sugerir treinamento de Sincronia.\n","\nBajos niveles de coherencia en las ondas lentas sugieren la incapacidad del cerebro de descansar entre tareas. Altos niveles de Coherencia en las ondas rápidas sugieren dificultad de procesamiento o cambio. Valores bajos de Fase pueden sugerir necesidad de entrenamiento de la Sincronía.\n","\nBassi livelli di coerenza di onde lente suggeriscono l'inabilità del cervello di riposare tra i diversi compiti. Alti livelli di coerenza di onde veloci suggeriscono difficoltà di processamento o di shifting. Valori di fase bassi possono suggerire un training di Sincronia.\n"]
["Synchrony","Legend","\nShaded sites (frontal and temporal) are expected to have low connectivity values due to their degree of separation. ","\nNos pontos sombreados (frontal e temporal) são esperados valores baixos de conectividade devido ao grau de separação entre eles.\n","\nLos sitios sombreados (frontal y temporal) se esperan que tengan valores de conectividad bajos por su grado de separación. ","\nI siti ombreggiati (frontali e temporali) dovrebbero avere bassi valori di connettività a causa del loro grado di separazione."]
["Synchrony","Legend","    Results                   Frequency","Resultados              Frequência","Resultados              Frecuencia","  Risultati              Frequenza"]
["Synchrony","Legend","high\n","acima  \n","alto\n","alto\n",null,null,null,null,null,9,10,10]
["Synchrony","Legend","in range\n","na média\n  ","en rango\n","nella media\n",null,null,null,null,null,9,10,10]
["Synchrony","Legend","low","abaixo    ","bajo","basso",null,null,null,null,null,9,10,10]
["Synchrony","Legend","Slow","Lentas      ","Baja","Lento"]
["Synchrony","Legend","Fast","Rápidas   ","Alta","Veloce"]
["Synchrony","Legend","Gamma","Gama","Gamma","Gamma"]
[".",null,null,null,null," "]
[".",null,null,null,null," "]
[".",null,null,null,null," "]
[".",null,null,null,null," "]
[".",null,null,null,null," "]
[".",null,null,null,null," "]
[".",null,null,null,null," "]
[".",null,null,null,null," "]
[".",null,null,null,null," "]
["Maps","Legend","                            Maps\n","                          Mapas\n","                           Mapas\n","Mappe\n"]
["Maps","Legend","\nImages show relative value (percent of total EEG) for each frequency at all sites for eyes closed, open and task conditions. Higher percentages are shown in brighter colors.\n","\nImagens mostram valores relativos (porcentagem do EEG total) para todos os pontos para olhos fechados, abertos e tarefas. Porcentagens altas são mostradas em cores mais vivas.\n","\nLas Imagines muestran valores relativos (porcentaje total del EEG) por cada frecuencia en todos los sitios para las condiciones de ojos cerrados, abiertos y haciendo tarea. Los porcentajes altos se muestran en colores mas brillantes.\n","\nLe immagini mostrano il valore relativo (percentuale dell'EEG totale) per ogni frequenza in tutti i siti nelle condizioni occhi aperti, chiusi e  compito. Le percentuali più alte sono indicate in colori più chiari. \n"]
["Maps","Legend","\nMaps can be helpful in showing how activation patterns change from condition to condition or to identify sites which clearly differ from those around them.","\nMapas podem ser úteis para mostrar como os padrões de ativação mudam de uma condição para outra ou para mostrar pontos que diferem claramente daqueles à sua volta.","\nLos Mapas pueden ser útiles mostrando como los patrones de activación cambian de una condición a la otra o para identificar sitios que claramente difieran de todos a su alrededor.","\nLe mappe possono essere utili nel mostrare come i pattern di attivazione cambiano di condizione in condizione o per identificare siti che differiscono chiaramente da quelli circostanti."]
["Maps","Header","         Eyes Closed                  Eyes Open                       Task                           Eyes Closed                  Eyes Open                       Task ","    Olhos Fechados           Olhos Abertos                Tarefa                       Olhos Fechados             Olhos Abertos                Tarefa","      Ojos Cerrados          Ojos Abiertos                 Tarea                              Ojos Cerrados           Ojos Abiertos                 Tarea","         Occhi Chiusi               Occhi Aperti                 Compito\nOcchi Chiusi        Occhi Aperti             Compito"]
["Maps","Note","Note: The X-Axis of all brainmaps has been reversed","Nota: O Eixo X de todos os mapas cerebrais estão invertidos.","Nota: El Eje-X de todos los mapas cerebrales han sido inversados","Nota: l'asse X in tutte le mappe cerebrali è stato invertito"]
[".",null,null,null,null," "]
[".",null,null,null,null," "]
[".",null,null,null,null," "]
[".",null,null,null,null," "]
[".",null,null,null,null," "]
["Histograms","Checkbox","Eyes Closed Left/Front","Olhos Fechados Esquerda/Frente","Ojos Cerrados Izquierdo/Frontal","Occhi Chiusi Sinistra/Anteriore"]
["Histograms","Checkbox","Eyes Closed Right/Back","Olhos Fechados Direita/Trás","Ojos Cerrados Derecho/Posterior","Occhi Chiusi Destra/Posteriore"]
["Histograms","Checkbox","Eyes Open Left/Front","Olhos Abertos Esquerda/Frente","Ojos Abiertos Izquierdo/Frontal","Occhi Aperti Sinistra/Anteriore"]
["Histograms","Checkbox","Eyes Open Right/Back","Olhos Abertos Direita/Trás","Ojos Abiertos Derecho/Posterior","Occhi Aperti Destra/Posteriore"]
["Histograms","Checkbox","Task Left/Front","Tarefa Esquerda/Frente","Tarea Izquierdo/Frontal","Compito Sinistra/Anteriore"]
["Histograms","Checkbox","Task Right/Back","Tarefa Direita/Trás","Tarea Derecho/Posterior","Compito Destra/Posteriore"]
["Histograms","Legend","Absolute Distribution\n","Distribuição Absoluta \n","Distribución Absoluta\n","Distribuzione Assoluta\n"]
["Histograms","Legend","\nHistograms show absolute amplitude levels in each frequency at each site pair. By unchecking the boxes for Blue (EC), Green (EO) or Orange (Task), you can create specific views of variable activity.","\nHistogramas mostram níveis de amplitude absoluta para cada par de pontos. Ao desmarcar as caixas para Azul (OF), Verde (OAO) ou Laranja (Tarefa) você pode criar visualizações específicas das atividades variáveis.","\nLos Histogramas muestran los niveles de amplitudes absolutas en cada frecuencia en cada par de sitios. Desmarcando las cajas para Azul (OC), Verde (OA) o Naranja (Tarea), puede crear vistas especificas de actividad variable.","\nGli istogrammi mostrano i livelli di ampiezza assoluta per ogni frequenza in ogni coppia di siti. Deselezionando le caselle per Blu (OC), Verde (OA) o Arancio (Compito), è possibile creare vedute di attività variabile."]
["Histograms","Chart","Amplitude μV","Amplitude μV","Amplitud μV","Ampiezza  μV"]
["Histograms","Chart","Frequency","Frequência","Frecuencia","Frequenza"]
["Histograms","Chart","ECL ECR EOL EOR TSKL TSKR","OFE OFD OAE OAD TRFE TRFD","OCI OCD OAI OAD TARI TARD","OCsx OCdx OAsx OAdx CMPTsx CMPTdx"]
["Histograms","Chart","Frontal Fp1 & Fp2","Frontal Fp1 &Fp2","Frontal Fp1 & Fp2","Frontale Fp1 & Fp2"]
["Histograms","Chart","Frontal F3 & F4","Frontal F3 & F4","Frontal F3 & F4","Frontale F3 & F4"]
["Histograms","Chart","Frontal F7 & F8","Frontal F7 & F8","Frontal F7 & F8","Frontale F7 & F8"]
["Histograms","Chart","Central C3 & C4","Central C3 & C4","Central C3 & C4","Centrale C3 & C4"]
["Histograms","Chart","Midline Fz & Pz","Sagital Fz & Pz","Línea Media Fz & Pz","Linea mediana Fz & Pz"]
["Histograms","Chart","Midline Cz & Oz","Sagital Cz & Oz","Línea Media Cz & Oz","Linea mediana Cz & Oz"]
["Histograms","Chart","Temporal T3 & T4","Temporal T3 & T4","Temporal T3 & T4","Temporale T3 & T4"]
["Histograms","Chart","Temporal T5 & T6","Temporal T5 & T6","Temporal T5 & T6","Temporale T5 & T6"]
["Histograms","Chart","Parietal P3 & P4","Parietal P3 & P4","Parietal P3 & P4","Parietale P3 & P4"]
["Histograms","Chart","Occipital O1 & O2","Occipital O1 & O2","Occipital O1 & O2","Occipitale O1 & O2"]
[".",null,null,null,null," "]
[".",null,null,null,null," "]
[".",null,null,null,null," "]
[".",null,null,null,null," "]
["Variance","Legend","            Variability\n","          Variabilidade\n","           Variabilidad\n","           Variabilità\n"]
["Variance","Legend","\nHistograms show Variance/Mean--a measure of the stability of the EEG signal by site and frequency. Values consistently below 1 may suggest excessive control; the higher values rise above 2 the greater the likelihood of diminished control or increased artifact.","\nHistogramas mostram Variância/Significa a medida de estabilidade do sinal do EEG por ponto e frequência. Valores consistentemente abaixo 1 pode sugerir controle excessivo; quanto mais acima de 2 forem os valores, maior a probabilidade de diminuição de controle ou de mais artefato.","\nLos Histogramas muestran la Varianza/Media--una medida de la estabilidad de la señal del EEG por sitio y frecuencia. Los Valores consistentemente por debajo de 1 pueden sugerir  control excesivo; los valores altos que suban por encima de 2 es mayor la posibilidad de disminuir el control o incremento de los artefactos o distorsiones.","\nGli istogrammi mostrano la Varianza/Media -- una misura della stabilità del segnale EEG per sito e frequenza. I valori consistentemente sotto 1 possono suggerire un eccessivo controllo; più i valori salgono sopra 2 maggiore è la possibilità di controllo ridotto o artefatto aumentato."]
["Variance","Text","Covariance","Covariância","Covarianza","Covarianza"]
["Symetry","Chart","left","esquerda","izquierda","sinistra"]
["Symetry","Chart","right","direita","derecho","destra"]
["Symetry et al.","Checkbox","Eyes Closed","Olhos Fechados","Ojos Cerrados","Occhi Chiusi"]
["Symetry et al.","Checkbox","Eyes Open","Olhos Abertos","Ojos Abiertos","Occhi Aperti"]
["Symetry et al.","Checkbox","Task","Tarefa","Tarea","Compito"]
["Symetry","Legend","             Symmetry\n","              Simetria\n","              Simetría\n","              Simmetria\n\n"]
["Symetry","Legend","\nHistograms show amplitude difference by site and frequency. Small values indicate symmetry between the sites.\n","\nHistogramas mostram a diferença de amplitude por pontos e frequências. Valores pequenos indicam simetria entre os pontos.\n","\nLos Histogramas muestran las diferencias en amplitudes por sitio y frecuencia. Valores pequeños indican simetría entre los sitios.\n","Gli istogrammi mostrano la differenza di ampiezza per sito e frequenza. Valori bassi indicano simmetria tra i siti."]
["Symetry","Legend","\nLarge values suggest CH1 (large positive) or CH2 (large negative) is dominating.","\nValores altos sugerem que o C1 (positivo) ou C2 (negativo) estão dominando .","\nValores altos sugieren CH1 (positivo alto) o CH2 (negativo alto) es dominante.","\nValori alti indicano che CH1 (grande positivo) o CH2 (grande negativo) sono dominanti."]
["Symetry","Chart"," - Differential"," - Diferencial"," - Diferencial"," - Differenziale"]
["Symetry","Chart","EC EO TSK","OF OA TRF","OC OA TAR","OC OA CMPT"]
["Symetry","Chart","front","frente","frontal","anteriore"]
["Symetry","Chart","back","trás","posterior","posteriore"]
["Heads","Title","     Head Amplitudes - ","     Amplitudes Cabeça - ","     Amplitudes en la Cabeza - ","     Ampiezze Testa -",null,null,null,null,null,11,9,8,11]
["Heads","Title","     Head Percentages - ","     Porcentagens Cabeça - ","     Porcentajes en la Cabeza - ","     Percentuali Testa -",null,null,null,null,null,11,9,8,11]
["Heads","Title","Frequencies","Frequências","Frecuencias","Frequenze"]
[".",null,null,null,null," "]
[".",null,null,null,null," "]
["Artifact","Button","Create TLC7 Assessment","Criar Avaliação TLC7","Crear Evaluación TLC7","Crea Assessment TLC7"]
["Artifact","Button","Edit","Editar","Editar","Modifica"]
["Artifact","Header","Low Frequency Threshold","Limiar de Frequência lenta","Limite de Frecuencia Baja","Soglia Bassa Frequenza"]
["Artifact","Header","High Frequency Threshold","Limiar de Frequência Rápida","Limite de Frecuencia Alta","Soglia Alta Frequenza"]
["Artifact","Header","Recalculate","Recalcular","Recalcular","Ricalcola"]
["Artifact","Header","Site","Ponto","Sitio","Sito"]
["Artifact","Header","Percentages passed for each State","Porcentagem que passaram para cada Estado","Porcentaje aprovado por cada Estado","Percentuale approvata per ogni Stato"]
["Artifact","Legend","Pass","Passar","Pasa","Approva"]
["Artifact","Legend","Low Freq Artifact","Artefato de Freq Lenta    ","Artefacto en Frec Baja","Artefatto Bassa Freq"]
["Artifact","Legend","High Freq Artifact","Artefato de  Freq Rápida ","Artefacto en Frec Altas","Artefatto Alta Freq"]
["Artifact","Legend","Low + High Freq","Freq Lentas+ Rápidas    ","Frec Bajas + Altas","Bassa + Alta Freq"]
["Artifact","Legend","Threshold Change","Mudança de Limiar","Cambio de Limites","Cambio di soglia"]
["Artifact","Button","Hide/Unhide","Ocultar/Mostrar","Mostrar/Esconder","Nascondi/Mostra"]
[".",null,null,null,null," "]
[".",null,null,null,null," "]
[".",null,null,null,null," "]
[".",null,null,null,null," "]
[".",null,null,null,null," "]
[".",null,null,null,null," "]
[".",null,null,null,null," "]
["."]
[".",null,null,null,null," "]
[".",null,null,null,null," "]
[".",null,null,null,null," "]
[".",null,null,null,null," "]
["Options","Button","Start Protocol Selection","Iniciar Seleção de Protocolo","Comenzar Selección de Protocolos","Inizia Selezione Protocollo"]
["Options","Button","4CH Protocols","Protocolos de 4 C","Protocolos 4CH","Protocollo 4 CH"]
["Options","Button","2CH Protocols","Protocolos de 2 C","Protocolos 2CH","Protocollo 2 CH"]
["Options","Button","Complete AutoPlan","Completar Auto Plano","Completar Auto Plan","Completa AutoPlan"]
["Options","Option","Default EEG Sites","Pontos Padrões de EEG ","Sitios EEG ","Siti EEG di default"]
["Options","Option","Q-wiz EEG cap Sites","Pontos de EEG na touca Qwiz","Sitios Gorro EEG  Q-wiz","Siti cuffia EEG Q-wiz"]
["Options","Header","Selectable","Protocolos","Protocolos ","Protocolli",null,null,null,null,null,11,9,9,9]
["Options","Header","Weight","Peso","Peso","Peso"]
["Options","Header","Active","Ativo","Activo","Attivo"]
["Options","Header","Reference","Referência","Referencia","Riferimento"]
["Options","Header","4CH Protocol","Protocolo de 4 C","Protocolo 4CH ","Protocollo 4 CH"]
["Options","Header","State","Estado","Estado","Stato"]
["Options","Header","2CH/1CH Protocol","Protocolos de 1/2 C","Protocolo 2CH/1CH ","Protocollo 2CH/1CH"]
["Options","Header","Protocol","Protocolo","Protocolo","Protocollo"]
["Options","Header","State & Duration","Estado e Duração","Estado y Duración","Stato & Durata"]
["Options","Header","Notes","Notas","Notas","Note"]
["Options","Header","Protocols","Selecionáveis","Seleccionables","selezionabili",null,null,null,null,null,11,9,9,9]
[".",null,null,null,null," "]
[".",null,null,null,null," "]
[".",null,null,null,null," "]
["Analyze","Header","Histogram","Histograma","Histograma","Istogramma",null,null,null,3,1]
["Analyze","Header","Overall EEG Shape","Visão Geral do EEG","Forma General del EEG","Forma generale EEG",null,null,null,4,2]
["Analyze","Header","Slow Percent EC","Percentual Lentas OF","Porcentaje Ondas Lentas OC","Percentuale onde lente OC",null,null,null,5,3,10,10,7,7]
["Analyze","Header","Slow Percent EO","Percentual Lentas OA","Porcentaje Ondas Lentas OA","Percentuale onde lente OA",null,null,null,6,3,10,10,7,7]
["Analyze","Header","Mid Percent EC","Pecentual Médias OF","Porcentaje Ondas Medias OA","Percentuale onde medie OC",null,null,null,7,3,10,10,7,7]
["Analyze","Header","Mid Percent EO","Percentual Médias OA","Porcentaje Ondas Medias OC","Percentuale onde medie OA",null,null,null,8,3,10,10,7,7]
["Analyze","Header","Fast Percent EC","Percentual Rápidas OF","Porcentaje Ondas Rapidas OC","Percentuale onde veloci OC",null,null,null,9,3,10,10,7,7]
["Analyze","Header","Fast Percent EO","Percentual Rápidas OA","Porcentaje Ondas Rapidas OA","Percentuale onde veloci OA",null,null,null,10,3,10,10,7,7]
["Analyze","Header","EEG Speed","Velocidade EEG","Velocidad del EEG","Velocità EEG",null,null,null,11,2]
["Analyze","Header","Alpha Peak Freq","Freq Pico Alfa","Frecuencia Pico de Alfa","Frequenza Picco Alfa",null,null,null,12,3,10,10,8,7]
["Analyze","Header","Beta Peak Freq","Freq Pico Beta","Frecuencia Pico de Beta","Frequenza Picco Beta",null,null,null,13,3,10,10,8,7]
["Analyze","Header","Overall Peak Freq","Freq Pico Geral","Frecuencia Pico General","Frequenza Picco Generale",null,null,null,14,3,10,10,8,7]
["Analyze","Header","Alpha Pattern","Padrão de Alfa","Patron de Alfa","Pattern Alfa",null,null,null,15,2]
["Analyze","Header","A/T Ratio EC","Razão A/T OF","Cociente de A/T OC","Rapporto A/T OC",null,null,null,16,3,10,10,10,10]
["Analyze","Header","A/T Ratio EO","Razão A/T OA","Cociente de A/T OA","Rapporto A/T OA",null,null,null,17,3,10,10,10,10]
["Analyze","Header","Alpha EC/EO","Alfa OF/OA","Alfa OC/OA","Alfa OC/OA",null,null,null,18,3,10,10,10,10]
["Analyze","Header","Alpha EO/TSK","Alfa OA/TRF","Alfa OA/TAR","Alfa OA/CMPT",null,null,null,19,3,10,10,10,10]
["Analyze","Header","Disconnect","Desconectado","Desconexion","Disconnessione",null,null,null,24,4]
["Analyze","Header","Rule out ABUSE history","Descartar história de ABUSO","Descarte Historia de ABUSO","Escludere storia di ABUSO "]
["Analyze","Header","Rule out NEGLECT history","Descartar história de NEGLIGÊNCIA","Descarte Historia de NEGLIGENCIA","Escludere storia di RIFIUTO"]
["Analyze","Header","No","Não","No","No",null,null,null,24,8]
["Analyze","Header","Absolute R/L ratio","Razão aboluta D/E","Cociente Absoluto D/I","Rapporto assoluto Dx/Sx",null,null,null,25,4]
["Analyze","Header","Relative R/L ratio","Razão relativa D/E","Cociente Relativo D/I","Rapporto relativo Dx/Sx",null,null,null,26,4]
["Analyze","Header","Heads","Cabeças","Cabezas","Teste",null,null,null,21,1]
["Analyze","Header","Temporal Lobe","Lobo Temporal","Lobulo Temporal","Lobo Temporale",null,null,null,22,2]
["Analyze","Header","Disconnect","Desconectado","Desconexion","Disconnessione",null,null,null,23,3]
["Analyze","Header","Hot Temporals","Temporais quentes","Temporales Calientes","Temporali caldi",null,null,null,27,3]
["Analyze","Header","Left/Right Beta","Beta Esquerda/Direita","Beta Izq/Der ","Beta Sx/Dx",null,null,null,32,3]
["Analyze","Header","irritable anxious angry","irritável ansioso bravo","irritable ansioso molesto","irritabile ansioso arrabbiato",null,null,null,33,3,8,8,8,7]
["Analyze","Header","Right/Left Alpha","Alfa Direita/Esquerda","Alfa Der/Izq ","Alfa Dx/Sx",null,null,null,34,3]
["Analyze","Header","depressed negative","deprimido negativo","deprimido negativo","depresso negativo",null,null,null,35,3,9,9,9,7]
["Analyze","Header","Front/Back Beta","Beta Frente/Trás","Beta Frontal/Posterior","Beta Anteriore/Posteriore",null,null,null,37,3]
["Analyze","Header","perfectionism insomnia","perfeccionismo insônia","perfeccionista insomnio","perfezionismo insonnia",null,null,null,38,3,8,8,8,7]
["Analyze","Header","Back/Front Alpha","Alfa Trás/Frente","Alfa Posterior/Frontal","Alfa Posteriore/Anteriore",null,null,null,39,3]
["Analyze","Header","unmotivated foggy","desmotivado nebuloso ","desmotivado sens/neblina","demotivato annebbiato",null,null,null,40,3,9,9,8,7]
["Analyze","Header","Blocking","Bloqueando","Bloqueo","Bloccando",null,null,null,42,2]
["Analyze","Header","Left & Right vs Midline","Esquerda & Direita vs na linha sagital","Izq & Der vs Linea Media","Sx & Dx vs Linea Mediana",null,null,null,42,4]
["Analyze","Header","Eyes Closed","Olhos Fechados","Ojos Cerrados","Occhi Chiusi",null,null,null,42,11]
["Analyze","Header","Eyes Open","Olhos Abertos","Ojos Abiertos","Occhi Aperti",null,null,null,42,16]
["Analyze","Header","Fz vs F3 or F4","Fz vs F3 ou F4","Fz vs F3 o F4","Fz vs F3 o F4",null,null,null,43,3]
["Analyze","Header","Swingle Ratio","Razão Swingle","Cociente de Swingle","Rapporto di Swingle",null,null,null,43,7]
["Analyze","Header","Slow Pct","Pct de Lentas","Pct Lento","Percentuale Lente",null,null,null,44,3,10,8,10,8]
["Analyze","Header","Mid Pct","Pct  de Médias","Pct Medio","Percentuale Medie",null,null,null,45,3,10,8,10,8]
["Analyze","Header","Fast Pct","Pct  de Rápidas","Pct Rapido","Percentuale Veloci",null,null,null,46,3,10,8,10,8]
["Analyze","Header","Cz vs C3 or C4","Cz vs C3 ou C4","Cz vs C3 o C4","Cz vs C3 o C4",null,null,null,47,3]
["Analyze","Header","Swingle Ratio","Razão Swingle","Cociente de Swingle","Rapporto di Swingle",null,null,null,47,7,10,10,10,10]
["Analyze","Header","Slow Pct","Pct  de Lentas","Pct Lento","Percentuale Lente",null,null,null,48,3,10,8,10,8]
["Analyze","Header","Mid Pct","Pct  de Médias","Pct Medio","Percentuale Medie",null,null,null,49,3,10,8,10,8]
["Analyze","Header","Fast Pct","Pct  de Rápidas","Pct Rapido","Percentuale Veloci",null,null,null,50,3,10,8,10,8]
["Analyze","Chart","> 2.0 Processing","> 2.0 Processando","> 2.0 Sub-Procesamiento","> 2.0 Elaborazione"]
["Analyze","Chart","< 1.2 Filtering","< 1.2 Filtrando","< 1.2 Discriminacion","< 1.2 Filtro"]
["Analyze","Chart","1.2-2.0 Expected adult","1.2-2.0 Esperado para Adultos","1.2-2.0 Esperado en adultos","1.2-2.0 Atteso adulto"]
["Analyze","Chart","Children may show ","Crianças mais novas podem ","Niños pueden mostrar ","I bambini potrebbero mostrare"]
["Analyze","Chart","higher ratios with younger age","apresentar razões menores","cocientes mayores en edades menores","rapporti più alti con età inferiore"]
["Analyze","Chart","Filtering / Processing","Filtrando / Processando","Discriminacion / Sub-Procesamiento","Filtro / Elaborazione"]
["Analyze","Chart","Above Axis: activation","Acima da linha: ativação","Por encima del eje: activacion","Sopra Asse: attivazione"]
["Analyze","Chart","Below Axis: reverse activation (RA)","Abaixo da linha: ativação reversa (AR)","Por debajo del eje: activacion contraria (AC)","Sotto Asse: attivazione invertita (AI)"]
["Analyze","Chart","RA w/ low T/B = Filtering","AR com baixo T/B=Filtrando ","AC c/ bajo T/B = Discriminacion","AI con T/B basso = Filtro"]
["Analyze","Chart","RA w/ high T/B = Processing","AR com alta T/B=Processando","AC c/ alto T/B = Sub-Procesamiento","AI con T/B alto = Elaborazione"]
["Analyze","Chart","Activation","Ativação","Activacion","Attivazione"]
["Analyze","Header","Report","Relatório","Reporte","Report",null,null,null,53,1]
["Analyze","Header","Coherence/Phase %","% Coerência/Fase","Coherencia/Fase %","Coerenza/Fase %",null,null,null,54,2]
["Analyze","Header","High Synchrony","Sincronia Alta","Alta Sincronicidad","Alta Sincronia",null,null,null,55,3]
["Analyze","Header","Low Synchrony","Sincronia Baixo","Baja Sincronicidad","Bassa Sincronia",null,null,null,61,3]
["Analyze","Header","Low Beta","Beta Lenta","Beta Baja"," Beta Basse",null,null,null,62,3,10,10,10,10]
["Analyze","Header","SMR","RSM","SMR","SMR",null,null,null,56,3,10,10,10,10]
["Analyze","Header","Alpha ","Alfa","Alfa ","Alfa",null,null,null,57,3,10,10,10,10]
["Analyze","Header","Theta","Teta","Theta","Theta",null,null,null,58,3,10,10,10,10]
["Analyze","Header","Gamma","Gama","Gamma","Gamma",null,null,null,59,3,10,10,10,10]
["Analyze","Header","Beta","Beta","Beta","Beta",null,null,null,63,3,10,10,10,10]
["Analyze","Header","High Beta","Beta Rápida","Beta Alta","Beta Alte",null,null,null,64,3,10,10,10,10]
["Analyze","Header","Filtering/Processing","Filtrando/Processando","Discriminacion/Sub-Procesamiento","Filtro/Elaborazione",null,null,null,65,2]
["Analyze","Header","Theta/Beta","Teta/Beta","Theta/Beta","Theta/Beta",null,null,null,66,3]
["Analyze","Header","T/B ratio EC","Razão T/B OF","Cociente T/B con OC","Rapporto T/B OC",null,null,null,67,3,10,10,10,10]
["Analyze","Header","T/B ratio EO","Razão T/B OA","Cociente T/B con OA","Rapporto T/B OA",null,null,null,68,3,10,10,10,10]
["Analyze","Header","T/B ratio TSK","Razão T/B TRF","Cociente T/B con TAR","Rapporto T/B CMPT",null,null,null,69,3,10,10,10,10]
["Analyze","Header","T/B ratio Activation","Ativação  Razão T/B","Activacion del Cociente T/B","Attivazione del rapporto T/B",null,null,null,70,3,10,10,9,10]
["Analyze","Header","SMR% EO","% RSM OA","SMR% OA","SMR% OA",null,null,null,71,3,10,10,10,10]
["Analyze","Header","Alpha PF (EC 10 Hz)","FP Alfa (OF 10 Hz)","FP Alfa (OC 10 Hz)","FP Alfa (OC 10 Hz)",null,null,null,72,3,10,10,10,10]
["Analyze","Header","Beta Percent","Percentual de Beta","Porcentaje de Beta","Percentuale Beta",null,null,null,28,4]
["Analyze","Header","High Beta Percent","Percentual de Beta Rápida","Porcentaje de Beta Alta","Percentuale Beta Alte",null,null,null,29,4]
["Analyze","Header","Reversal","Inversão","Reversion","Inversione",null,null,null,31,2]
["Analyze","Header","EC","OF","OC","OC",null,null,null,43,4]
["Analyze","Header","EO","OA","OA","OA",null,null,null,43,5]
["Analyze","Header","EC","OF","OC","OC",null,null,null,47,4]
["Analyze","Header","EO","OA","OA","OA",null,null,null,47,5]
["Analyze","Legend","                         Blocking\n","            Bloqueando\n","                Bloqueo\n","Blocco\n"]
["Analyze","Legend","\nComparing Left/Right vs. Midline sites in F and C areas for Slow, Mid and Fast frequencies can indicate issues with the Anterior Cingulate (AC). Red or Blue numbers show differences 15% above or below which indicates a hot or cold AC, depending on the frequency distribution that is also visualized on the charts.\nSwingle Ratio (from Paul Swingle) shows Hibeta/Beta ratio at Fz and Cz. Values below 40% suggest low  motivation. Values above 60% suggest stubbornness.","\nA comparação Esquerda / Direita vs.pontos Sagitais em F e C nas   frequências Lentas, Médias e Rápidas pode indicar problemas com o Cingulado Anterior (CA). Os números vermelhos ou azuis mostram diferenças de 15% para cima ou para baixo que indicam um CA quente ou frio, dependendo da distribuição da freqüência, que também pode ser visualizada nos gráficos.\nA Razão Swingle (de Paul Swingle) mostra a razão Beta Rápida / Beta em Fz e Cz. Valores abaixo de 40% sugerem baixa motivação. Valores acima de 60% sugerem teimosia ou inflexibilidade.","\nComparando los sitios Izq/Der vs. LineaMedia en las áreas F y C areas para frecuencias Lentas, Medias y Rápidas pueden indicar problmeas con la Cíngula Anterior (CA). Los números en Rojo o Azul muestran las diferencias por encima o por debajo del 15% lo que puede indicar una CA fria o caliente, dependiendo en la distribución de las frecuencias que también se pueden apreciar en las gráficas. \nEl Cociente de Swingle (de Paul Swingle) muestra el cociente de Hibeta/Beta en Fz y Cz. Valores por debajo del 40% sugieren poca motivación. Valores por encima del 60% sugieren terquedad.","\nComparare le frequenze Lente, Medie e Veloci nei siti Sx/Dx con quelli della Linea Mediana nelle aree F e C può dare indicazioni sul Cingolato Anteriore (CA). I numeri in Blu e Rosso mostrano differenze sopra o sotto il 15% che indicano CA caldo o freddo, in base alla distribuzione di frequenza che viene anche visualizzata sulle carte. Il Rapporto di Swingle (di Paul Swingle) mostra il rapporto BetaAlte/Beta in Fz e Cz. I valori sotto il 40% suggeriscono bassa motivazione. I valori sopra il 60% suggeriscono ostinazione.",null,null,null,null,null,10,9,8.5,9.5]
["Analyze","Legend","Front","Frente","Frontal","Anteriore",null,null,null,null,null,10,9,8,8]
["Analyze","Legend","Mid","Med","Med","Med",null,null,null,null,null,10,9,8,8]
["Analyze","Legend","Back","Trás","Posterior","Posteriore",null,null,null,null,null,10,9,8,8]
["Analyze","Legend","Results","Resultados","Resultados","Risultati "]
["."]
[".",null,null,null,null," "]
[".",null,null,null,null," "]
[".",null,null,null,null," "]
[".",null,null,null,null," "]
[".",null,null,null,null," "]
[".",null,null,null,null," "]
[".",null,null,null,null," "]
["Forms",null,"Enter the names of the following (standard) assessment files:","Insira os nomes dos seguintes arquivos de avaliação (padrão):","Escriba los nombres de los siguientes archivos de la evaluación (estándar):","Inserire i nomi dei seguenti file di assessment (standard):",null,null,null,null,null,12,11,10,12]
["Forms",null,"Client Data","Dados do Cliente","Datos del Cliente","Dati del Cliente"]
["Forms",null,"Handedness","Lateralidade","Lateralidad","Dominanza manuale"]
["Forms",null,"Browse","Procurar","Busque","Naviga"]
["Forms",null,"Artifact Raw Data","Dados Brutos de Artefatos","Distorsiones en los Datos Originales","Rimuovi artefatti da Dati Grezzi",null,null,null,null,null,8,8,7,8]
["Forms",null,"No Artifacting","Sem retirada de Artefatos","Sin Distorsiones (Artefactos)","Non rimovere artefatti",null,null,null,null,null,8,8,7,8]
["Forms",null,"Options","Opções","Opciones","Opzioni"]
["Forms",null,"Process Data","Processar Dados","Procesar Datos","Elabora Dati"]
["Forms",null,"Cancel","Cancelar","Cancelar","Cancella"]
["Forms",null,"Quick Select","Seleção Rápida","Selección Rápida","Selezione veloce"]
["Forms",null,"Reverse all 2CH recordings","Inverter todas as gravações de 2C","Voltee todas las grabaciones en 2CH","Inverti tutte le registrazioni 2CH"]
["Forms",null,"Progress","Progresso","Progreso","Avanzamento"]
["Forms",null,"Version","Versão","Versión","Versione"]
["Forms",null,"TLC7ap  -  The Trainer's Q","TLC7ap  -  The Trainer's Q","TLC7ap - El Q del Entrenador","TLC7ap - The Trainer's Q"]
["Forms",null,"Thresholds","Limiares","Parámetros","Soglie"]
["Forms",null,"Percentage Pass :","Percentual de Passagem:","Porcentaje que pasa:","Passa Percentuale:"]
["Forms",null,"Low  Frequency Threshold","Limiar de Frequências Lentas","Parámetro para Frecuencias Bajas","Soglia Bassa Frequenza"]
["Forms",null,"High  Frequency Threshold","Limiar de Frequências Altas","Parámetro para Frecuencias Altas","Soglia Alta Frequenza"]
["Forms",null,"All Sites","Todos os Pontos","Todos los Sitios","Tutti i Siti"]
["Forms",null,"Use Thresholds For ","Usar Limiar Para","Use Parámetros para","Usa Soglie Per"]
["Forms",null,"Recalculate","Recalcular","Recalcular","Ricalcola"]
["Forms",null,"Optional","Opcional","Opcional","Optional"]
["Forms",null,"Assessment Raw Data Files","Arquivo de Dados Brutos da Avaliação","Archivos de los Datos Originales de la Evaluación","Files dei Dati Grezzi di Assessment"]
["Forms",null,"Select Pages included in Assessment","Selecione Páginas incluídas na Avaliação","Seleccione las Páginas incluídas en la Evaluación","Seleziona Pagina inclusa in Assessment"]
["Forms",null,"Creating Analyze Page...","Criando Página Analisar…","Creando la Página de Análisis...","Pagina Analisi in Creazione…"]
["Forms",null,"Artifacting...","Retirando Artefatos…","Eliminando Distorsiones...","Artefatti in Rimozione..."]
["Forms",null,"Creating Symmetry Page...","Criando Página de Simetria…","Creando la Página de Análisis...","Pagina Simmetria in Creazione…"]
["Forms",null,"Creating Heads Page...","Criando Página de Cabeças…","Creando la Página de las Cabezas...","Pagina Teste in Creazione…"]
["Forms",null,"Creating Histograms Page...","Criando Páginas de Histograma…","Creando la Página de Histogramas...","Pagina Istogrammi in Creazione…"]
["Forms",null,"Creating Maps Page...","Criando Página de Mapas…","Creando la Página de Mapas...","Pagina Mappe in Creazione…"]
["Forms",null,"Creating Report Page...","Criando Página de Relatório…","Creando la Página de Reporte...","Pagina Report in Creazione…"]
["Forms",null,"Creating Synchrony Page...","Criando Páginas de Sincronia…","Creando la Página de Sincronía...","Pagina Sincronia in Creazione…"]
["Forms",null,"Creating Variance Page...","Criando Página de Variação…","Creando la Página de Varianza...","Pagina Varianza in Creazione…"]
["Forms",null,"Initializing...","Inicializando…","Inicializando...","Inizializzo…"]
["Forms",null,"Selecting Protocols...","Selecionando Protocolos…","Seleccionando Protocolos...","Selezione Protocolli in corso…"]
["Forms",null,"Ranking Protocols...","Classificando  Protocolos...","Protocolos de clasificación...","Elaborazione protocolli…"]
["Forms",null,"Creating Summary...","Criando Resumo...","Creando recopilación...","Creazione riepilogo…"]
["Forms",null,"Cleaning Up...","Limpando...","Limpieza en progreso…","Pulizia in corso…"]
[".",null,null,null,null," "]
[".",null,null,null,null," "]
[".",null,null,null,null," "]
[".",null,null,null,null," "]
[".",null,null,null,null," "]
[".",null,null,null,null," "]
[".",null,null,null,null," "]
["Sheets",null,"Client Report","Relatório de cliente","Reporte del Cliente","Report Cliente"]
["Sheets",null,"Analyze","Analisar","Análisis","Analizza"]
["Sheets",null,"Synchrony","Sincronia","Sincronía","Sincronia"]
["Sheets",null,"Maps","Mapas","Mapas","Mappe"]
["Sheets",null,"Histograms","Histograma","Histograma","Istogrammi"]
["Sheets",null,"Symmetry","Simetria","Simetria","Simmetria"]
["Sheets",null,"Variance","Variâncias","Varianza","Varianza"]
["Sheets",null,"Heads","Cabeças","Cabezas","Teste"]
["Sheets",null,"Report","Relatório","Reportes","Report"]
["Sheets",null,"Summary Report","Resumo do Relatório","Resumen del Reporte","Report di Riepilogo"]
["Sheets",null,"Options","Opções","Opciones","Opzioni"]
["Sheets",null,"Artifact","Artefato","Distorsiones","Artefatto"]
["Sheets",null,"Training Plan","Plano de Treinamento","Plan de Entrenamiento","Piano di Trattamento"]
[".",null,null,null,null," "]
[".",null,null,null,null," "]
["Prompt",null,"The TLC7 only works fully with Excel 2003 or later","O TLC7 só trabalha por completo à partir do Excel 2003","El TLC7 solo funciona completamente con versiones de Excel 2003 o más recientes","Il TLC7 lavora in modo ottimale solo con Excel 2003 o successivi"]
["Prompt",null,"Quick Select only works with Excel 2002 or later","Seleção Rápida só trabalha por completo à partir do Excel 2003","La Selección Rápida solo funciona con Excel 2002 o más recientes","Selezione Veloce lavora solo con Excel 2002 o successivi"]
["Prompt",null,"Could not open TLC file: ","Não foi possível abrir arquivo TLC:","No se pudo abrir el archivo TLC:","Non posso aprire il file TLC:"]
["Prompt",null,"Please include at least one of these sites: C3-C4 or P3-P4","Por favor, inclua ao menos um desses pontos: C3-C4 ou P3-P4","Por favor incluya por lo menos uno de estos sitios: C3-C4 o P3-P4","Prego includere almeno uno di questi siti: C3-C4 o P3-P4"]
["Prompt",null,"Please enter a valid number in the threshold cells","Por favor, insira um número válido nas células de limiares","Por favor escriba un número válido en las celdas del parámetro","Prego  inserire un numero valido nelle celle soglia"]
["Prompt",null,"Please enter a valid client name","Por favor, insira um nome de cliente válido","Por favor escriba un nombre de cliente válido","Prego inserire un nome di cliente valido"]
["Prompt",null,"Please enter a client name","Por favor, insira o nome do cliente","Por favor escriba el nombre del cliente","Prego inserire un nome di cliente"]
["Prompt",null,"Please enter a numeric value for the client age ","Por favor, insira um valor numérico válido para a idade do cliente","Por favor escriba un valor numérico para la edad del cliente","Prego inserire un valore numerico per l'età del cliente"]
["Prompt",null,"Please enter a valid client age","Por favor, insira uma idade válida para o cliente","Por favor escriba una edad válida para el cliente","Prego inserire un'età cliente valida"]
["Prompt",null,"Please enter a numeric value for the number of siblings","Por favor insira um valor numérico válido para irmãos","Por favor escriba un valor numérico para el número de hermanos","Prego inserire un valore numerico per il numero di fratelli/sorelle "]
["Prompt",null,"Please enter a valid number of siblings","Por favor insira um número válido para irmãoes","Por favor escriba un número válido para hermanos","Prego inserire un numero valido di fratelli/sorelle "]
["Prompt",null,"Please enter a numeric value for the place in birth order","Por favor insira um valor numérico para a data de nascimento","Por favor escriba un valor numérico para el orden de nacimiento","Prego inserire un valore numerico di ordine di nascita"]
["Prompt",null,"Please enter a valid birth order number","Por favor, insira uma ordem numérica válida para a data de nascimento","Por favor escriba un número válido para el orden de nacimiento","Prego inserire un ordine di nascita valido"]
["Prompt",null,"Birth order exceeds the total number of siblings, please correct","A ordem de nascimento excedeu o total de irmãos, por favor corrija","El orden de nacimiento excede el número total de hermanos, por favor corrija","L'ordine di nascita eccede il numero totale di fratelli/sorelle, correggere prego"]
["Prompt",null,"Please enter a numeric value for the number of completed years in school","Por favor insira um valor numérico para o número de anos de escolaridade completa","Por favor escriba un valor numérico para el número de años completados en la escuela","Prego inserire un valore numerico per gli anni di scolarità"]
["Prompt",null,"Please enter a valid number of completed years in school","Por favor, insira um número válido para os anos de escolaridade completa","Por favor escriba un número válido para años completados en la escuela","Prego inserire un numero valido di anni di scolarità"]
["Prompt",null,"Please enter a job name for occupation","Por favor, insira um nome de trabalho para ocupação","Por favor escriba un nombre de empleo para Ocupación","Prego inserire un lavoro come occupazione"]
["Prompt",null,"You have not completed the following sections: ","Você completou as seguintes sessões:","Usted no ha completado las siguientes secciones:","Non hai completato le seguenti sezioni:"]
["Prompt",null,". Are you sure you want to submit the Client Report?",". Tem certeza que deseja gerar o Relatório do Cliente?",". Está seguro que desea procesar el Resumen del Reporte?",". Sei sicuro di volere inoltrare il Report Cliente?"]
["Prompt",null,"You cannot overwrite the TLC7 template file","Você não pode substituir o arquivo de modelo do  TLC7","Usted no puede escribir sobre el archivo plantilla del TLC7","Non puoi sovrascrivere il file template TLC7"]
["Prompt",null,"Could not open file: ","Não foi possível abrir o arquivo:","No se pudo abrir el archivo:","Non riesco ad aprire il file:"]
["Forms",null,"Additional Options","Opções Adicionais","Opciones adicionales ","Ulteriori opzioni"]
["Forms",null,"Reverse X-axis in charts","Inverter eixo X do gráfico ","Inverse el eje-x en gráficos ","Inversione asse X nei grafici"]
[".",null,null,null,null," "]
[".",null,null,null,null," "]
[".",null,null,null,null," "]
["."]
["."]
["."]
["."]
["Client Report","STRESS","I overreact to pressure","Super Reage a pressão","Sobre reeacciono a la presión","Reagisco in modo eccessivo alla pressione"]
["Client Report","STRESS","I can't  quiet my mind","Mente inquieta","No puedo callar mi mente","Non riesco a calmare la mente"]
["Client Report","STRESS","I speak very fast","Fala muito rápido","Hablo muy rápido","Parlo molto veloce"]
["Client Report","STRESS","I expect perfection of myself/others","Espera perfeição de si e dos outros ","Espero perfección de mi mismo od e los demás","Mi aspetto la perfezione da me stesso/dagli altri"]
["Client Report","STRESS","I am physically tense","Tensão física","Estoy físicamente tenso","Mi sento teso fisicamente"]
["Client Report","ANXIETY","I am often worried/anxious","Eu estou sempre preocupado/ansioso","Estoy preocupado(a)/ansioso(a) a menudo","Sono spesso preoccupato/ansioso"]
["Client Report","ANXIETY","I have panic attacks","Sofre de ataques de pânico","Tengo ataques de pánico","Ho attacchi di panico"]
["Client Report","ANXIETY","I tend to expect the worst","Espera o pior numa situação","Tiendo a esperar lo peor","Tendo ad aspettarmi il peggio"]
["Client Report","ANXIETY","I judge myself negatively","Se julga negativamente","Me juzgo negativamente","Mi giudico negativamente"]
["Client Report","ANXIETY","I am often aftraid","Eu sempre sinto medo","Tengo miedo a menudo","Ho spesso paura"]
["Client Report","DEPRESSION","My energy levels are low","Níveis energéticos baixos","Mis niveles de energía son bajos","I miei livelli di energia sono bassi"]
["Client Report","DEPRESSION","I cry easily/feel sad often","Chora facilmente / sente tristeza","Lloro fácilmente/me siento triste a menudo","Piango facilmente/mi sento spesso triste"]
["Client Report","DEPRESSION","I sleep too little/too much","Dorme demais ou muito pouco","Duermo poco/mucho","Dormo troppo poco/ troppo"]
["Client Report","DEPRESSION","I feel hopeless/helpless","Se sente sem esperança, desamparado","Me siento desesperanzado","Mi sento senza speranza/incapace"]
["Client Report","ANGER","I have an explosive temper","Raiva Explosiva","Tengo temperamento explosivo","Ho un temperamento esplosivo"]
["Client Report","ANGER","I am irritable/impatient","Irritável / impaciente","Soy irritable/impaciente","Sono irritabile/impaziente"]
["Client Report","ANGER","I react with physical violence","Reage com violência física","Reacciono con violencia física","Reagisco con violenza fisica"]
["Client Report","ANGER","I feel bitter/negative","Amargo / negativo","Me siento amargo/negativo","Mi sento risentito/negativo"]
["Client Report","SLEEP DISTURBANCE","I have trouble falling asleep","Dificuldade em pegar no sono","Tengo problemas para dormirme","Faccio fatica ad addormentarmi"]
["Client Report","SLEEP DISTURBANCE","I wake often during the night","Acorda facilmente a noite","Me despierto frecuentemente por las noches","Mi sveglio spesso durante la notte"]
["Client Report","SLEEP DISTURBANCE","I am hard to awaken/never feel rested","Dificuldade para acordar, não acorda descançado","Me cuesta despertarme/nunca me siento descansado","Mi sveglio con fatica/non mi sento mai riposato"]
["Client Report","SLEEP DISTURBANCE","I wake at night and can't sleep again","Acorda à noite e não dorme mais","Me despierto por las noches y no puedo volver a dormirme","Mi sveglio di notte e non riesco a riaddormentarmi"]
["Client Report","SLEEP DISTURBANCE","I move around a lot while sleeping","Se mexe muito dormindo","Me muevo mucho mientras duermo","Mi muovo molto mentre dormo"]
["Client Report","SLEEP DISTURBANCE","I grind my teeth in sleep","Bruxismo, range os dentes","Bruxismo, aprieto los dientes mientras duermo","Digrigno i denti nel sonno"]
["Client Report","SLEEP DISTURBANCE","I sleepwalk","Sonambulismo","Soy sonámbulo","Sono sonnambulo"]
["Client Report","PHYSICAL DISTURBANCE","I feel dull, chronic pains","Sente dor crônica","Me siento obtuso, dolores crónicos","Ho dolori sordi, cronici"]
["Client Report","PHYSICAL DISTURBANCE","I have migraines / irritable bowel","Eu tenho migrânea/intestino irritável","Tengo migrañas / intestinos irritables","Soffro di emicrania/colon irritabile"]
["Client Report","PHYSICAL DISTURBANCE","I have cold hands/feet","Mãos e / ou pés frios","Tengo los pies/manos fríos","Ho mani/piedi freddi"]
["Client Report","PHYSICAL DISTURBANCE","I have tics/tremors","Eu tenho tiques/tremores","Tengo tics /tremores  ","Ho tic o tremori"]
["Client Report","PHYSICAL DISTURBANCE","I eat little or too much","Come pouco ou demais","Como poco o mucho","Mangio poco o troppo"]
["Client Report","PHYSICAL DISTURBANCE","I have frequent constipation/diarrhea","Tem diarréia / constipação frquente","Frecuentemente tengo constipación/diarrea","Spesso soffro di costipazione/diarrea"]
["Client Report","PHYSICAL DISTURBANCE","I experience racing heartbeat","Batimento cardíaco acelerado","Me dan palpitaciones","Mi capita di avere battito cardiaco accelerato"]
["Client Report","PHYSICAL DISTURBANCE","I have high or low blood pressure","Pressão baixa ou alta","Tengo alta o baja presión sanguínea","Soffro di pressione alta o bassa"]
["Client Report","ATTENTION","I drift off into thoughts when working","Divaga nos pensamentos enquanto trabalha / estuda","Me voy en pensamientos mientras trabajo","Mi distraggo in pensieri mentre lavoro"]
["Client Report","ATTENTION","I am easily distracted from tasks","Facilmente distraído","Me distraigo fácilmente","Mi distraggo facilmente da quello che sto facendo"]
["Client Report","ATTENTION","I put off starting assigned tasks","Demora a comecar tarefas","Postergo las tareas (Procrastino)","Rimando l'inizio dei compiti che mi vengono assegnati"]
["Client Report","ATTENTION","I don't finish assigned tasks until the deadline","Dificuldade em terminar tarefas","No termino las tareas hasta la fecha límite","Non porto a termine i compiti che mi hanno affidato fino al momento della scadenza"]
["Client Report","LEARNING","I have a hard time listening/reading for detail","Dificuldade de leitura ","Tengo dificultad escuchando/leyendo en detalle","Ho difficoltà ad ascoltare/leggere i dettagli"]
["Client Report","LEARNING","I make careless math errors","Comete erros matemáticos por descuido","Cometo errores matemáticos por descuido","Faccio errori di distrazione in matematica"]
["Client Report","LEARNING","I can't get math concepts","Não entende conceitos matemáticos","No puedo entender conceptos matemáticos","Non riesco a capire i concetti di matematica"]
["Client Report","LEARNING","I don't stay on track when speaking/writing","Perde o assunto durante uma conversa ou escrita","Pierdo la línea (idea) cuando hablo o escribo","Perdo il filo quando parlo/scrivo"]
["Client Report","LEARNING","I reverse letters/numbers or stutter","Eu troco letras/números ou gaguejo","Inverso letras/números o tartamudeo ","Inverto lettere/numeri o balbetto"]
["Client Report","CONTROL","I act/speak impulsively","Age ou fala impulsivamente","Actúo/hablo impulsivamente","Agisco/parlo impulsivamente"]
["Client Report","CONTROL","I tend to have quick emotional responses","Tem respostas emocionais súbitas","Tiendo a tener respuestas emocionales rápidas","Tendo ad avere risposte emozionali veloci"]
["Client Report","CONTROL","I am fidgety or hyperactive","Eu sou inquieto/hiperativo","Soy azogado o hiperactivo","Sono irrequieto/agitato o iperattivo"]
["Client Report","CONTROL","My handwriting is sloppy","Caligrafia ruim (esse é o termo correto) por mais estranho que pareça","Mi escritura es desordenada","La mia calligrafia è trasandata"]
["Client Report","CONTROL","I tend to be clumsy/accident prone","Desajeitado, tem muitos acidentes","Tiendo a ser torpe/propenso a cometer accidentes","Tendo ad essere goffo/portato agli incidenti"]
["Client Report","CONTROL","I can't control use of substances","Não controla o uso de álcool e ou drogas","No puedo controlar el uso de drogas y/o alcohol","Non riesco a controllare l'uso di sostanze"]
["Client Report","CONTROL","I am driven to repetitive/compulsive behaviors","Mostra comportamento compulsivo","Tengo comportamientos compulsivos o repetitivos","Sono spinto a comportamenti ripetitivi/compulsivi"]
["Client Report","MEMORY","I quickly forget what I've read/heard","Esquece rápidamente os fatos que ouviu","Olvido rápidamente lo que leo/escucho","Dimentico velocemente quello che ho letto/ascoltato"]
["Client Report","MEMORY","I can't remember past events","Não lembra eventos do passado","No puedo recordar episodios pasados","Non riesco a ricordare gli eventi passati"]
["Client Report","MEMORY","I forget faces/names","Esquece rostos ou nomes","Se me olvidan los rostros/nombres","Dimentico facce/nomi"]
["Client Report","MEMORY","Old memories keep intruding into my thoughts","Recordações antigas invadem os pensamentos","Memorias antiguas invaden mis pensamientos","I vecchi ricordi continuano a intrudere nei miei pensieri"]
["Client Report","MEMORY","I cannot recall periods of time from the past","Perdeu períodos de tempo do passado","No puedo recordar períodos de tiempo del pasado","Non riesco a rievocare periodi di tempo dal passato"]
["Client Report"]
["Client Report",null,"STRESS","ESTRESSE","ESTRES","STRESS"]
["Client Report",null,"ANXIETY","ANSIEDADE","ANSIEDAD","ANSIA"]
["Client Report",null,"DEPRESSION","DEPRESSÃO","DEPRESION","DEPRESSIONE"]
["Client Report",null,"ANGER","RAIVA","RABIA","RABBIA"]
["Client Report",null,"SLEEP DISTURBANCE","DISTÚRBIOS DO SONO","ALTERACIONES DEL SUEÑO","DISTURBI DEL SONNO"]
["Client Report",null,"PHYSICAL DISTURBANCE","PERTURBAÇÃO FÍSICA","MOLESTIAS FISICAS","DISTURBI SOMATICI"]
["Client Report",null,"ATTENTION","ATENÇÃO","ATENCION","ATTENZIONE"]
["Client Report",null,"LEARNING","APRENDIZAGEM","APRENDIZAJE","APPRENDIMENTO"]
["Client Report",null,"CONTROL","CONTROLE","CONTROL","CONTROLLO"]
["Client Report",null,"MEMORY","MEMÓRIA","MEMORIA","MEMORIA"]
[".",null,null,null,null," "]
[".",null,null,null,null," "]
[".",null,null,null,null," "]
[".",null,null,null,null," "]
["EXS",null,"Executive Summary Report","Resumo do Relatório  Executivo","Informe de resumen ejecutivo ","Report di riepilogo esecutivo"]
["EXS",null,"Assessment Findings","Resultados da Avaliação:","Hallazgos de la evaluación:","RISULTATI ASSESSMENT:"]
["EXS",null,"Lateral Dominance","Lateralidade Dominante","Dominancia Lateral","Dominanza laterale"]
["EXS",null,"The preference of an individual toward dominant use of one hand or the other to perform tasks exists on a continuum. Strong right-hand dominance \nappears in about 80% of the population; strong left-hand dominance in only about 2%, though primary left-handedness appears to be 10-12%. Up to 30% of the population is somewhere between these two, either “mixed-dominant”, using different hands for different tasks by development, or “ambidextrous”, using both hands with relatively equal skill by practice. Those who have not established a strong dominance may tend to do so—even shifting their preference from left to right—in response to brain training.","A preferência individual pelo uso dominante de um lado ou outro para executar tarefas ocorre em um continuum. A forte dominância da mão direita aparece em cerca de 80% da população; a forte dominância esquerda em apenas cerca de 2%, embora canhotos primário pareçam ser de 10-12%. Até 30% da população está entre esses dois, com \"dominância mista\", usando mãos diferentes para diferentes tarefas ou \"ambidestro\", usando as duas mãos com habilidade relativamente igual. Aqueles que não estabeleceram uma forte dominância tendem a fazê-lo, mesmo mudando sua preferência da esquerda para a direita em resposta ao treinamento cerebral.","La preferencia de un individuo hacia el uso dominante de un lado u otro para realizar tareas existe en un continuum. Fuerte dominancia derecha aparece en aproximadamente el 80% de la población; un fuerte predominio izquierdo en sólo alrededor del 2%, aunque parece ser que la dominancia primaria izquierda es de  10-12%. Hasta el 30% de la población está en algún lugar entre estos dos, o son de \"dominancia mezclada\", hacen las cosas con diferentes manos para diferentes tareas de desarrollo, o los  \"ambidiestros\", quienes usan ambas manos con una habilidad relativamente igual. Aquellos quienes no han establecido una dominación fuerte, tienden a hacerlo, incluso cambiando su preferencia de izquierda a derecha, en respuesta al entrenamiento cerebral.  ","La preferenza di un individuo verso l'uso dominante di una mano o dell'altra per svolgere compiti può essere collocata su un continuum.  La netta dominanza della mano destra si manifesta in circa l'8% dellapopolazione; la netta dominanza della sinistra appare sonlo nel 2% sebbene il mancinismo primario si manifesti nel 10-12%.  Fino al 30% della popolazione si colloca in un punto qualsiasi tra questi due, o \"dominante-misto\", che utilizza mani diverse per compiti diversi per natura, o \"ambidestro\", che utilizza entrambe le mani relativamente con la stessa abilità  grazie alla pratica. Quelli che non hanno stabilito una netta dominanza potrebbero utilizzare entrambe le mani come conseguenza di allenamento cerebrale, riuscendo a spostare la loro preferenza da sinistra a destra. "]
["EXS",null,"Most brains use the left hemisphere for language processing.  Only about 4% of strong right-handers, about 27% of strong left-handers and about 15%\n of mixed-dominant are right dominant for language. There is some evidence that those who are “reversed” for language may actually use both hemispheres for language processing.","A maioria dos cérebros usam o hemisfério esquerdo para processamento de linguagem. Apenas cerca de 4% dos destros, cerca de 27% dos canhotos e cerca de 15% de dominantes mistos fasem uso do lado direito para a linguagem. Há alguma evidência de que aqueles que são \"invertidos\" para o processamento da linguagem podem realmente usar os dois hemisférios para isso.","La mayoria de los cerebros utilizan más el hemisferio izquierdo para procesamiento del lenguaje.  Sólo un 4% de diestros, alrededor del 27% de los zurdos y aproximadamente el 15% de dominancia mezclada son de dominancia derecha  para el lenguaje. Hay algunas pruebas que indican que quienes están \"invertidos\" para el lenguaje pueden utilizar ambos hemisferios para el procesamiento del lenguaje.","La maggior parte dei cervelli utilizzano l'emisfero sinistro per l'elaborazione del linguaggio. Solo il 4% dei destrimani, il 27% dei mancini e circa il 15% delle persone con dominanza mista sono dominanti a destra per il linguaggio. Vi sono alcune evidenze che coloro che sono a dominanza \"invertita\" per il linguaggio potrebbero usare entrambi gli emisferi per il processamento del linguaggio. "]
["EXS",null,"Brain activation patterns suggest this brain's hemispheric dominance for language may be reversed or uncertain. ","Brain activation patterns suggest this brain's hemispheric dominance for language may be reversed or uncertain. ","Las muestras de activación en el cerebro sugieren que el dominio hemisférico de este cerebro puede ser inverso o incierto.","I pattern di attivazione cerebrale indicano un'incerta dominanza emisferica per il linguaggio o una possibile inversione di dominanza."]
["EXS",null,"This client reports stuttering and/or Letter/number reversals, which often relate to Mixed-Dominance.","Este artigo relata cliente com gagueira e / ou inversão de letras / números, que muitas vezes se relacionam com Dominância Mista.","Este cliente reporta tartamudeo y/o inversión de letras/números, lo cual es relacionado con Dominio-Mezclado.   ","Il cliente riferisce balbuzie e/o inversione numeri/lettere, che spesso correla con una dominanza emisferica mista."]
["EXS",null,"Brain Activation Patterns","Padrões de Ativação Cerebral","Patrones de Activacion Cerebral","PATTERN DI ATTIVAZIONE CEREBRALE"]
["EXS",null,"The human brain can be considered to be a complex chaotic network, with trillions of signals passing through it at any moment as groups of neurons fire\n together. In resting states, large areas of the cortex are synchronized with older areas of the brain which produce slower rhythms. In task situations, local groups work independently with faster rhythms produced in the cortex. They also communicate with other groups, at various distances and locations to cooperate on tasks and share information.","O cérebro humano pode ser considerado como uma rede complexa caótica, com trilhões de sinais que passam através dele, a todo momento com grupos de neurônios ativando juntos. Em estados de repouso, grandes áreas do córtex são sincronizadas com áreas mais antigas do cérebro (que produzem ritmos mais lentos). Em situações de demanda, grupos locais trabalham de forma independente, com ritmos mais rápidos produzidos no córtex. Eles também se comunicam com outros grupos, em várias distâncias e locais para cooperar em tarefas e partilhar informação.  ","El cerebro humano puede considerarse una red caótica compleja, con trillones de señales que pasan a través de éste en cualquier momento como grupos de neuronas que se disparan juntas. En Estados de descanso, amplias zonas de la corteza se sincronizan con áreas del cerebro mas primitivas las cuales producen ritmos más lentos. En situaciones de trabajo o tareas, los grupos locales trabajan independientemente con ritmos más rápidos producidos en la corteza. También se comunican con otros grupos, a diferentes distancias y ubicaciones para cooperar en las tareas y compartir información.  \n","Il cervello umano può essere considerato come una complessa rete caotica, con miliardi di segnali che lo attraversano in ogni momento quando gruppi di neuroni scaricano insieme. Negli stati di riposo, grandi aree della corteccia sono sincronizzate con aree del cervello più arcaiche che producono ritmi lenti. Nelle situazioni di compito, gruppi locali di neuroni lavorano indipendentemente producendo ritmi più veloci nello strato di corteccia più esterno. Essi inoltre comunicano con altri gruppi di neuroni, a diverse distanze e siti per collaborare a compiti e condividere informazioni. "]
["EXS",null,"The cortex, like most chaotic systems, tends to evolve certain “habits” in how it acts and responds to inputs.  These “stable activation patterns” form the\n basis for much of how we act, feel, learn and perform. They can have an impact on stress responses and how our bodies operate as well.  Brain training focuses on identifying—and changing—such habits when they are no longer effective. The  goal of training is not necessarily to change brain patterns but to increase the range of options, flexibility in shifting up and down the scale and capacity to sustain patterns long enough to perform tasks.","O córtex, como a maioria dos sistemas caóticos, tende a desenvolver certos \"hábitos\" na forma como ele age e responde aos estímulos. Estes \"padrões de ativação estáveis\" formam a base para  grande parte do modo como agimos, sentimos, aprendemos e desempenhamos nossas atividades. Eles podem ter um impacto sobre as respostas ao estresse, bem  como a forma como nossos corpos funcionam. O treinamento do cérebro se concentra na identificação e mudança de tais hábitos quando eles não são mais eficazes.  O objetivo do treinamento não é necessariamente mudar os padrões cerebrais. Ele busca  aumentar a gama de opções, a  flexibilidade para mudar de ondas mais rápidas para mais lentas (e vice versa) e a capacidade de sustentar os padrões em tempo suficiente para executar as tarefas."," La corteza, como los sistemas más caóticos, tiende a crear ciertos \"hábitos\" en cómo actúa y responde a los estimulos.  Estas formas de \"patrones de activación estables\" forman la base para gran parte de cómo actuamos, sentimos, aprendemos y hacemos las cosas. Pueden tener un impacto en las respuestas al estrés y cómo nuestros cuerpos funcionan en sí.  El Entrenamiento Cerebral se centra en la identificación — y cambios —de tales  hábitos cuando ya no son eficaces.  El objetivo del Entrenamiento no es necesariamente cambiar los patrones del cerebro mas bien es aumentar la gama de opciones, flexibilidad de desplazamiento hacia arriba y abajo en la escala, y la capacidad de mantener patrones por tiempo suficiente para realizar las tareas.  ","La corteccia, come la maggior parte dei sistemi caotici, tende a sviluppare certe \"abitudini\" nel modo in cui esso agisce e risponde agli input. Questi \"pattern stabili di attivazione\"  formano la base molte delle nostre azioni, sentimenti, performance. Possono avere un impatto sulle risposte da stress ed anche su come il nostro corpo funziona. L'allenamento cerebrale di concentra sull'identificazione - e il cambiamento - di tali abitudini quando esse non sono più efficaci. L'obiettivo del training non è necessariamente di modificare i pattern cerebrali, quanto di aumentare la gamma di opzioni, la flessibilità e la capacità di sostenere i pattern tanto a lungo per portare a termine i compiti. "]
["EXS",null,"Results of training the middle-frequency patterns related to awareness and presence—the resting-ready observer state—can often be measured over the\n course of training.  Peak frequency, blocking alpha at task, etc. may show stable changes from beginning to end of training.  But coherence, frequency and balance training are not about removing a pattern but about improving access to additional ones. The client’s steady-state may change little, but what he can do and in what situations can change significantly.","Os resultados do treinamento dos padrões de frequência média relacionados com consciência e presença-o estado observador relaxado e em prontidão- muitas vezes pode ser medido ao longo do treinamento. A freqüência pico, o bloqueio de alfa em tarefa, etc. podem apresentar alterações estáveis do início ao fim do treinamento. O treino de coerência, frequência e  equilíbrio não são para remover um padrão, mas para melhorar o acesso a outros padrões adicionais. O  funcionamento estável do cliente pode não mudar muito, mas o que ele pode fazer e, em que situações, pode mudar significativamente. \n","Los resultados del entrenamiento de los patrones de frecuencias medias relacionadas con la conciencia y presencia — estado de observador en reposo listo para responder  — puede medirse a menudo sobre el transcurso del entrenamiento.  La frecuencia pico, bloqueando alfa en la tarea, etc. pueden mostrar cambios estables desde principio hasta el final del entrenamiento.  Pero los entrenamientos de coherencia, frecuencia y balance no trata sobre eliminar un patrón sino de mejorar el acceso a otros patrones adicionales. El estado estacionario del cliente quizás no cambie mucho, pero lo que puede hacer y en cuáles situaciones puede, cambia significativamente.  ","I risultati dei training sui pattern di onde a media frequenza collegati a consapevolezza e presenza - lo stato di osservatore in riposo ma pronto - possono spesso essere misurati nel corso del training. La frequenza picco, il blocco di alfa in condizione di compito ecc. possono mostrare cambiamenti stabili dall'inizio alla fine del training. Ma i training di coerenza, frequenza e bilanciamento non finalizzati a rimuovere un pattern, bensì ad aggiungerne di nuovi. Lo stato stabile del cliente potrebbe non cambiare molto, ma quello che lui può fare e in quali situazioni lo può fare  può cambiare in modo significativo. "]
["EXS",null,"The following are the findings of this assessment in the areas of brain energy levels (Frequency Patterns), their distribution within the brain (Symmetry\n Patterns) and the ability of cortical areas to operate independently and to share information efficiently (Connectivity Patterns).  ","A seguir estão os resultados encontrados nesta avaliação  sobre os níveis de energia nas áreas cerebrais (Padrões de Freqüência), sua distribuição dentro do cérebro (Padrões de Simetria) e a capacidade das áreas corticais de operar e compartilhar informações de forma independente e eficiente (Padrões de Conectividade).  ","Los siguientes son los resultados de esta evaluación en las áreas del cerebro de niveles de energía (Patrones de Frecuencia), su distribución dentro del cerebro (Patrones de Simetría) y la capacidad de las áreas corticales para operar independientemente y compartir información de manera eficiente (Patrones de Conectividad). ","Ciò che segue sono i risultati dell'assessment nelle aree dei livelli di energia cerebrale (Pattern di Frequenza), la loro distribuzione all'interno del cervello (Pattern di Simmetria) e la capacità delle aree corticali di operare indipendentemente e condividere informazioni in modo efficiente (Pattern di Connettività). "]
["EXS",null,"Where a brain pattern is found, the areas are identified, and the effects these patterns may have on mental/physical states are stated.  The Whole-Brain\n Training Plan produced in this assessment is a recommended set of where and what to train to help break up identified “energy habits” and allow the brain to establish a new, more functional set.","Quando um padrão cerebral é encontrado, as áreas são identificadas, e os efeitos que esses padrões podem ter sobre os estados mentais são demonstrados. O plano Whole Brain-Training produzido nesta avaliação é um conjunto recomendado de onde e o que treinar para ajudar a romper \"hábitos energéticos\" identificados  e permitir que o cérebro estabeleça um conjunto de padrões novo, mais funcional."," Aquí se expresan en dónde se encuentra un patrón cerebral, se identifican las áreas, y los efectos que estos patrones puedan tener sobre los estados mentales. El Plan de Entrenamiento para Todo el Cerebro producido en esta evaluación es un conjunto de recomendaciones de dónde y qué entrenar para ayudar a romper los \"hábitos de energía\" identificados y permitir al cerebro a establecer un conjunto nuevo y más funcional.","Dove viene identificato un pattern cerebrale, vengono identificate le aree, e vengono specificati gli effetti che questi pattern potrebbero avere sugli stati mentali. Il Piano di Training Globale del Cervello prodotto in questo assessment è un set di raccomandazioni su dove e cosa allenare  per aiutare a scalfire o modificare le \"abitudini\" che sono state identificate e permettere al cervello di stabilore un nuovo e più funzionale set di pattern. "]
["EXS",null,null,null,null," "]
["EXS",null,"Frequency Patterns","Padrões de Frequência","PATRONES DE FRECUENCIA:","PATTERN DI FREQUENZA"]
["EXS",null,"Cortical neurons fire at different speeds (frequencies), which represent different energy levels. Fast-dominant brains continue firing at working speeds,\n even when there is no work to do, wasting energy; slow-dominant brains are unable to activate to perform cortical tasks for very long.  Frequency patterns show us the ability of the brain to idle when appropriate and to activate necessary areas when there is a task.","Neurônios corticais disparam em velocidades diferentes (frequências), que representam diferentes níveis de energia. Cérebros com predomínio de ondas rápidas continuam disparando em velocidades de trabalho, mesmo quando não há trabalho a fazer, o que gera desperdício de energia.  Cérebros com predomínio de ondas lentas são incapazes de ativar para realizar tarefas corticais por muito tempo. Padrões de freqüência nos mostram a capacidade do cérebro de ficar em \"ponto morto\" quando apropriado e para ativar as áreas necessárias quando há uma tarefa.","Las neuronas corticales disparan a diferentes velocidades (frecuencias), lo cual representan diferentes niveles de energía. Los cerebros de dominancia rápida siguen disparando a velocidades de trabajo o tarea, incluso cuando no hay trabajo que hacer, desperdiciando energía; los cerebros de dominancia lenta son incapaces de activar por mucho tiempo la ejecución de tareas corticales. Los patrones de frecuencia nos muestran la capacidad del cerebro de mantenerse en reposo cuando sea apropiado y activar las áreas necesarias cuando hay una tarea.","I neuroni corticali scaricano a diverse velocità (frequenze), che rappresentano diversi livelli di energia. I cervelli con dominanza di frequenze veloci consitnuano a scaricare a velocità di lavoro, anche quando non c'è nessuna attività da svolgere, sprecando quindi energia; i cervelli dominati da frequenze lente non riescono ad attivarsi per svolgere compiti corticali di lunga durata. I pattern di frequenza ci mostrano l'abilità del cervello di girare al minimo nel momento appropriato e di attivare le aree necessarie quando c'è dell'attività da svolgere.  "]
["EXS",null,"This brain shows no dominant frequency pattern. "," Este cérebro não mostra nenhum padrão de freqüência dominante.","Este cerebro no muestra patrón de frecuencia dominante. ","Questo cervello non mostra un pattern di dominanza di frequenza."]
["EXS",null,"Fast-Dominant Brain ","Cérebro Dominado por Ondas Rápidas","Cerebro de Dominancia Rápida","Cervello con dominanza di onde veloci "]
["EXS",null,"This brain is dominated by high-frequency activity related to logical/rational thought and language-based processing. Dominance of this pattern may result in stress responses, need to control, anxiety, irritability, sleep disturbances and tendency to block feelings.","Este cérebro é dominado pela atividade de frequências altas, que têm relação com o   pensamento lógico / racional e processamento baseado na linguagem. A dominância desse padrão pode resultar em  respostas estressantes, necessidade de controle, ansiedade, irritabilidade, distúrbios do sono e tendência em bloquear sentimentos.","Este cerebro está dominado por la actividad de frecuencias altas relacionadas con el pensamiento lógico/racional y el procesamiento basado en el lenguaje. La dominancia de este patrón puede dar lugar a respuestas de estrés, necesidad de controlar, ansiedad, irritabilidad, trastornos del sueño y tendencia a bloquear los sentimientos.","Questo cervello è caratterizzato dalla dominanza di attività ad alta frequenza collegata a pensiero logico/razionale e da un tipo di processamento delle informazioni a base verbale-linguistica. La dominanza di questo tipo di pattern può risultare in risposte da stress, bisogno di controllo, ansia, irritabilità, disturbi del sonno e tendenza a bloccare le emozioni. "]
["EXS",null,"Fast-Dominant Scoop Pattern","Padrão \"Escavado\" Dominado por Ondas Rápidas ","Patrón de dominancia rápida “Cuchareado”","Pattern “a conca” con dominanza di onde veloci "]
["EXS",null,"This brain does not produce middle frequencies. Ability to be still and quiet is limited; ability to manage the interface between outside and inside world in more demanding situations is easily overwhelmed. Tendency toward distraction by external activity and impulsivity in busy situations.  Often very sensitive to external stimuli (sounds, tags in shirts, etc.) Commonly experience sleep onset insomnia, very active sleepers, bruxism, etc.  Potential for allergies and asthma.","Esse tipo de cérebro não produz frequências médias. A capacidade de se manter calmo e quieto é limitada;  a habilidade de gerir a interface entre o mundo exterior e o interior em situações mais exigentes é facilmente sobrecarregada.  Há tendência à distração por estímulos externos e à impulsividade. Muitas vezes, são muito sensíveis à estímulos externos (sons, etiquetas de camisetas, etc.) É comum ter insônia no início do sono, sono muito agitado, bruxismo, etc. Tem tendência à alergias e asma.","El cerebro no produce frecuencias medias. La capacidad de estar quieto y tranquilo y es limitada; la capacidad de manejar la interfaz entre el mundo exterior e interior en situaciones más exigentes es fácilmente abrumada. Tendencia a la distracción por actividad externa e impulsividad en situaciones congestionadas. A menudo presenta alta sensibilidad a los estímulos externos (sonidos, etiquetas en camisetas, etc.) Comúnmente experimentan insomnio al inicio del sueño, bruxismo, dormidas muy activos, etc. Proclives a alergias y asma.","Il cervello non produce frequenze medie. L’abilità di rimanere fermo e tranquillo è limitata; la capacità  di gestire l’interfaccia tra mondo interno ed esterno nelle situazioni più impegnative viene facilmente sopraffatta Tendenza alla distraibilità verso stimoli esterni e all’impulsività in situazioni impegnative. Spesso molto sensibile alle stimolazioni esterne (suoni, erichette nelle camicie…) Possono essere presenti difficoltà di addormentamento, sonno molto agitato, bruxismo, etc.  Predisposizione ad allergie ed asma. "]
["EXS",null,"Hot Temporal Lobes","Lobos Temporais Quentes","Lóbulos Temporales Caliente","Lobi temporali sovraattivati."]
["EXS",null,"These often relate to high levels of stress and anxiety, racing thoughts, fast speech, easily startled, sometimes auditory sensitivity and difficulty with listening. May awaken frequently during night or sleep without being rested.  Sites and bands showing hot include ","Esses padrões muitas vezes referem-se a altos níveis de estresse e ansiedade,  pensamento acelerado, discurso rápido, facilidade para se assustar, às vezes com dificuldade ou excesso de sensibilidade auditiva. Pode ter tendência a despertar frequentemente durante a noite ou ter sono pouco reparador. Pontos e bandas que mostram que está quente: ","Esto a menudo se relaciona con altos niveles de estrés y ansiedad, bombardeo de pensamientos, habla rápido, se sobresalta fácilmente, a veces experimenta sensibilidad auditiva y dificultad para escuchar. Puede despertarse con frecuencia durante la noche o dormir sin descansar. Los sitios y bandas que muestran las áreas calientes incluyen: ","Questa caratteristica spesso è correlata ad alti livelli di stress ed ansia, pensieri che si rincorrono, eloquio veloce, facilità a trasalire, talvolta a sensibilità uditiva e difficoltà ad ascoltare. Possono essere presenti frequenti risvegli notturni o sonno non ristoratore. I siti e le bande di frequenza che mostrano l'eccessiva attivazione includono "]
["EXS",null,"Right-side Disconnect","Desconectado no lado direito","Desconexión del lado derecho","Disconnessione destra"]
["EXS",null,"This pattern may indicate an early experience of abuse—a sense of being unable to protect against unwanted intrusive behaviors by another. May result in flat emotional responses to positive memories (recalled only as stories) and explosive, regressive emotional response triggered by current events that remind of (often unremembered) negative memories.","Esse padrão pode indicar uma experiência precoce de abuso - sensação de ser incapaz de se proteger contra comportamentos desagradáveis e intrusivos vindo do outro. Pode resultar em respostas emocionais planas para memórias positivas (recordadas apenas como histórias) e resposta emocional reflexiva explosiva, desencadeada por eventos atuais que lembrem memórias negativas (muitas vezes esquecidas).","Este patrón puede indicar una experiencia de abuso a temprana edad - sensación de ser incapaz de protegerse contra comportamientos intrusos desagradables por otras personas. Puede resultar en respuestas emocionales planas a memorias positivas (recordado solamente como historias) y respuesta regresiva emocional explosiva desencadenada por eventos actuales que recuerdan las memorias negativas (que a menudo se han olvidado).","Questo pattern può indicare un’esperienza precoce di abuso – senso di non essere in grado di proteggersi da comportamenti spiacevoli ed intrusivi da parte degli altri. Può risultare in risposte emozionali appiattite in risposta a memorie positive (che vengono rievocate solo come storie) ed in risposte esplosive ed emozionalmente regressive scatenate da eventi presenti che richiamano memorie negative (spesso non ricordate)."]
["EXS",null,"Left-side Disconnect","Desconectado no lado esquerdo","Desconexión del lado izquierdo","Disconnessione sinistra"]
["EXS",null,"This pattern may indicate early experience of neglect—a sense of not receiving nurturing when desired. May result in flat emotional responses in general; memories are “stories” but without emotional content.  May lead to depression over time.","Esse padrão pode indicar experiência precoce de negligência-sentimento de não ter recebido carinho quando precisou. Pode resultar em respostas emocionais planas em geral; memórias são \"histórias\", mas sem conteúdo emocional. Pode levar à depressão ao longo do tempo.","Este patrón puede indicar experiencia de abandono a temprana edad - sensación de no haber recibido los cuidados en la crianza cuando se deseaban. Puede resultar en respuestas emocionales planas en general; los recuerdos son \"historias\" pero sin contenido emocional. Puede conducir a la depresión con el tiempo.","Questo pattern può indicare una precoce esperienza di abbandono – un senso di non ricevere nutrimento affettivo quando desiderato. Può risultare in risposte emozionali appiattite in generale; le memorie sono “storie” senza contenuto emotivo. Può portare a depressione nel tempo. "]
["EXS",null,"Hot Right-Rear Quadrant","Quadrante Direito Traseiro Quente","Cuadrante Derecho Posterior Caliente","Quadrante posteriore destro sovraattivato "]
["EXS",null,"This area of the brain is expected to be least activated and most integrative. In this brain the Right-Rear Quadrant ranks * in speed among the 4 and is among the most activated in this brain.  This is consistent with high levels of anxiety, often with perfectionism, and with insomnia or “terminal insomnia” (waking after a period of sleep and being unable to sleep again). ","É esperado que essa área do cérebro seja menos ativada e mais integrativa. Neste cérebro o Quadrante Direito Traseiro está ordenado * como o mais ativado dentre os 4 quadrantes deste cérebro.  Isto pode estar relacionado com altos níveis de ansiedade, muitas vezes com  perfeccionismo, e com \"insônia terminal\" (despertando após um período de sono e sendo incapaz de voltar a dormir novamente).","Se espera que esta área del cerebro sea menos activa y más integradora. En este cerebro el cuadrante posterior derecho presenta * de velocidad entre los 4 y se encuentra entre la más activa en este cerebro. Esto es consistente con altos niveles de ansiedad, a menudo con el perfeccionismo y con \"insomnio terminal\" (se despierta después de un período de sueño y no se puede volver a dormir otra vez.) ","Quest'area del cervello dovrebbe essere minimamente attivata e maggiormente integrativa. In questo cervello il Quadrante Posteriore Destro si classifica * in velocità tra i 4 ed è tra i più attivati.  Questo pattern è coerente con alti livelli di ansia, spesso con perfezionismo, e con \"insonnia terminale\" (risvegli dopo un periodo di sonno seguiti dall’impossibilità di riaddormentarsi). "]
["EXS",null,"High frontal alpha peak frequency","Frequência Pico Frontal em Alfa Rápida ","Frecuencia Pico de Alfa Frontal Alta","Frequenza dominante alfa alto frontale "]
["EXS",null,"Alpha peak frequency at 10 Hz is important to the brain’s ability to operate efficiently, performing routine tasks in auto-pilot mode, and to idle in a resting-ready state between tasks.  Alpha peaks in the rear of the brain may be higher than 10, but in the front faster peaks often relate to anxiety and feeling driven. This brain shows fast frontal alpha peaks at ","A frequência pico de alfa em 10 Hz é importante para a capacidade do cérebro em funcionar de forma eficiente, realizando tarefas de rotina no modo \"piloto automático\" e para manter um estado de \"repouso em prontidão\" entre as tarefas. Picos de alfa na parte traseira do cérebro podem ser maiores do que 10, mas picos mais rápidos nas áreas frontais frequentemente referem-se a sensação de ansiedade e de estar sendo levado pelas emoções (com um impulso emocional mais forte do que o cérebro pode controlar). Este cérebro mostra picos rápidos de alfa frontal em ","La frecuencia pico de alfa de 10 Hz es importante para la capacidad del cerebro para funcionar eficientemente, realizando tareas rutinarias en el modo de piloto automático y poder colocarse en un estado de descanso entre tareas. El pico de Alfa en la parte posterior del cerebro puede ser superior a 10, pero en la parte frontal picos más rápidos a menudo se relacionan con ansiedad y sentirse impulsado. Este cerebro muestra picos de alfa rápido frontales en ","La frequenza dominante di alfa a 10 Hz è importante per l'abilità del cervello ad operare efficientemente, per svolgere compiti routinari in modalità automatica, e di girare a regimi minimi in uno stato di rilassata prontezza tra compiti. I picchi di alfa nella parte posteriore del cervello possono essere maggiori di 10, ma nella parte frontale picchi più veloci spesso correlano con ansia e urgenza ad agire . Questo cervello mostra picchi di alfa veloce frontale in "]
["EXS",null,"High beta peak frequency","Frequência Pico em Beta Rápida","Frecuencia Pico de Beta Alta","Frequenza dominante di beta veloci"]
["EXS",null,"Beta operates in several bands, including 12-15Hz, 15-19Hz, 19-23Hz and 23-38Hz. This fastest group is not generally functional; it is more related to hyper-vigilance and trauma-based fear. High beta peak frequencies indicate a greater share of hibeta.  Fast beta peaks are shown at ","Beta funciona em várias bandas: 12-15Hz, 15-19Hz, 19-23Hz e 23-38Hz. Este grupo mais rápido é, em geral, não funcional. Ele está mais associado à hiper-vigilância e medo baseado em trauma. Frequências  pico em beta rápida indicam uma maior parcela de beta rápida. Picos em beta rápida são mostrados em ","Beta funciona en varias bandas, incluyendo 12-15Hz, 15-19Hz, 19-23Hz y Hz 23-38. Este grupo más rápido no es generalmente funcional; se relaciona más con hipervigilancia y miedos basados en traumas. Las frecuencias pico de Beta alta indican una mayor proporción de hibeta. Los picos de Beta rápida se muestran en ","Beta opera in diverse bande, inclusi  12-15Hz, 15-19Hz, 19-23Hz and 23-38Hz. Questo gruppo più veloce generalmente non è funzionale; è più correlato a ipervigilanza e paura derivante da un trauma. Frequenze dominanti di beta alto indicano una maggiore partecipazione di beta alte.  Si rilevano picchi di beta alto in "]
["EXS",null,"Low Theta/Beta ratios","Razão Teta/Beta Baixa","Cociente Theta/Beta Bajo","Rapporto Theta/Beta basso "]
["EXS",null,"Theta/beta ratio measures the relationship between sub-conscious and conscious processes. Low ratios show dominance of Beta (conscious) and can correlate with stress, anxiety, sensitivity, thinking-over-feeling. This brain shows these patterns at ","A razão Teta / Beta mede a relação entre os processos sub-conscientes e conscientes. Baixos índices mostram dominância de Beta (consciente)  e pode estar relacionada com  estresse, ansiedade, sensibilidade, predomínio da razão sobre a emoção. Este cérebro mostra esses padrões em ","\"El Cociente theta/beta mide la relación entre los procesos inconscientes y conscientes. Cocientes bajos muestran predominio de Beta (consciente) y pueden correlacionarse con estrés, ansiedad, sensibilidad, pensamiento-sobre-sentimiento. Este cerebro muestra estos patrones en ","Il rapportoTheta/beta misura la relazione tra i processi del subconscio e quelli del conscio. Rapporti bassi mostrano una dominanza di Beta (conscio) e possono correlare con stress, ansia, sensibilità, eccessiva riflessività. Questo cervello mostra questo pattern in "]
["EXS",null,"Additional patterns","Padrões adicionais","Muestras adicionales ","Ulteriori pattern"]
["EXS",null,"While this brain is not dominated by high-frequency activity the following patterns were found which are commonly associated with a fast dominant brain:","Apesar deste cérebro não ser dominado por atividade de alta frequência, foram encontradosos os seguintes padrões que são comumente associados com um cérebro dominado por ondas rápidas:","Mientras este cerebro no es dominado por actividad de alta frecuencia, las muestras siguientes fueron encontradas las cual son comúnmente asociadas con un cerebro de dominio rápido:","Sebbene non si rilevi una dominanza di attività delle onde ad alta frequenza, sono stati rilevati i seguenti pattern, che comunemente sono associati a cervelli con dominanza di onde veloci:"]
["EXS",null,"While this brain is not dominated by high-frequency activity the following pattern was found which is commonly associated with a fast dominant brain:","Apesar deste cérebro não ser dominado por atividade de alta frequência, foram encontradosos o seguinte padrão que é comumente associados com um cérebro dominado pro ondas rápidas:","Mientras este cerebro no es dominado por actividad de alta frecuencia, la muestra siguiente fue encontrada la cual es comúnmente asociada con un cerebro de dominio rápido. ","Sebbene non si rilevi una dominanza di attività delle onde ad alta frequenza, è stato rilevato il seguente pattern, che comunemente è associato a cervelli con dominanza di onde veloci:"]
["EXS",null,"Areas showing hot include ","Áreas quentes aparecem em ","Las áreas mostrando zonas calientes incluyen ","Aree che mostrano una eccessiva attivazione: "]
["EXS"]
["EXS",null,null,null,null," "]
["EXS",null,"Slow-Dominant Brain","Cérebro Dominado por Ondas Lentas","Cerebro de Dominancia Lenta","Cervello con dominanza di onde lente"]
["EXS",null,"This brain is dominated by low-frequency activity related to creative/intuitive thought and image-based processing. Dominance of this pattern may result in difficulty staying focused on external experience, problems with reading or listening for factual information and organizing thoughts in written or spoken form. Sleep tends to be easy and deep but waking up can be difficult without feeling rested. Children may wet the bed. May be emotionally depressed, with low energy and a negative world view, helpless and hopeless.","Este cérebro é dominado pela atividade de baixa frequência relacionada com o pensamento criativo / intuitivo e com o processamento baseado em imagem. A dominância desse padrão pode resultar em dificuldade em ficar focado na experiência externa,  problemas com a escuta ou a leitura de informações factuais e com a organização de pensamentos na forma escrita ou falada. O Sono tende a ser fácil e profundo, mas o despertar pode ser difícil e com a sensação de não estar descansado. As crianças podem ter tendência a urinar na cama. Pode estar relacionado com níveis de energia baixos, uma visão de mundo negativa, impotente, sem esperança ou até mesmo com depressão.","Este cerebro está dominado por la actividad de frecuencias bajas relacionadas con el pensamiento intuitivo/creativo y procesamiento basado en imagen. La dominancia de este patrón puede resultar en dificultad para mantenerse enfocado en experiencias externas, problemas con la lectura o escuchando información fáctica y organizando ideas en forma escrita o hablada. El sueño tiende a ser fácil y profundo pero la despertada puede ser difícil sin sentirse descansado. Los niños pueden mojar la cama. Puede ser emocionalmente deprimido, con baja energía y una visión del mundo negativa, indefenso y sin esperanza.","Questo cervello è dominato da un’attività a bassa frequenza, correlata a pensieri creativi/intuitivi e da un tipo di processamento delle informazioni a base visivo-immaginativa. La dominanza di questo pattern può risultare nella difficoltà a rimanere concentrato sull’esperienza esterna, in problemi di lettura o ascolto di informazioni fattuali e nell’organizzare i pensieri in forma scritta o verbale. L'addormentamento tende ad essere facile e il sonno profondo ma il risveglio può essere difficile e con una sensazione di non essere riposati. Nei bambini si può verificare enuresi notturna. Può essere presente depressione emotiva, bassa energia e visione del mondo negativa, senza speranza e sensazione di essere incapace."]
["EXS",null,"Low alpha peak frequency","Frequência pico de alfa baixa","Frecuencia Pico de Alfa Baja","Frequenza dominante alfa basso "]
["EXS",null,"Alpha peak frequency at 10 Hz is important to the brain’s ability to operate efficiently, performing routine tasks in auto-pilot mode, and to idle in a resting-ready state between tasks.  Alpha peaks below 10 Hz are common in small children and older adults and often relate to difficulty with word-finding, slower response times, lower mood states and a feeling of mental fogginess. This brain shows slow alpha peaks at ","A freqüência pico de alfa em 10 Hz é importante para a capacidade do cérebro em funcionar de forma eficiente, realizando tarefas de rotina no modo \"piloto automático\" e para  um estado de \"repouso em prontidão\" entre as tarefas. Picos de alfa abaixo de 10 Hz são comuns em crianças pequenas e idosos e, muitas vezes referem-se a dificuldades em \"encontrar a palavra\", com tempos de resposta mais lentos, estados de humor mais baixos e uma sensação de confusão mental. O cérebro mostra picos baixos de alfa em ","La frecuencia Pico de Alfa de 10 Hz es importante para la capacidad del cerebro para funcionar eficientemente, realizar tareas rutinarias en modo de piloto automático y colocarse en un estado de descanso entre tareas. Los Picos de Alfa por debajo de 10 Hz son comunes en los niños pequeños y adultos mayores y a menudo se relacionan con dificultad en la búsqueda de palabra, tiempos de respuesta más lento, estados de ánimo más bajos y una sensación de confusión mental. Este cerebro muestra picos alfa lentos en","La frequenza dominante di Alfa a 10 Hz è importante per la capacità del cervello di operare in modo efficiente, svolgere compiti routinari in modo automatico, e per girare a regimi minimi negli stati di rilassata prontezza tra un compito e l'altro. La dominanza di alfa sotto 10 Hz è comune nei bambini piccoli e negli anziani e spesso correlano con difficoltà nel trovare la parola, tempi di risposta più lenti, umore basso e sensazione di nebulosità mentale. Questo cervello mostra picchi di alfa lento in"]
["EXS",null,"Low overall peak frequency","Frequência pico global baixa","Frecuencia Pico General Bajo","Frequenza dominante bassa generalizzata "]
["EXS",null,"Overall peak frequency is a measure of general brain speed. Low peaks indicate a dominance of slow frequencies. This is consistent with difficulties in maintaining external focus, difficulty with detail and language processing, potentially depressed, low energy affect. This brain shows slow peak frequencies at ","Frequência pico global é uma medida da velocidade geral do cérebro. Picos baixos indicam uma dominância de frequências lentas. Isto é consistente com dificuldades em manter foco externo, dificuldade com detalhes e processamento de linguagem, depressão em potencial e afetos com baixo nível de energia. Este cérebro mostra frequências pico lentas em ","La frecuencia pico general es una medida de la velocidad general del cerebro. Picos bajos indican un predominio de las frecuencias lentas. Esto es consistente con las dificultades para mantener el enfoque externo, dificultad con el detalle y procesamiento del lenguaje, potencialmente deprimido, baja energía. Este cerebro muestra frecuencias pico lentas en ","La frequenza dominante globale è una misura della velocità generale del cervello. Picchi bassi indicano una dominanza  delle basse frequenze. Questo è correlato con difficoltà nel mantenere il focus esterno, difficoltà con l'elaborazione di dettagli e del linguaggio, potenzialmente depressione, scarsa energia. Questo cervello mostra frequenze picco basse in "]
["EXS",null,"High Theta/Beta ratios","Razão Teta/Beta alta","Cocientes Theta/Beta Altos","Rapporti Theta/Beta alti"]
["EXS",null,"Theta/beta ratio measures the relationship between sub-conscious and conscious processes.  High ratios show dominance of Theta (access to the subconscious) and can correlate with internal focus of awareness, image-based processing at the expense of language-based, intuitive thinking rather than logical/sequential and difficulty with details. This brain shows these patterns at ","A razão teta/ beta mede a relação entre os processos subconscientes e conscientes. Altos índices de razão mostram dominância de Teta (acesso ao subconsciente) e pode estar relacionada com foco interno de consciência, processamento baseado em imagem e não em linguagem, pensamento intuitivo ao invés de lógico/ seqüencial e dificuldade com detalhes. Este cérebro mostra esses padrões em ","El cociente theta/beta mide la relación entre los procesos inconscientes y conscientes. Cocientes altos muestran predominio de Theta (acceso al subconsciente) y pueden correlacionarse con el enfoque interno de la conciencia, procesamiento basado en imágenes a expensas del basado en el habla, pensamiento intuitivo, más que lógico/secuencial y dificultad con los detalles. Este cerebro muestra estos patrones en","Il rapportoTheta/beta misura la relazione tra i processi del subconscio e quelli del conscio. Rapporti alti mostrano una dominanza di Theta (accesso al subconscio) e possono  correlare con focus di consapevolezza interno, elaborazione basata sulle immagini a spese di quella basata sul linguaggio, pensiero intuitivo piuttosto che logico/sequenziale e difficoltà con i dettagli. Questo cervello mostra tali pattern in "]
["EXS",null,"Slow left-front quadrant","Quadrante esquerdo frontal lento","Cuadrante Frontal Izquierdo Lento","Quandrante frontale sinistro lento"]
["EXS",null,"Frontal brain sites are expected to be more active than rear; left hemisphere sites more than right.  Thus, the left-front quadrant should be the most activated in the brain.  In this brain the LFQuadrant ranks * in speed among the 4. This is consistent with seeing the negatives outweighing positives, helpless/hopeless state and low energy.  Cognitive processing is likely to require great effort to produce even acceptable results.","É esperado que as regiões frontais do cérebro sejam mais ativas do que as de trás; hemisfério esquerdo mais ativado do que o direito. Assim, o quadrante dianteiro esquerdo deve ser o mais ativado no cérebro. Neste cérebro a Quadrante Esquerdo Frontal está ordenado * como tendo a menor ativação os 4. Isto pode estar relacionado com uma tendência à ver as coisas de forma negativa, com estados indefesos / sem esperança e com baixa energia. É provável que o processamento cognitivo exija grande esforço  ao tentar produzir resultados aceitáveis.","Los sitios frontales del cerebro se esperan que sean más activos que la parte posterior; los sitios del hemisferio izquierdo más que el derecho. Así, el cuadrante delantero izquierdo debe ser el  más activo en el cerebro. En este cerebro el CuadranteFI se posiciona * en velocidad dentro de los 4. Esto es consistente con ver el lado negativo sobre los positivos, estado indefenso/desesperado y baja energía. El procesamiento cognitivo es probable que requiera gran esfuerzo incluso para producir resultados aceptables.","I siti frontali dovrebbero essere più attivi rispetto a quelli posteriori; i siti dell'emisfero sinistro più di quelli dell'emisfero destro. Quindi, il quadrante frontale sinistro (QFS) dovrebbe essere quello maggiormente attivo nel cervello. In questo cervello il QFS si qualifica  * in velocità tra i 4. Questo è correlato con la tendenza a vedere le cose in modo negativo, uno stato di impotenza e mancanza di speranza e bassa energia. L'elaborazione cognitiva potrebbe necessitare di un maggiore sforzo per produrre risultati accettabili. "]
["EXS"]
["EXS"]
["EXS"]
["EXS"]
["EXS"]
["EXS",null,"Mid-Dominant Brain","Cérebro Dominado por ondas médias","Cerebro de Dominancia Media","Cervello con dominanza di onde medie"]
["EXS",null,"This brain is dominated by mid-frequency activity related to an idling state. While this pattern is expected, especially in the rear of the brain with eyes closed, failure of the brain to block middle frequencies with eyes open or at task can result in difficulty with processing. Information seems to “go in one ear and out the other”. Cognitive processing, attention and memory can be negatively affected.","Este cérebro é dominado pela atividade de frequências médias que são relacionadas com um estado de \"marcha lenta\". Este tipo de padrão é  esperado na parte de trás do cérebro com os olhos fechados, mas precisa ser bloqueado com a abertura dos olhos. A falha do cérebro em bloquear frequências médias com os olhos abertos ou em tarefa pode resultar em dificuldade de processamento. As informações costumam entrar no cérebro sem serem percebidas ou processadas, como se \"entrassem por um ouvido e saíssem pelo outro\". O processamento cognitivo, a atenção e a memória podem ser afetados negativamente.","Este cerebro está dominado por actividad en la frecuencia media relacionado con un estado de descanso activo. Mientras que este patrón es esperado, sobre todo en la parte posterior del cerebro, y con los ojos cerrados, fallas del cerebro para bloquear estas frecuencias medias con los ojos abiertos o en tareas puede ocasionar dificultades con el procesamiento. La información parece \"ir de un oído y al otro\". La memoria, la atención y el procesamiento cognitivo pueden verse afectados negativamente.","Questo  cervello è dominato da un'attività di media frequenza che corrisponde ad uno stato di ipoattività. Questo pattern è desiderabile ad occhi chiusi, ed in particolare nella parte posteriore del cervello, mentre il mancato blocco delle frequenze medie ad occhi aperti o in condizione di compito può risultare in difficoltà di processamento. Le informazioni sembrano entrare da una parte ed uscire dall'altra. L'elaborazione cognitiva, l'attenzione e la memoria possono esserne influenzate negativamente. "]
["EXS",null,"This pattern can be related—especially when combined with slowing of the alpha peak and strong alpha in the front of the brain—with a kind of anesthesia effect, where emotions are blunted or blocked. It can result in chronic feelings of pain or fatigue as well.","Este padrão pode estar relacionado (especialmente quando combinado com a diminuição da frequência pico de alfa e com alfa forte na parte frontal do cérebro) com uma espécie de efeito de anestesia, em que as emoções estejam embotadas ou bloqueadas. Isso pode resultar também em sentimentos crônicos de dor ou cansaço.","Este patrón puede estar relacionado con — especialmente cuando se combina con el enlentecimiento del pico de alfa y el alfa fuerte en la parte frontal del cerebro - con una especie de efecto de anestesia, donde las emociones son bloqueadas o embotadas. Puede resultar en sentimientos de dolor crónico o fatiga también.","Questo pattern - specialmente se combinato con il rallentamento di dominanza alfa e con grande intensità di alfa nella parte frontale del cervello - può essere collegato a una sorta di effetto anestetico, in cui le emozioni sono smorzate o bloccate. Ciò può risultare in dolore o affaticamento cronico.  "]
["EXS",null,"Alpha blocking","Bloqueio de Alfa","Bloqueo de alfa","Blocco di Alfa"]
["EXS",null,"Alpha is usually found most strongly with eyes closed. With eyes open, amplitudes are expected to fall by 30-50%. Alpha levels should not rise at task. Failure to block alpha with eyes open may result from extensive meditation practice, though in such cases blocking should occur at task. Frequent extended use of marijuana and some other substances can also relate to poor alpha blocking.  This pattern may also result from gray-matter brain injuries as described above. This brain shows areas where alpha levels remain significantly high with eyes open or at task at ","Alpha é normalmente mais fortemente encontrado com os olhos fechados. Com os olhos abertos, suas amplitudes devem cair por 30-50%. Níveis de alfa não devem subir em tarefa. A falta de bloqueio de alfa com os olhos abertos pode ser resultado de extensa prática de meditação, embora em tais casos o bloqueio deva ocorrer em tarefa. Uso prolongado frequente de maconha e outras substâncias também podem se relacionar com pouco bloqueio de alfa. Este padrão também pode ser resultado de lesões cerebrais de matéria cinzenta, tal como descrito acima. Este cérebro mostra áreas onde os níveis de alfa permanecem significativamente elevados com os olhos abertos ou tarefa em ","Alfa se encuentra generalmente más fuertemente con los ojos cerrados. Con los ojos abiertos, las amplitudes se esperan que caigan en un 30-50%. Los niveles de alfa no deben elevarse en la tarea. El no bloquear alfa con los ojos abiertos puede provenir de una práctica de meditación extensa, aunque en tales casos el bloqueo debe ocurrir haciendo una tarea. El frecuente uso prolongado de marihuana y algunas otras sustancias también puede relacionarse con pobres bloqueo de alfa. Este patrón también puede resultar de lesiones cerebrales en la materia gris como se describió anteriormente.","Normalmente l'attività Alfa è maggiore ad occhi chiusi. Ad occhi aperti, le ampiezze dovrebbero diminuire del 30-50%. I livelli di Alfa non dovrebbero aumentare durante un compito. La mancata diminuzione di Alfa ad occhi aperti potrebbe derivare da una estesa pratica di meditazione, sebbene in questi casi il blocco dovrebbe verificarsi in condizione di compito. Anche l'uso frequente ed intensivo di marijuana ed altre sostanze può causare un blocco di Alfa scarso. Questo pattern può corrispondere anche a danni della materia grigia come sopra descritto. "]
["EXS"]
["EXS"]
["EXS",null,"Midline","Linha Média (Sagital)","Línea Media","Linea mediana"]
["EXS",null,"The sagittal line separates right and left hemispheres. Its frequency pattern may differ from them because a structure called the cingulate gyrus runs beneath it from the front to rear of the brain. This line contains the anterior cingulate, the vertex and the default-mode network.","A linha sagital separa os hemisférios direito e esquerdo. Seu padrão de frequência pode ser diferente do deles, porque uma estrutura chamada giro do cíngulo corre abaixo dela de frente para trás no cérebro. Esta linha contém o cingulado anterior, o vértice (Cz) e a rede de modo padrão.","La línea sagital separa los hemisferios derecho e izquierdos. Su patrón de frecuencia puede diferir de ellos debido a una estructura llamada la circunvolución o giro cingular funciona por debajo desde el frente hasta la parte posterior del cerebro. Esta línea contiene la parte anterior del cíngulo, el vértice y la red de modo predeterminado.","La linea sagittale separa i due emisferi. I suoi pattern di frequenza possono differire tra loro poichè c'è una struttura chiamata giro cingolato che si estende al di sotto di essa, dalle aree frontali alle aree posteriori. Questa linea contiene il cingolato anteriore, il vertice e il Default-Mode Network."]
["EXS",null,"This brain does not show significant midline patterns.","Este cérebro não mostra padrões de linha média significativos.","Este cerebro no muestra patrones significativos de la línea media.","Questo cervello non mostra pattern di linea media significativi. "]
["EXS",null,"Anterior Cingulate","Cingulado Anterior","Cíngulo Anterior:","Cingolato anteriore:"]
["EXS",null,"This structure is involved in both cognitive and emotion-driven tasks. The cingulate is activated when competing sensory inputs must be screened, it helps the brain resolve conflicts between inputs, it manages the process of error detection and experiences rewards and losses. It appears to manage emotional reactions to pain (not the pain itself). It also seems to regulate the flow of emotional material from the sub-cortical brain to the prefrontal cortex.","Esta estrutura está envolvida com tarefas cognitivas e guiadas pela emoção. O cíngulo é ativado quando inputs sensoriais concorrentes precisam ser selecionados. Ele  ajuda o cérebro, a resolver conflitos entre os estímulos,  gerencia o processo de detecção de erros e de vivência de recompensas e perdas. Parece gerenciar reações emocionais à dor (não a dor em si). Parece também regular o fluxo de material emocional proveniente do cérebro emocional sub-cortical para o córtex pré-frontal.","Esta estructura participa tanto en tareas cognitivas como las basadas en las emociones. El Cíngulo se activa cuando las entradas sensoriales que compiten deben ser examinadas, ayuda al cerebro a resolver conflictos entre las entradas, maneja el proceso de detección de errores y experiencias de recompensas y pérdidas. Parece manejar las reacciones emocionales al dolor (no el dolor por si solo). También parece regular el flujo de material emocional del cerebro subcortical a la corteza prefrontal.","Questa struttura è coinvolta sia nei compiti cognitivi che guidati dalle emozioni. Il cingolato si attiva quando devono essere analizzati input sensoriali concorrenti, aiuta il cervello a risolvere conflitti tra diversi input, guida il processo di rilevazione dell'errore ed è sensibile alle ricompense e alle perdite. Sembra avere un ruolo nella gestione delle reazioni emotive al dolore (non del dolore in sé). Sembra anche coinvolto nella regolazione del flusso del materiale emozionale dalle aree subcorticali verso la corteccia prefrontale. \n\n"]
["EXS",null,"This brain shows a “hot” cingulate, with levels of high frequency activation higher than the hemispheres on either side. This pattern is consistent with an emotional style known as Denial. Emotional drive is blocked from becoming part of awareness. A hot cingulate may be consistent with obsessive thinking, compulsive activities, phobias or addictions.","Este cérebro mostra um cingulado \"quente\", com níveis de ativação de frequência alta maior do que os hemisférios de cada lado. Este padrão é consistente com um estilo emocional conhecido como negação. O fluxo emocional é impedido de se tornar consciente. O cingulado quente pode estar relacionado com pensamentos obsessivos, atividades compulsivas, fobias ou vícios.","Este cerebro muestra un cíngulo \"caliente\", con niveles de activación de las frecuencias altas,  superiores a los hemisferios de cada lado. Este patrón es consistente con un estilo emocional conocido como negación. El impulso emocional está bloqueado para convertirse en parte de la conciencia. El cíngulo Caliente puede ser consistente con pensamiento obsesivo, actividades compulsivas, fobias o adicciones.","Questo cervello mostra un cingolato \"surriscaldato\", con livelli di attivazione delle alte frequenze maggiori rispetto agli emisferi. Questo pattern è coerente con uno stile emozionale cosiddetto \"di negazione\". La spinta emozionale è bloccata nel prendere parte alla consapevolezza. Un cingolato surriscaldato può correlare con pensiero ossessivo, attività compulsive, fobie o dipendenze. "]
["EXS",null,"This brain shows a “slow” cingulate, with dominant alpha or slow frequency activity. This could be consistent with reduced ability to manage emotions, low motivation, difficulties with screening and decision-making, possibly with depressive feelings.","Este cérebro mostra um cingulado \"lento\", com dominância de alfa  ou de atividade de frequência lenta. Isto pode estar relacionado com  capacidade reduzida de gerir emoções, baixa motivação, dificuldades com a triagem de estímulos e tomada de decisões. É possivel que hajam sentimentos depressivos.","Este cerebro muestra un cíngulo \"lento\", con dominancia de alfa o actividad de frecuencia lenta. Esto podría ser consistente con una capacidad reducida para manejar las emociones, baja motivación, dificultades filtrando y en la toma de decisiones, posiblemente con sentimientos depresivos.","Questo cervello mostra un cingolato \"lento\", con attività dominante di alfa o di basse frequenze. Questo può manifestarsi con una ridotta abilità di gestione delle emozioni, bassa motivazione, difficoltà di screening e decision making, eventualmente con sentimenti depressivi. "]
["EXS",null,"Vertex","Vértex:","Vértice","Vertice"]
["EXS",null,"This central point on the top of the brain is connected to the thalamus and basal ganglia, centers for regulating sensory and motor screening.  Cz is located over the motor cortex and can be useful for motor control and sleep issues.","Este ponto central na parte superior do cérebro é ligado ao tálamo e gânglios da base, centros de regulação sensorial e motora.  Cz está localizado sobre o córtex motor e pode ser útil para o controle motor e problemas de sono.","Este punto central en la parte superior del cerebro está conectado con el tálamo y los ganglios basales, centros de regulación para el filtro sensorial y motor. Cz se encuentra sobre la corteza motora y puede ser útil para problemas de sueño y control motor.","Questo punto centrale sulla parte alta della testa è collegato con il talamo e i gangli della base, centri per la regolazione sensori-motoria. Cz si trova sulla corteccia motoria e può essere utile per il controllo motorio e per problematiche legate al sonno. "]
["EXS",null,"This brain shows slowing at the vertex. This could be consistent with physical impulsivity, poor relaxation physical control, body maintenance issues and distractibility.","Este cérebro mostra desaceleração no vértex. Isto pode estar relacionado com impulsividade física, baixo controle de relaxamento físico,  problemas de manutenção do corpo e distração.","Este cerebro muestra enlentecimiento en el vértice. Esto podría ser consistente con impulsividad física, control físico deficiente en relajación, problemas de mantenimiento del cuerpo y distractibilidad.","Questo cervello mostra un rallentamento al vertice. Questo potrebbe essere coerente con impulsività fisica, scarso rilassamento, controllo fisico, questioni relative alla cura del corpo e distraibilità. "]
["EXS",null,"Default-Mode Network","Default-Mode Network (Rede de Modo Padrão):","Red de Modo Predeterminado:","Default-Mode Network:"]
["EXS",null,"This system is described as “what the brain does when it’s not doing anything.” It involves connections between anterior and posterior cingulate. It is activated when tasks are internally oriented—thinking about oneself, daydreaming, etc.—and de-activated when an external task is the focus. It is more found in open-focus awareness states and less in concentrated closed-focus awareness. ","Este sistema é descrito como \"o que o cérebro faz quando não está fazendo nada.\" Trata-se de conexões entre cingulado anterior e posterior. Ele é ativado quando as tarefas são internamente orientadas, e quando está pensando sobre si mesmo, sonhando acordado, etc.-e desativado quando uma tarefa externa é o foco. Ele é mais encontrado em estados de consciência de foco aberto e menos concentrada em ações de foco fechado.","Este sistema se describe como\" lo que el cerebro hace cuando no está haciendo nada.\" Trata sobre las conexiones entre los cíngulo anterior y posterior. Se activa cuando las tareas están orientadas internamente, pensando en uno mismo, soñando despierto, etc. — y se desactiva cuando el foco  es una tarea externa. Se encuentra más a menudo en los estados de conciencia de enfoque abierto y menos concentrado en el enfoque de conciencia cerrada.","Questo sistema è descritto come \"ciò che il cervello fa mentre non fa nulla\". Si tratta di connessioni tra il cingolato anteriore e posteriore. Si attiva quando i compiti sono orientati internamente - pensare a sè stessi, sogni ad occhi aperti, fantasticheria ecc) e si disattiva quando il focus è su un compito esterno. La sua attivazione è maggiore negli stati di consapevolezza con focus allargato e minore nella consapevolezza con focus stretto. "]
["EXS",null,"This brain shows poor connectivity between default-mode sites in alpha, theta and gamma frequencies. This is consistent with difficulty achieving stillness, limited self-awareness, perhaps fatigue.","Este cérebro mostra baixa conectividade no modo padrão (Default-Mode) entre os pontos nas freqüências de alfa, teta e gama. Isto é ligado com dificuldades em atingir a quietude, auto-consciência limitada, talvez fadiga.","Este cerebro muestra una deficiente conectividad entre los sitios de modo predeterminado en las frecuencias de alfa, theta y gamma. Esto es consistente con dificultad de lograr quietud, auto conciencia limitada, y tal vez fatiga.\"","Questo cervello mostra una scarsa connettività tra i siti di default mode in frequenze alfa, theta e gamma. Questo è coerente con difficoltà nel trovare  stati di tranquillità, una limitata consapevolezza di sé, eventualmente affaticamento.  "]
["EXS"]
["EXS"]
["EXS"]
["EXS"]
["EXS"]
["EXS",null,"Symmetry Patterns","Padrões de Simetria","Patrones de Simetría","Pattern di Simmetria"]
["EXS",null,"Different geographical areas of the brain appear to work best with specific frequencies based on whether their work is integrative or processing.  The left hemisphere produces a brighter, more positive view of experience—it approaches life. It handles routine operations and produces a more focused, detailed picture. The right hemisphere sees things more negatively, in terms of risks—tends toward avoidance. It is involved in responding to novel situations and produces more of a focus on context. ","Diferentes áreas geográficas do cérebro parecem funcionar melhor com freqüências específicas  dependendo se o seu trabalho for integrativo ou de processamento. O hemisfério esquerdo gera uma visão mais brilhante, mais positiva da experiência- que traz vida. Ele lida com as operações de rotina e produz uma imagem mais focada, detalhada. O hemisfério direito vê as coisas de forma mais negativa, em termos de riscos -tendendo a evitar. Ele está envolvido na resposta a situações novas e foca mais no contexto.","Diferentes áreas geográficas del cerebro parecen funcionar mejor con frecuencias específicas basadas en si su trabajo es integrativo o de procesamiento. El hemisferio izquierdo produce una visión más brillante, más positiva de la experiencia — se acerca a la vida. Maneja las operaciones de rutina y produce una imagen más precisa y detallada. El hemisferio derecho ve las cosas más negativamente, en términos de riesgos — tiende a evitar. Está involucrado en la respuesta a situaciones novedosas y produce más un foco en el contexto.","Diverse aree geografiche del cervello sembrano lavorare meglio con frequenze specifiche in base al fatto che siano deputata a funzioni integrative o di processamento. L'emisfero sinistro produce una visione più brillante e positiva dell'esperienza - tende verso la vita. Gestisce le operazioni routinarie e produce un quadro più focalizzato e dettagliato. L'emisfero destro vede le cose in modo più negativo, in termini di rischio - tende all'evitamento. E' coinvolto nella risposta a situazioni nuove e focalizza maggiormente sul contesto.  "]
["EXS",null,"The rear of the brain receives and integrates sensory information from senses into a unified, constantly changing picture of experience which is sent to the prefrontal cortex.  The front of the brain processes this material and organizes actions.","A parte de trás do cérebro integra informações de sentidos e produz uma imagem unificada em constante mutação, de experiências que são enviadas para o córtex pré-frontal. A parte frontal do cérebro processa este material e organiza ações.","La parte posterior del cerebro recibe e integra información sensorial de los sentidos en una imagen de la experiencia unificada, la cual cambia constantemente, y es enviada a la corteza prefrontal. La parte frontal del cerebro procesa este material y organiza las acciones.","La parte posteriore del cervello integra informazioni dai sensi e produce un'immagine dell'esperienza unificata, in costante cambiamento che viene inviata alla corteccia prefrontale. La parte anteriore del cervello elabora questo materiale e organizza l'azione. "]
["EXS",null,"Asymmetries between front vs. rear and left vs. right sites for levels of integrative (alpha) and processing (beta) frequencies can correlate with a variety of mood and performance issues.","Assimetrias entre frente vs. trás e esquerda vs. direita para  níveis de frequências integrativos (alpha) e de processamento (beta)  podem correlacionar-se com uma variedade de problemas de humor e desempenho.","Asimetrías entre los sitios en las partes delantera vs. posterior e izquierda vs. derecha para niveles de frecuencias de integración (alfa) y procesamiento de (beta) pueden correlacionarse con una variedad de problemas de desempeño y estado de ánimo.","Asimmetrie tra siti anteriori-posteriori e tra siti destra-sinistra per quanto riguarda i livelli di frequenze integrative (alfa) e di elaborazione (beta) possono correlare con una varietà di problemi legati all'umore ed alla prestazione. "]
["EXS",null,"This brain does not show significant symmetry patterns."," Este cérebro não mostra padrões de simetria significativos.","Este cerebro no muestra patrones de simetría significativa.","Questo cervello non mostra pattern di simmetria significativi. "]
["EXS",null,"Right faster than left hemisphere","Hemisfério direito mais rápido que o esquerdo","Hemisferio Derecho más rápido que el izquierdo ","Emisfero destro più veloce del sinistro "]
["EXS",null,"The right hemisphere is expected to be less activated than the left, but in this brain it is more activated. This is often related with anxiety, irritability and, if the levels are high, anger management issues. The following sites show this pattern: ","É esperado que o hemisfério direito seja menos ativado do que o esquerdo, mas neste cérebro é mais ativado. Isso é, muitas vezes, relacionada com ansiedade, irritabilidade e, se os níveis são elevados, dificuldade de controle de raiva. Os seguintes pontos mostram esse padrão: ","El hemisferio derecho se espera que sea que menos activo que el izquierdo, pero en este cerebro se activa más. Esto está relacionado a menudo con ansiedad, irritabilidad y, si los niveles son altos, problemas de manejo de la ira. Los siguientes sitios muestran este patrón:  ","L’emisfero destro dovrebbe essere meno attivato del sinistro, ma in questo cervello risulta maggiormente attivo. Questo è spesso correlato ad ansia, irritabilità e, se i livelli sono particolarmente alti, a problemi di gestione della rabbia. I seguenti siti mostrano questo pattern:  "]
["EXS",null,"Rear Beta Reversal","Inversão de Beta na parte Traseira","Reversión de Beta Posterior","Inversione Beta posteriore"]
["EXS",null,"The rear of the brain is expected to be less activated than the frontal lobe, but in this brain it is more activated. This is often related with anxiety. Sleep onset issues and frequent awakening are common in this pattern. The following sites show this pattern:","É esperado que a parte de trás do cérebro seja menos ativada do que o lobo frontal, mas neste cérebro ela é mais ativada. Isto pode estar relacionado com ansiedade, com dificuldade em pegar no sono e ficar despertando durante a noite. Os seguintes pontos mostram esse padrão: ","Se espera que la parte posterior del cerebro se active menos que el lóbulo frontal, pero en este cerebro se activa más. Esto está a menudo relacionado con ansiedad. Problemas al inicio del sueño y despertadas frecuentes están relacionadas a menudo con este patrón. Los siguientes sitios muestran este patrón: ","La parte posteriore del cervello dovrebbe in genere essere meno attiva del lobo frontale, ma in questo cervello è più attivata. Questo spesso correla con la presenza di ansia. Questo pattern spesso correla anche con problemi di addormentamento e di risveglio. I seguenti siti mostrano questo pattern:  "]
["EXS",null,"Left slower than right hemisphere","Cérebro mais Lento no Hemisfério Esquerdo do que no Direito","Hemisferio izquierdo más lento que el derecho","Emisfero sinistro più lento del destro"]
["EXS",null,"The left hemisphere is expected to be more activated than the right, but in this brain it is less activated. This may result in difficulty setting up and maintaining routines, lack of attention to outside experience.  Language processing may be weak. Tendency toward low energy and depressive feelings. The following sites show this pattern: ","É esperado que o hemisfério esquerdo seja mais ativado do que o direito, mas neste cérebro é menos ativado.Isso pode resultar em falta de atenção à estímulos exteriores, dificuldade em criar e manter rotinas,  Tendência para ter baixa de energia e sentimentos depressivos. O processamento de linguagem pode ser fraco. Os seguintes pontos mostram esse padrão: ","Se espera que el hemisferio izquierdo se active más que el derecho, pero en este cerebro se activa menos. Esto puede resultar en dificultades para establecer y mantener las rutinas, falta de atención a experiencias externas. El procesamiento del habla puede ser débil. Puede presentar tendencia a niveles bajos de energía y sentimientos depresivos. Los siguientes sitios muestran este patrón. ","L'emisfero sinistro dovrebbe essere più attivo del destro, ma in questo cervello è meno attivo. Questo può risultare in difficoltà a instaurare e mantenere attività routinarie e nella mancanza di attenzione verso l’esperienza esterna. Il processamento del linguaggio può essere debole. Tendenza ad avere poca energia e sentimenti depressivi. I seguenti siti mostrano questo pattern: "]
["EXS",null,"Front slower than rear","Cérebro mais Lento na Frente do que Atrás","Parte Frontal más lento que la parte posterior","Aree frontali più lente delle aree posteriori "]
["EXS",null,"Frontal lobes should include the most activated areas of the brain, since they perform executive functions. Posterior brain areas receive sensory information, link it with previous experience and integrate the various sources. Middle and lower frequencies are useful.","Os lobos frontais devem ser as áreas mais ativadas do cérebro, uma vez que desempenham funções executivas. Áreas cerebrais posteriores recebem informações sensoriais, relaciona com experiências anteriores e integra as várias fontes. Freqüências médias e baixas são úteis.","Los lóbulos frontales deben incluir las áreas más activadas del cerebro, ya que realizan funciones ejecutivas. Las áreas posteriores del cerebro reciben información sensorial, lo enlazan con experiencias previas e integran las distintas fuentes. Las frecuencias medias y bajas son útiles.","I lobi frontali dovrebbero comprendere le aree maggiormente attive del cervello, poichè sottostanno alle funzioni esecutive. Le aree cerebrali posteriori ricevono le informazioni sensoriali, le collegano alle precedenti esperienze e integrano le varie fonti. Le frequenze medie e lente sono utili. "]
["EXS",null,"This brain has a front/back reversal because of low frontal activation. Issues with motivation, attention and other executive functions would be consistent with this pattern. Difficulty with processing, making decisions and critical thinking might appear. The following sites show this pattern: ","Este cérebro tem uma inversão entre as partes dianteira / traseira  por causa da baixa ativação frontal. Problemas com motivação, atenção e outras funções executivas seriam consistentes com esse padrão. Dificuldades com o processamento, a tomada de decisões e o pensamento crítico podem aparecer. Os pontos a seguir mostram esse padrão: ","Este cerebro presenta una reversión fronto/posterior debido a la baja activación frontal. Problemas con la motivación, atención y otras funciones ejecutivas serían consistentes con este patrón. Pueden aparecer dificultades con el procesamiento, toma de decisiones y pensamiento crítico. Los siguientes sitios muestran este patrón: ","Questo cervello mostra un'inversione anteriore/posteriore a causa di una bassa attivazione frontale. Con questo tipo di pattern correlano problemi di motivazione, attenzione ed altre funzioni esecutive. Possono essere presenti difficoltà di elaborazione, di decision making e pensiero critico. I seguent siti mostrano questo pattern: "]
["EXS",null,"Left hemisphere alpha dominance","Dominância de alfa no hemisfério esquerdo","Hemisferio izquierdo con predominio de alfa","Dominanza di alfa nell'emisfero sinistro "]
["EXS",null,"This brain shows alpha greater on the left. This correlates with depressed mood, negative view of experience, perhaps difficulty with language processing. The following sites show this pattern: ","Este cérebro mostra mais alfa no lado esquerdo. Isso pode ter relação com humor deprimido, visão negativa da experiência, talvez com dificuldade com o processamento da linguagem. Os pontos a seguir mostram esse padrão:  ","Este cerebro muestra mayor alfa en el izquierdo. Esto se correlaciona con estado de ánimo depresivo, visión negativa de las experiencias, y quizás dificultades con el procesamiento del habla. Los siguientes sitios muestran este patrón: ","Questo cervello mostra una maggiore attività alfa a sinistra. Questo correla con umore depresso, visione pessimistica del mondo, eventualmente difficoltà con l'elaborazione del linguaggio. I seguenti siti mostrano questo pattern: "]
["EXS",null,"Frontal alpha dominance","Dominância de alfa na região frontal","Predominio de alfa frontal","Dominanza di alfa nelle aree frontali"]
["EXS",null,"Frontal alpha reversals can be the result of higher than expected levels of alpha in the front or low levels of alpha in the rear of the brain. ","Inversões de alfa na região frontal podem ser o resultado de níveis mais elevados do que os  esperados de alfa na parte da frente ou baixos níveis de alfa na parte de trás do cérebro.","Las reversiones de alfa frontales pueden ser el resultado de los niveles de alfa mayores a los esperados en la parte delantera o niveles bajos de alfa en la parte posterior del cerebro.","Le inversioni di alfa frontale possono essere il risultato di un livello di alfa frontale maggiore rispetto a quanto atteso oppure di bassi livelli di alfa nella parte posteriore del cervello. "]
["EXS",null,"This brain shows low posterior alpha. This can correlate with anxiety, sleep difficulties and inability to be still inside the mind.  The following sites show this pattern: ","Este cérebro mostra baixa alfa na região posterior. Isso pode estar relacionado com a ansiedade, dificuldades para dormir e incapacidade de ficar dentro da mente. Os pontos a seguir mostram esse padrão: ","Este cerebro muestra alfa posterior baja. Esto se puede correlacionar con ansiedad, dificultades de sueño e incapacidad para estar quieto dentro de la mente. Los siguientes sitios muestran este patrón: ","Questo cervello mostra una bassa attività di alfa nelle aree posteriori. Ciò può correlare con ansia, difficoltà di addormentamento e incapacità di mantenere la mente calma. I seguenti siti mostrano questo pattern: "]
["EXS",null,"This brain shows high frontal alpha levels. This can correlate with depressed mood, a tendency to drift instead of engaging, difficulty maintaining focus, poor working memory and disorganization. The following sites show this pattern: ","Este cérebro mostra níveis elevados alfa na região frontal. Isso pode estar relacionado com humor deprimido, uma tendência ao devaneio ao invés de se envolver, dificuldade em manter o foco, falta de memória de trabalho e desorganização. Os pontos a seguir mostram esse padrão: ","Este cerebro muestra altos niveles de alfa frontales. Esto puede correlacionar con estado de ánimo depresivo, una tendencia a la deriva en lugar de participar, dificultad para mantener atención, pobre memoria de trabajo y desorganización. Los siguientes sitios muestran este patrón: ","Questo cervello mostra alti livelli di alfa frontale. Questo può correlare con umore depresso, una tendenza all'inerzia piuttosto che all'impegno, difficoltà a mantenere la concentrazione, scarsa memoria di lavoro e disorganizzazione. I seguenti siti mostrano questo pattern: "]
["EXS"]
["EXS"]
["EXS"]
["EXS"]
["EXS"]
["EXS",null,"Spike Patterns","Padrões de Pregos:","Patrones de Aumentos Repentinos","Pattern con Punte"]
["EXS",null,"Alpha spikes—dominant bursts of the alpha frequency that are found with eyes open and closed and at task in the same site—are common following a gray-matter injury.  Alpha relates to an idling state, so it is expected to block (reduce 30-50% in amplitude) with eyes open and at task.  When a brain suffers a gray-matter injury, the neuron cell bodies are killed, but they are replaced over time. If the new neurons don’t connect into networks, they remain idling. Training can activate the affected area. Alpha Spkes were measured at ","Pregos de alfa - grandes concentrações que são encontradas com os olhos abertos, fechados e em tarefa no mesmo local são comuns após uma lesão na massa cinzenta. Alfa refere-se a um estado inativo, portanto é esperado que seja bloqueada (redução de 30-50% na sua amplitude) ao abrir os olhos e em tarefa. Quando um cérebro sofre uma lesão na massa cinzenta, os corpos celulares dos neurônios são mortos, mas são substituídos ao longo do tempo. Se os novos neurônios não se conectarem em redes, eles permanecem em \"marcha lenta\". O treinamento pode ativar a área afetada. Este cérebro mostra pregos de alfa em  ","Destellos en alfa — ráfagas dominantes de la frecuencia alfa hallados en los escenarios con los ojos abiertos, cerrados y haciendo tareas en el mismo sitio — son comunes después de una lesión en la materia gris. Alfa se relaciona con un estado de descanso en espera (neutro), por lo que se espera que bloquee (se reduce en un 30-50% en la amplitud) con los ojos abiertos y en tarea. Cuando un cerebro sufre una lesión en la materia gris, los cuerpos celulares de neuronas mueren, pero son reemplazados con el tiempo. Si las nuevas neuronas no se conectan a las redes, se mantienen en ese descanso para ser activadas en cualquier momento. El entrenamiento puede activar la zona afectada. Este cerebro muestra destellos alfa en  ","Punte di Alfa - scariche dominanti della frequenza Alfa che si trovano ad occhi aperti e chiusi e durante un compito nello stesso sito - sono comuni a seguito di un danno della materia grigia. Alfa è connesso ad uno stato di relativa inattività del cervello, quindi ci si aspetta che si blocchi (riduzione di ampiezza del 30-50%) con occhi aperti o durante un compito. Quando un cervello subisce un danno alla materia grigia, i corpi cellulari dei neuroni muoiono, ma col tempo vengono sostituiti. Se i nuovi neuroni con si connettono alle reti, rimangono relativamente inattivi. Il training può attivare le aree coinvolte. Questo cervello mostra punte di Alfa in "]
["EXS",null,"Delta spikes—dominant bursts of the brain’s slowest EEG frequency that are found with eyes open and closed and at task in the same site—are common following a white-matter injury.  Delta relates to the unconscious and is most likely dominant in deep sleep or coma states.  When a brain has suffered white-matter damage, the axons that connect neurons have been torn or sheared off the cell bodies. The neurons are not killed, but they are cut off from communication and they go essentially “off-line”.  EEG Training cannot re-connect them, but in some cases it may quiet the affected area and (with task training) perhaps help establish new connections to perform lost functions. Delta Spkes were measured at ","Pregos de Delta - grandes concentrações de frequência mais lentas do EEG encontradas no mesmo local do cérebro com os olhos abertos, fechados e em tarefa são comuns após uma lesão da substância branca. Delta relaciona-se com o inconsciente e é mais provável que seja dominante em sono profundo ou estados de coma. Quando um cérebro sofreu danos na matéria branca, os axônios que conectam os neurônios foram rasgados ou cortados para fora dos corpos celulares. Os neurônios não estão mortos, mas estão cortados da comunicação e vão ficar essencialmente em \"off-line\". O treinamento não pode voltar a ligá-los, mas em alguns casos, pode acalmar a área afetada e (com treinamentos usando tarefas) talvez ajudem a estabelecer novas conexões para executar funções perdidas. Este cérebro mostra pregos de Delta em ","Incrementos repentinos o destellos en delta —ráfagas dominantes de la frecuencia más lenta del EEG del cerebro que se encuentran en las condiciones con ojos abiertos, cerrados y en tareas en el mismo sitio — son comunes después de una lesión en la materia blanca... Delta se relaciona con el inconsciente y es probablemente dominante en sueño profundo o Estados de coma. Cuando un cerebro ha sufrido daño de la materia blanca, los axones que conectan las neuronas se han rasgado o cortado de los cuerpos celulares. Las neuronas no mueren, pero se corta la comunicación y van esencialmente a \"fuera de línea\". El entrenamiento no puede volver a conectarlas, pero en algunos casos puede calmar la zona afectada y (con entrenamiento haciendo una actividad) quizás ayude a establecer nuevas conexiones para realizar la funciones perdidas. Este cerebro muestra destellos de Delta en ","Punte di Delta — scariche dominanti della frequenza più lenta di tutto l'EEG che si trovano ad occhi aperti e chiusi e durante un compito nello stesso sito - sono comuni in seguito ad un danno alla materia bianca. Delta è connesso con l'inconscio e dovrebbe essere con più probabilità dominante nel sonno profondo o negli stati di coma.  Quando un cervello ha subìto un danno alla materia bianca, gli assoni che collegano i neuroni sono stati lacerati o staccati dal soma cellulare. I neuroni non sono morti, ma sono tagliati fuori dalla comunicazione e sostanzialmente vanno \"off-line\".  Il training non può ricollegarli, ma in alcuni casi potrebbe calmare le aree interessate e (con un training del compito) forse potrebbe aiutare a stabilire nuove connessioni che svolgano le funzioni perse.  Questo cervello mostra picchi di delta in "]
["EXS",null,"HiBeta spikes—dominant bursts of the hibeta frequency found with eyes open and closed at the same site—are often found found on the side of the brain. Hibeta is a hyper-vigilance state, often related to traumatic experience. Training can balance the two sides or reduce extreme over-activation at the spike site.This brain shows Hibeta Spikes at ","Pregos de Beta rápida- picos dominantes da frequência de beta rápida encontrados com os olhos abertos e fechados, no mesmo local-são relacionados com ansiedade e/ou hipervigilância.  Beta rápida é um estado de hiper-vigilância, muitas vezes relacionado com experiência traumática. O treinamento pode equilibrar os dois lados ou reduzir a extrema sobre-ativação no local onde há pregos. Este cérebro mostra pregos de beta alta em","Incrementos repentinos o destellos en HiBeta – ráfagas dominantes de la frecuencia HiBeta encontradas con los ojos abiertos y cerrados en el mismo sitio – son encontrados a menudo a lado del cerebro. HiBeta es un estado de híper-vigilancia, comúnmente relacionado con experiencias traumáticas. Entrenamiento puede equilibrar los dos lados o reducir sobre-activación extrema en el sitio de destellos. Este cerebro muestra destellos de HiBeta en  ","Punte di HiBeta — scariche dominanti nella frequenza hibeta trovate ad occhi aperti e chiusi nello stesso sito - spesso si rilevano lateralmente nel cervello. Hibeta corrisponde a uno stato  di ipervigilanza, spesso correlato ad esperienze traumatiche. Il training può bilanciare i due emisferi o ridurre l'estrema sovra-attivazione nel sito in cui si verificano le punte. Sono state rilevate punte di Hibeta in "]
["EXS"]
["EXS",null,"Connectivity Patterns","Padrões de Conectividade","Patrones de Conectividad","Pattern di Connettivita'"]
["EXS",null,"Brain functions generally involve activation of specific areas, which operate independently and share information efficiently.  Between functions brain areas should ideally shift into lower activation states so as not to waste energy.  The ability to rest between (and during) tasks, to activate and function independently and to cooperate efficiently are determined by measures of connectivity:  Coherence (the stability of a linkage) and phase (the timing of the linkage) in various frequencies.  The combination of coherence and phase is known as Synchrony. Depending on the state and frequency, these values should be higher or lower. ","Funções cerebrais geralmente envolvem a ativação de áreas específicas, que operam de forma independente e compartilham informações de forma eficiente. As áreas do cérebro deveriam, idealmente se manter em estados de ativação mais baixos de modo a não desperdiçar energia. A capacidade de descansar entre (e durante) as tarefas, de ativar e funcionar independentemente e de cooperar de forma eficiente são determinadas por medidas de conectividade: Coerência (a estabilidade de uma conexão) e fase (a simultaneidade de uma conexão), em diversas freqüências. A combinação de coerência e fase é conhecida como Sincronia. Dependendo do estado e frequência, estes valores deverão ser maiores ou menores.","Las funciones cerebrales generalmente involucran la activación de áreas específicas, quienes operan independientemente y comparten la información eficazmente. Entre funciones, las áreas del cerebro idealmente deben cambiar a estados de activación menores para no desperdiciar energía. La posibilidad de descansar entre (y durante) tareas, activar y funcionar independientemente y cooperar eficientemente se determinan mediante medidas de conectividad: Coherencia (la estabilidad de una conexión) y Fase (el momento de conexión) en varias frecuencias. La combinación de coherencia y fase se conoce como Sincronía. Dependiendo del estado y de la frecuencia, estos valores deben ser mayores o menores.","Le funzioni cerebrali generalmente coinvolgono l'attivazione di aree specifiche, che operano indipendentemente e condividono informazioni in modo efficiente. Tra lo svolgimento di una funzione e l'altra le aree cerebrali dovrebbero shiftare verso stati di minore attivazione in modo da non sprecare energia. La capacità di riposare tra (e durante) lo svolgimento di compiti, di attivarsi e funzionare indipendentemente e di cooperare efficientemente è determinata dalla misura della connettività: Coerenza (la stabilità di un collegamento) e Fase (la sincronizzazione del collegamento) nelle varie frequenze. La combinazione di Coerenza e Fase è conosciuta come Sincronia. A seconda dello stato e della frequenza, questi valori dovrebbero essere maggiori o minori. "]
["EXS",null,"This brain does not show significant connectivity issues.","Este cérebro não apresenta problemas de conectividade significativos.","Este cerebro no muestra problemas de conectividad importante.","Questo cervello non mostra problemi di connettività significativi. "]
["EXS",null,"Excessive synchrony","Sincronia Excessiva:","Sincronía excesiva","Sincronia eccessiva"]
["EXS",null,"In working states, cortical areas produce faster beta frequencies which are expected to appear locally in the area performing a task. Unless two sites being measured are working together on a task, synchrony in fast frequencies should be low. When it is found to be high, it is first important to verify that there was not significant muscular tension present during the recording, which can create artifactual high fast-wave synchrony.","Durante uma tarefa, áreas corticais produzem frequências mais rápidas de beta, que são ativadas localmente nas áreas de execução de uma tarefa. A sincronia nas freqüências rápidas deve ser baixa quando dois locais que estão sendo medidos estão trabalhando juntos em uma tarefa. Quando é encontrada uma sincronia elevada, é importante verificar se não houve tensão muscular significativa presente durante a gravação, o que pode criar artefatos de alta sincronia em ondas rápidas.","En estados de actividad, las áreas corticales producen frecuencias de beta más rápidas las cuales se esperan que aparezcan localmente en la zona que está realizando una tarea. Al menos que dos sitios que están siendo medidos estén trabajando juntos en una tarea, la sincronía en las frecuencias rápidas debe ser baja. Cuando se encuentra alta, lo más importante es verificar que no haya habido una tensión muscular significativa presente durante la grabación, lo cual puede crear una alta sincronía falsa en las frecuencias rápidas.","In condizioni di attività, le aree corticali producono frequenze di Beta più veloci, che dovrebbero apparire localmente nell'area che sta eseguendo il compito. A meno che due siti che vengono misurati non stiano lavorando insieme ad un compito, la sincronia nelle frequenze veloci dovrebbe essere bassa. Quando risulta troppo alta, innanzitutto è necessario verificare che non ci sia tensione muscolare significativa durante la registrazione, che potrebbe restituire un artefatto di sincronia di onde veloci."]
["EXS",null,"This brain shows high fast-wave synchrony at the following site pairs:","Este cérebro mostra alta sincronia em ondas rápidas nos seguintes pares de pontos:","Este cerebro muestra alta sincronía en las ondas rápidas en los siguientes pares de sitios: ","Questo cervello mostra un'alta sincronia nelle onde veloci nelle seguenti coppie di siti: "]
["EXS",null,"F3 and F4 which can be related to mental rigidity or obsessiveness, perhaps to anxiety.","F3 e F4 que pode estar relacionado com rigidez mental ou obsessividade, talvez com ansiedade ou dificuldade de coordenação motora fina.","F3 y F4 puede estar relacionados con rigidez mental u obsesiones, tal vez ansiedad o dificultades con la coordinación en la motricidad fina.","F3 e F4 Questo può correlare con rigidità mentale o ossessività , eventualmente ansia o difficoltà con la coordinazione motoria fine. "]
["EXS",null,"C3 and C4 which can be related to excessive physical awareness or rigidity, perhaps difficulties with fine-motor coordination. It is not uncommon to see physical anxiety (panic attacks, migraines, irritable bowel).","C3 e C4 que pode estar relacionado à consciência física excessiva ou rigidez, talvez dificuldades de coordenação motora fina. Não é incomum ver ansiedade física (ataques de pânico, enxaquecas, intestino irritável).","C3 y C4 pueden estar relacionados con la conciencia física excesiva o rigidez, y quizás también con dificultades en la coordinación de motriz fina . No es raro ver ansiedad física (ataques de pánico , migrañas, intestino irritable).","C3 e C4 che possono essere collegati ad eccessiva consapevolezza fisica o rigidità, eventualmente difficoltà con la coordinazione motoria fine.  Non raramente si riscontra ansia (attacchi di panico, cefalea, colon irritabile)."]
["EXS",null,"P3 and P4 which can be related to either difficulty in processing or extreme sensitivity to touch, difficulty with math processing, problems with awareness of self in physical space.","P3 e P4 que pode estar relacionado com dificuldade de processamento ou extrema sensibilidade ao toque, dificuldade com o processsamento matemático, problemas com a consciência de si no espaço físico.","P3 y P4 puede estar relacionada con cualquier dificultad en el procesamiento o extrema sensibilidad al tacto, dificultad con las matemáticas, procesamiento, problemas con la conciencia de uno mismo en el espacio físico.","P3 e P4 Questo può correlare con difficoltà di elaborazione o estrema sensibilità al tatto, difficoltà con l'elaborazione matematica, problemi con la consapevolezza del sè nello spazio fisico. "]
["EXS",null,"O1 and O2 which can be related to either difficulty in processing—or extreme sensitivity to—light and visual stimuli, sleep disturbances, headaches.","O1 e O2 que pode estar relacionado com dificuldade de processamento ou extrema sensibilidade à luz e estímulos visuais, distúrbios do sono, dores de cabeça .","O1 y O2 {datos enlace} puede estar relacionada bien sea con dificultad en el procesamiento o sensibilidad extrema a — luz y estímulos visuales, trastornos del sueño, dolores de cabeza.","O1 and O2 Questo può correlare o con difficoltà di elaborare o con estrema sensibilità alla luce e stimoli visivi, disturbi del sonno, cefalea. "]
["EXS",null,"Low synchrony","Sincronia baixa","Baja sincronía","Bassa sincronia:"]
["EXS",null,"In resting states, cortical neurons can resonate with slow frequencies produced by rhythm generators in the sub-cortical areas.. Since these frequencies come from a single source, their appearance at various sites in the cortex is expected to be highly synchronized. Delta and theta frequencies are considered to be global, generally appearing all over the brain when they are dominant. Alpha frequencies are regional—appearing most clearly in the rear of the brain. Low synchrony levels can be related to injuries or physical disturbances in transmission, but they are often the result of overly excitable brains which burst into beta when there is no task to be done, thus blocking the resonance. ","Em repouso, neurônios corticais podem ressoar com freqüências lentas produzidas por geradores de ritmo nas áreas sub-corticais. Uma vez que estas freqüências vêm de uma única fonte, é esperado que o seu aparecimento em vários locais no córtex seja altamente sincronizado. As frequências delta e teta  são consideradas globais, geralmente aparecendo em todo o cérebro, quando elas são dominantes. As frequências de alfa são regionais, aparecendo mais claramente na parte de trás do cérebro. Os baixos níveis de sincronismo podem estar relacionados com lesões ou distúrbios físicos em transmissão, mas são frequentemente o resultado de cérebros excessivamente excitáveis ​​que ativam beta quando não há nenhuma tarefa a ser feita, bloqueando, assim, a ressonância.","En estados de reposo, las neuronas corticales pueden resonar con frecuencias lentas producidas por generadores de ritmo en las áreas subcorticales... Puesto que estas frecuencias vienen de una sola fuente, se espera que su aparición en varios sitios de la corteza sea altamente sincronizada. Las frecuencias Delta y theta se consideran globales, generalmente aparecen por todo el cerebro cuando son dominantes. Las frecuencias alfa son regionales, aparecen más claramente en la parte posterior del cerebro. Bajos niveles de sincronía pueden estar relacionados con lesiones o alteraciones físicas en la transmisión, pero a menudo son el resultado de cerebros demasiado excitables que han irrumpido en Beta cuando no hay una tarea a realizar, bloqueando así la resonancia.","Negli stati di riposo, i neuroni corticali possono risonare con le basse frequenze prodotte dai generatori di ritmi nelle aree sottocorticali. Poichè queste frequenze vengono da una fonte singola, il loro aspetto nei vari siti  corticali dovrebbe apparire  altamente sincronizzato. Le frequenze Delta e Theta sono considerate globali, generalmente presenti in tutto il cervello quando sono dominanti. Le frequenze Alfa sono regionali ed appaiono più chiaramente nella parte posteriore del cervello. Bassi livelli di sincronia possono correlare con lesioni o perturbazioni fisiche nella trasmissione, ma spesso sono il risultato di cervelli eccessivamente eccitabili che scaricano in Beta quando non ci sono compiti da eseguire, bloccando di conseguenza la risonanza.  "]
["EXS",null,"Low synchrony levels can relate to a brain which wastes energy, thus perhaps resulting in fatigue and sometimes a generalized slowing. They can also indicate inefficiencies in linkage between various sites in the brain, which can affect communication. This brain shows low slow-wave synchrony at ","Baixos níveis de sincronia podem estar relacionados com um cérebro que desperdiça energia, podendo resultar em fadiga e às vezes uma desaceleração generalizada. Eles também podem indicar ineficiências na ligação entre vários locais do cérebro, que podem afetar a comunicação. Este cérebro mostra baixa sincronia de ondas lentas nos pares de pontos a seguir ","Niveles bajos de sincronía pueden relacionarse con un cerebro que desperdicia energía, dando como resultado fatiga y a veces una desaceleración generalizada. También pueden indicar ineficiencias en la vinculación de varios sitios en el cerebro, los cuales pueden afectar la comunicación. Este cerebro muestra baja sincronía en las ondas lentas en los siguientes pares de sitio: ","Bassi livelli di sincronia possono correlare con un cervello che spreca energia, portando come conseguenza affaticamento e talvolta  ad un generale rallentamento. Possono anche indicare inefficienze nei collegamenti tra vari siti cerebrali, cosa che può interferire con la comunicazione.  Questo cervello mostra una bassa sincronia delle onde lente nelle seguenti coppie di siti: "]
["EXS"]
["EXS"]
["EXS"]
["EXS"]
["EXS"]
["EXS"]
["EXS"]
["EXS",null,"Alpha Patterns","Padrões de Alfa","Patrones de Alfa","Pattern Alfa"]
["EXS",null,"Alpha is a crucial brain frequency, since it represents the ability to idle, reducing energy demands, and shift almost immediately into processing states. It can also be considered the bridge between conscious and sub-conscious minds. It allows the brain to operate routine tasks in auto-pilot. ","Alpha é uma freqüência cerebral crucial, uma vez que representa a capacidade de marcha lenta, reduzindo a demanda de energia, e mudar quase imediatamente para estados de processamento. Também pode ser considerada a ponte entre mente consciente e sub-consciente. Ela permite que o cérebro opere tarefas de rotina em piloto automático. \n","Alfa es una frecuencia cerebral crucial, puesto que representa la capacidad de mantenerse activo pero en reposo, reduciendo la demanda de energía, y cambia casi de inmediato a los estados de procesamiento. También puede ser considerada como el puente entre la mente consciente y el subconsciente. Permite al cerebro operar tareas rutinarias en piloto automático. ","Alfa è una frequenza cerebrale cruciale, poichè rappresenta la capacità di mettere il cervello regimi minimi, riducendo la richiesta di energia, e di shiftare quasi immediatamente in stati di elaborazione. Può anche essere considerata il ponte tra mente conscia e  subconscia. Permette al cervello di operare compiti routinari in modo automatico.\n"]
["EXS",null,"Peak frequency ","Frequência Pico","Frecuencia Pico","Frequenza dominante"]
["EXS",null,"This brain shows strongest (peak) alpha activity slower than expected. Peak alpha for adults is expected to be at 10 Hz.  Children of 8 years of age may have alpha peaks around 8Hz. Slower peaks relate to difficulty with working memory, word-finding, sometimes sleep and cognitive brightness. Low peak frequencies are found at ","Este cérebro mostra pico de alfa mais lento do que o esperado. É esperado que o pico de alfa em adultos seja de 10 Hz. Crianças de 8 anos de idade podem ter picos de alfa ao redor de 8 Hz. Picos mais lentos referem-se a dificuldades: com memória de trabalho, em encontrar a palavra certa, às vezes para dormir e com capacidade cognitiva. Picos de baixas frequências  são encontradas em ","Este cerebro muestra una actividad más fuerte (pico) de alfa más lenta de lo esperado. El pico de Alfa en  los adultos se espera que sea 10 Hz. En los niños de 8 años de edad pueden tener picos de alfa alrededor de 8 Hz. Picos más lentos se refieren a dificultades con la memoria de trabajo, encontrar palabras, a veces afecta el sueño y la claridad cognitiva. Las frecuencias con pico bajo se encuentran en ","Questo cervello mostra attività dominante Alfa più lenta di quanto atteso. La frequenza Alfa dominante negli adulti dovrebbe essere 10 Hz. I bambini di 8 anni potrebbero avere una frequenza dominante intorno a 8 Hz. Dominanze più lente correlano con difficoltà nella memoria di lavoro, difficoltà a trovare la parola, talvolta difficoltà di sonno e di vivacità cognitiva. Frequenze dominanti basse sono state trovate in "]
["EXS",null,"This brain shows frontal alpha peaks faster than expected. Peak alpha frequencies for adults are expected to be at 10 Hz.  Children of 8 years of age may have alpha peaks around 8Hz. Faster peaks frontally can relate to anxiety and tendency to control. High peak frequencies are found at ","Este cérebro mostra pico de alfa frontal mais rápido do que o esperado. Frequências Pico de Alfa em adultos devem estar em 10 Hz . Crianças de até 8 anos de idade podem ter  picos de alfa ao redor de 8 Hz . Picos mais rápidos frontalmente podem estar associados com ansiedade e tendência em controlar. Altas frequências pico são encontradas em ","Este cerebro muestra destellos en la frecuencia pico de alfa frontal más rápido de lo esperado. Las frecuencias pico de alfa para adultos se espera que sea 10 Hz. En los niños de 8 años de edad pueden tener pico de alfa en unos 8 Hz. Picos más rápidos en la zona frontal pueden relacionarse con ansiedad y tendencia al control. Frecuencias pico que están altas de se encuentran en ","Questo cervello mostra una dominanza frontale di Alfa più veloce di quanto atteso. La frequenza Alfa dominante negli adulti dovrebbe essere 10 Hz. I bambini di 8 anni potrebbero avere una frequenza dominante intorno a 8 Hz. Dominanze più veloci frontalmente possono correlare con ansia e tendenza al controllo. Dominanze veloci sono state trovate in "]
["EXS",null,"Frontal alpha","Alfa Frontal","Alfa frontal","Alfa frontale"]
["EXS",null,"Alpha is usually found most strongly in the back of the head. When frontal areas are dominated by alpha, cognitive and executive functions tend to be poorly performed. Motivation may be weak. May also appear with anxiety. This brain shows strong frontal alpha with eyes closed and/or eyes open at  ","Alfa é normalmente encontrada mais fortemente na parte de trás da cabeça. Quando áreas frontais são dominadas por alfa, funções cognitivas e executivas tendem a ter desmpenho ruim. Este cérebro mostra forte alfa frontal com os olhos fechados e / ou com os olhos abertos no ","Alfa se encuentra generalmente más fuertemente en la parte posterior de la cabeza. Cuando las áreas frontales están dominadas por alfa, las funciones cognitivas y ejecutivas tienden a realizarse ineficazmente. Este cerebro muestra fuerte alfa frontal con ojos cerrados o los ojos abiertos en ","Normalmente Alfa viene registrato in modo preponderante nella parte posteriore del cervello. Quando le aree frontali sono dominate da Alfa, le funzioni cognitive ed esecutive tendono ad essere performate in modo deficitario. Questo cervello mostra una marcata attività Alfa frontale ad occhi chiusi e/o  aperti in "]
["EXS",null,"The following alpha patterns are found in this brain:","Os seguintes padrões de alfa são encontrados neste cérebro:","En este cerebro se encuentran los siguientes patrones de alfa: "," In questo cervello si trovano i seguenti pattern Alfa: "]
["EXS",null,"No significant alpha patterns are found in this brain.","Este cérebro não mostra padrões de alfa.","Este cerebro no muestra patrones significativos de alfa.","Questo cervello non mostra pattern di  Alfa."]
["EXS"]
["EXS",null,"Sensory-Motor Rhythm Patterns","Padrões de Ritmo Sensório Motor (SMR)","Patrones de Ritmo Sensorio-motor","Pattern Ritmo Sensori-motorio"]
["EXS",null,"The frequency band above alpha (12-15 or 12-16Hz—often centered on 14 Hz) is considered to be the lowest cortically-generated frequency—low beta or beta1. However, when it is found in the sensory-motor cortex (the central strip running across the brain’s front-back midpoint from side to side), it is called Sensory-Motor Rhythm (SMR).","A banda de frequência acima de alfa (12-15 ou 12-16Hz- geralmente com o centro em 14 Hz) é considerada a frequência mais baixa gerada pelo córtex - beta baixa ou beta 1. No entanto, quando é encontrada no córtex sensório-motor (a faixa média central de frente para trás do cérebro e de lado a lado), ela é chamada de Ritmo Sensório Motor (SMR).","La banda de frecuencias por encima de alfa (12-15 o 12-16Hz, centrado a menudo en 14 Hz) se considera la frecuencia más baja generada corticalmente — beta baja o beta1. Sin embargo, cuando se encuentra en la corteza sensorio-motor (el cordón central que atraviesa el punto medio fronto-posterior del cerebro de lado a lado), se denomina Ritmo Sensorio-Motor (SMR).","La banda di frequenza sopra Alfa (12-15 o 12-16 Hz - spesso centrato su 14 Hz) è considerata  la più bassa frequenza generata corticalmente - beta basso o beta1. Ciononostante, quando questa viene registrata sulla corteccia sensori-motoria (la striscia centrale che si estende da un lato all'altro passando per il punto centrale del cervello) viene chiamata Ritmo Sensori-Motorio (SMR)."]
["EXS",null,"The sensory-motor cortex bridges the separating line between the front (motor) and the rear of the brain (sensory), In this area,  sensory and motor information can be linked. It may also be a major site of mirror neurons, which appear to be related to empathy. It is heavily connected to both sensory screening (thalamus) and motor screening (basal ganglia) brain systems.","O córtex sensório-motor segue o sulco central, a linha de separação entre a parte da frente (motora) e a parte de trás do cérebro (sensorial), Nesta área, a informação sensorial e motora costumam se relacionar. Também pode ser um local importante de neurônios espelho, que parecem estar relacionados com a empatia. É fortemente ligado a dois sistemas cerebrais: triagem sensorial (tálamo) e triagem motora (gânglios basais).","La corteza motora sensorial sigue el surco central, la línea de separación entre la parte frontal (motora) y la parte posterior del cerebro (sensorial), en esta área, la información sensorial y motor puede ser unida. También puede ser un sitio importante de neuronas espejo, que parecen estar relacionadas con la empatía. Está fuertemente conectada a ambos sistemas cerebrales, evaluación sensorial (tálamo) y motora (ganglios basales).","La corteccia sensori-motoria segue il solco centrale, la linea che separa la parte frontale (motoria) e  la parte posteriore (sensoriale) del cervello. In quest'area le informazioni motorie e sensoriali si collegano. Potrebbe anche essere la sede principale dei neuroni specchio, che sembrano essere in relazione con l'empatia.  E' fortemente connessa sia con i sistemi di rilevazione sensoriale (talamo) che con quelli motori (nuclei della base). "]
["EXS",null,"This client’s SMR is below the 10-12% target at * with eyes open. The lower the levels at the sensory-motor sites, the more likely one or more of the following problems will be present;","O SMR deste cliente está abaixo da meta de 10-12% no córtex sensório-motor, com os olhos abertos.Quanto mais baixos os níveis, mais provável que os seguintes problemas estejam presentes:","El SMR de este cliente está por debajo de la meta de 10-12% en estos sitios sensorio-motor con los ojos abiertos *. Mientras más bajo este el nivel, lo más probable que uno o más de los siguientes problemas esté presente;","L'SMR di questo cliente è sotto il target del 10-12% a questi siti sensori-motori ad occhi aperti *. All'abbassarsi dei livelli corrisponde una maggiore probabilità che uno o più dei seguenti problemi siano presenti:"]
["EXS",null,"Bursts of SMR during sleep onset are called “sleep spindles”. Low SMR levels are often related to sleep-onset insomnia, bruxism and restless sleep.  ","Grandes ativações de RSM ao tentar dormir são chamados de \"fusos do sono\". Baixos níveis de SMR são muitas vezes relacionados com dificuldade para pegar no sono, bruxismo e sono agitado.","Los destellos de SMR al intentar dormirse se llaman \"husos del sueño\". Niveles bajos de SMR a menudo están relacionados con insomnio al inicio del sueño, bruxismo y sueño inquieto.","Le scariche di SMR che si manifestano quando si cerca di dormire sono chiamate \"fusi del sonno\". Bassi livelli di SMR sono spesso collegati a difficoltà di addormentamento, bruxismo e sonno agitato.   "]
["EXS",null,"SMR has been shown to relate to physical relaxation and control. Poor handwriting, fidgetiness, impulsivity, distractibility and motor coordination issues are common symptoms.","Foi demonstrado que o SMR se relaciona com o controle e relaxamento físico. Caligrafia ruim, inquietação, impulsividade, distração e problemas com coordenação motora são sintomas comuns.","Se ha demostrado que SMR se relaciona con el control y la relajación física. Una escritura pobre, inquietud, impulsividad, distracción y problemas de coordinación motora son síntomas comunes.","È stato dimostrato che SMR correla con il rilassamento e il controllo fisico. Una brutta calligrafia, irrequietezza, impulsività, distraibilità e problemi con la coordinazione motoria sono sintomi comuni. "]
["EXS",null,"Circadian rhythms and hormonal/endocrine functions have responded to training to increase SMR levels.","Os ritmos circadianos e funções hormonal / endócrinas têm respondido bem ao treinamento para aumentar os níveis de SMR.","Funciones hormonal/endocrinas y los ritmos circadianos han respondido al entrenamiento de incrementar los niveles de SMR.","I ritmi circadiani e le funzioni ormonali/endocrine hanno risposto al training per l'aumento dei livelli di SMR."]
["EXS",null,"SMR Training Frequency","Treino de Frequência SMR","Frecuencia de entrenamiento SMR ","Frequenza di training SMR"]
["EXS",null,"Since the client is younger than 15 years, the effective SMR training frequency may be * or lower.","Se o cliente tiver menos de 15 anos a freqüência de treinamento de  SMR eficaz pode ser * ou inferior.","Ya que el cliente es menos de 15 años de edad, la frecuencia de entrenamiento SMR eficaz puede ser  * o más bajo. ","Poiché il cliente ha meno di 15 anni, l'effettiva frequenza SMR di training potrebbe essere * o inferiore"]
["EXS",null,"This client’s SMR is within the 10-12% target at all central sites.","Este cliente está dentro da meta de 10-12% em todos os pontos centrais.","El SMR de este cliente está entre el 10-12% objetivo en todos los sitios centrales. ","Il ritmo SMR di questo cliente è all'interno del target del 10-12% in tutti i siti centrali."]
["EXS",null,"Sleep-onset insomnia","Insônia no início do sono","Insomnio al inicio del sueño","Insonnia (difficoltà di addormentamento)"]
["EXS",null,"Physical hyperactivity","Hiperatividade física","Hiperactividad física","Iperattività fisica"]
["EXS",null,"Medications","Medicações","Medicamentos","Farmaci"]
["EXS",null,"The use of psycho-active medications changes the playing field for brain training.  The addition of chemicals to the brain with the goal of adjusting neurotransmitter levels may change patterns in the assessment. It also may artificially inflate the levels of specific neurotransmitters in the brain. Training often produces such chemical changes as a natural result of how the brain is now operating. The result can be that training may actually appear to produce negative results as levels of a brain chemical that was previously in short supply become excessive due to the combined effect of training and medication.  ","O uso de medicamentos psicoativos muda o campo de atuação para o treinamento do cérebro. A adição de produtos químicos para o cérebro,\n com o objetivo de ajustar níveis de neurotransmissores podem alterar o padrão para a avaliação. Pode também aumentar artificialmente os níveis de neurotransmissores específicos no cérebro. Os treinamentos muitas vezes produzem tais alterações químicas como um resultado natural de como o cérebro passou a funcionar. Com isso pode ser que o treinamento pareça estar produzindo resultados negativos, quando os níveis de uma substância química cerebral que estava anteriormente em falta passam a se tornar excessivos, devido ao efeito combinado de treinamento e medicação.","El uso de medicamentos psico-activos cambia el campo de juego para el entrenamiento cerebral. La adición de productos químicos en el cerebro con el objetivo de ajustar los niveles de los neurotransmisores puede cambiar los patrones en la evaluación. También puede inflar artificialmente los niveles de neurotransmisores específicos en el cerebro. El entrenamiento a menudo produce tales cambios químicos como resultado natural de cómo el cerebro está funcionando ahora. Los resultados pueden ser que el entrenamiento pueda realmente parecer que produzca resultados negativos por los niveles de una sustancia química del cerebro que antes tenia un suministro bajo ahora se convierte en excesivo debido al efecto combinado del entrenamiento y la medicación.","L'uso di sostanze psicoattive modifica il campo di gioco del training cerebrale. L'aggiunta di sostanze chimiche al cervello con l'obiettivo di regolare i livelli dei neurotrasmettitori potrebbe cambiare i patern dell'assessment. Potrebbe anche gonfiare artificialmente i livelli di specifici neurotrasmettitori nel cervello. Il training spesso produce gli stessi effetti chimici come risultato naturale del modo in cui il cervello ora funziona. Come conseguenza può apparire che  il training stia producendo risultati negativi  poichè i livelli di una sostanza cerebrale che prima erano insufficienti diventano eccessivi a causa dell'effetto combinato di training e farmaco. "]
["EXS",null,"Working with medicated clients should only be done after gathering information on the symptoms of over-medication with each of the drugs being taken.  A page with a list of each medication and its indications of over-dosage, is created and referred to throughout the training. As symptoms appear, the client’s physician can be notified and can reduce medication levels as the brain itself takes over.","O trabalho com clientes que usam medicamentos só deve ser feito após o levantamento de informações sobre os sintomas de excesso de medicação de cada uma das drogas que estão sendo tomadas. Uma página com uma lista de cada um dos medicamentos e suas indicações de superdosagem deve ser criada e usada como referência durante o treinamento. Conforme os sintomas aparecerem, o médico do cliente pode ser notificado e pode decidir reduzir os níveis de medicação, conforme o próprio cérebro for assumindo o controle.","Trabajar con clientes medicados sólo debe hacerse después de recolecctar información sobre los síntomas de la sobre-medicación con cada uno de los fármacos que se están tomando. Una página con una lista de cada medicamento y sus indicaciones de sobredosificación, se crea y se hace referencia a lo largo del entrenamiento. A medida que los síntomas aparezcan, el médico del cliente puede ser notificado y puede reducir los niveles de medicación mientras el cerebro mismo se hace cargo.","Lavorare con clienti sotto terapia dovrebbe essere fatto solo dopo aver raccolto informazioni sui sintomi di sovradosaggio per ognuno dei farmaci che vengono assunti. Viene creata una pagina con una lista di tutti i farmaci e le loro indicazioni di sovradosaggio, alla quale si fa riferimento per tutta la durata del training. Al manifestarsi del sintomo, il medico del cliente deve essere informato in modo che possa ridurre il dosaggio del farmaco man mano che il cervello recupera."]
["EXS",null,"Sleep Issues","Problemas de Sono","Problemas de Sueño","Problemi Legati Al Sonno"]
["EXS",null,"Although some long-standing sleep problems—especially when complicated by the use of medications to assist in sleep—can take longer to resolve, improved sleep is often an early response to training.  Where possible, improving sleep should be a high priority for all training, since it can often help to resolve a high percentage of other issues as well.","Embora a melhora do sono seja, muitas vezes, uma resposta rápida ao treinamento, alguns problemas de sono- especialmente aqueles que se\n complicaram pelo uso de longa data de medicação para ajudar a dormir- podem levar mais tempo para serem resolvidos. Sempre que possível, melhorar o sono deve ser a grande prioridade para todo o treinamento já que, muitas vezes, pode ajudar a resolver várias outras questões também.","Aunque algunos problemas de sueño perennes - especialmente cuando se complican por el uso de medicamentos para ayudar a dormir - pueden tomar más tiempo para resolverse, las mejoras en el sueño son a menudo una respuesta temprana al entrenamiento. Cuando sea posible, el mejorar el sueño debe ser una prioridad para todo el entrenamiento, puesto que a menudo puede ayudar a resolver un alto porcentaje de los demás problemas.","Sebbene alcuni problemi di sonno di lunga data - specialmente quando complicati dall'uso di farmaci per risolverli - possano richiedere tempi lunghi per essere risolti, una risposta precoce del training è un miglioramento del sonno. Quando possibile, il miglioramento del sonno dovrebbe essere una priorità di ogni training, poichè può spesso aiutare a risolvere anche un'alta percentuale di altri problemi. "]
["EXS",null,"Exploring sleep should be an important part of the initial interview with the client.  If this was done carefully, this report will include paragraphs on each identified issue and it will tell whether or not the expected brain pattern is present.","Fazer um levantamento detalhado sobre como está o sono deve ser uma parte importante da entrevista inicial com o cliente. Se isso for feito \ncom cuidado, este relatório vai incluir parágrafos sobre cada problema identificado e ele vai dizer se o padrão cérebral esperado  estará presente ou não."," Explorar la calidad del sueño debe ser una parte importante de la entrevista inicial con el cliente. Si esto se hace con cuidado, este informe incluirá los párrafos en cada problema identificado y dirá si está presente o no el patrón cerebral esperado.","Un'indagine sul sonno dovrebbe essere una parte importante dell'intervista iniziale con il cliente. Se questa è stata condotta in modo attento, questo report includerà paragrafi su ogni problema identificato e specificherà se il pattern cerebrale atteso è presente. "]
["EXS",null,"This brain shows the following sleep-related pattern(s):","Este cérebro mostra os seguintes padrões de problemas relacionados com o sono:","Este cerebro muestra los siguientes patrones relacionados con el sueño.","Questo cervello mostra i seguenti pattern relativamente al sonno: "]
["EXS",null,"Sleep-onset Insomnia","Dificuldade em pegar no sono (Insônia inicial)","Insomnio de inicio del sueño:","Insonnia iniziale:"]
["EXS",null,"Does the client go to bed at a reasonable hour and generally fall asleep within 10-20 minutes? This can be related to either of 2 patterns. ","Será que o cliente vai para a cama em uma hora razoável e geralmente adormece dentro de 10-20 minutos? Isto pode estar relacionado com qualquer um dos dois padrões. ","¿El cliente va a la cama a una hora razonable y generalmente se queda dormido dentro de unos 10-20 minutos? Esto puede deberse a cualquiera de los 2 patrones.","Il cliente va a letto ad un'ora ragionevole e generalmente si addormenta entro 10-20 minuti? Questo può essere correlato a 2 pattern. "]
["EXS",null,"Low levels of SMR in the sensory-motor cortex, keep the brain from shifting from drowsiness to physical sleep. Often unsettled or active sleepers; may grind their teeth or have restless legs in bed. ","Níveis baixos de SMR no córtex sensório-motor, mantem o cérebro se deslocando entre sonolência e sono físico. Muitas vezes a pessoa fica muito ativa ou com sono instável; podem ranger os dentes ou ter pernas inquietas na cama. ","Niveles bajos de SMR en la corteza sensorio-motora, mantiene al cerebro de desplazarse de somnolencia a quedarse dormido. Personas que duermen de forma activa o inquieta; pueden apretar sus dientes (bruxismo) o tienen el síndrome de piernas inquietas en la cama.","Bassi livelli si SMR nella corteccia sensori-motoria impediscono al cervello di shiftare dalla sonnolenza al sonno fisico. Spesso sono persone con sonno disordinato o agitato; potrebbero digrignare i denti o avere le gambe senza riposo a letto. "]
["EXS",null,"Fast right-rear quadrant with anxiety can also block sleep onset.","Quadrante posterior direito com excesso de ativação pode aumentar a insônia inicial.","Un cuadrante posterior derecho rápido con ansiedad también puede bloquear el inicio del sueño.","Anche il quadrante posteriore destro veloce con ansia può bloccare l'addormentamento.  "]
["EXS",null,"Terminal Insomnia","Insônia Terminal","Insomnio terminal:","Insonnia terminale:"]
["EXS",null,"Does the client sleep quickly, then wake up after several hours and fail to return to sleep? ","Será que o cliente dorme rapidamente, mas depois acorda várias vezes e não conseguem voltar a dormir?                                                             ","¿El cliente se duerme rápidamente, y luego se despierta después de varias horas y no puede volver a dormirse?","Il cliente si addormenta velocemente, poi si sveglia dopo qualche ora e non riesce a riaddormentarsi? "]
["EXS",null,"This can be related to a fast-dominant brain, especially right-rear quadrant.  In the first or second dream cycle, excessive fast activity wakes the sleeper and, with nothing else to focus on, anxious/fearful/obsessive thoughts take over.","Isso pode ter relação com um cérebro dominado por ondas rápidas, especialmente no quadrante traseiro direito. No primeiro ou segundo ciclo de sonho, a atividade rápida excessiva acorda a pessoas  e a ansiedade / medo / pensamentos obsessivos assumem o controle.","Esto puede estar relacionado con un cerebro de dominancia rápida, especialmente el cuadrante posterior derecho. En el primer o segundo ciclo del sueño, una actividad excesiva de ondas rápidas despierta al sujeto y, con más nada en que centrarse, los pensamientos ansioso/temeroso/obsesivos asumen el control.","Questo può essere collegato a un cervello con dominanza di onde veloci, specialmente nel quadrante destro posteriore. Nella prima o seconda fase del sonno l'eccessiva attività veloce sveglia la persona e, non avendo null'altro su cui focalizzarsi, prendono il sopravvento pensieri ansiosi/di paura/ossessivi. "]
["EXS",null,"Frequent Awakening (light sleep)","Sono Leve","Despertada frecuente (sueño ligero):","Risvegli frequenti (sonno leggero): "]
["EXS",null,"Does the client wake up several or multiple times during a night—often not feeling rested at the end of sleep? ","Será que o cliente acorda várias vezes durante a noite, muitas vezes não se sentindo descansado ao despertar?","¿El cliente se despierta varias o múltiples veces durante la noche, a menudo no se siente descansado al finalizar de dormir?","Il cliente si sveglia alcune o molte volte durante la notte - spesso non sentendosi riposato alla mattina? "]
["EXS",null,"This can be related to a fast-dominant brain.  The sleeper rises into REM but produces so much beta that he awakens. Often these are brief, and the client can sleep easily again, but the blocking of dream sleep may result in fatigue and frustration.","Isto pode estar relacionado com um cérebro dominado por ondas rápidas. A pessoa sobe para o sono REM, mas produz tanto beta que acaba\ndespertando. Muitas vezes, estes intervalos são breves, e o cliente volta a dormir com facilidade, mas o bloqueio constante na parte do sono que gera os sonhos pode resultar em fadiga e frustração.","Esto puede estar relacionado con un cerebro de dominancia rápida. El sujeto sube hasta REM pero produce tanto beta que se despierta. A menudo éstos son breves y el cliente puede dormirse fácilmente otra vez, pero el bloqueo del sueño en la dormida puede resultar en fatiga y frustración.","Questo può essere collegato ad un cervello con dominanza di onde veloci. La persona entra nella fase REM ma produce così tanto Beta da svegliarsi. Spesso queste sono brevi, e il cliente può riaddormentarsi facilmente, ma il blocco del sonno onirico può risultare in frustrazione e affaticamento. "]
["EXS",null,"Non-Restorative Sleep","Sono Não Reparador","Sueño no reparador","Sonno non ristoratore "]
["EXS",null,"May result from the Frequent Awakening pattern. Most often correlates with either of the 2 following patterns.  ","Pode resultar do padrão de despertar com frequência. Na maioria das vezes se correlaciona com dois padrões diferentes. ","Puede producirse por el patrón de Despertadas Frecuentes. Más a menudo se correlaciona con 2 patrones diferentes.","Può risultare dal pattern Risvegli Frequenti. Più spesso correla con 2 diversi pattern. "]
["EXS",null,"Slow-dominant brains may be so limited metabolically that they cannot sustain beta, so they are unable to rise into REM sleep, and psychological restoration doesn’t happen. May sleep very deeply, awaken slowly and never feel rested. May wet the bed as a child. ","Cérebros dominados por ondas lentas podem ser tão limitados metabolicamente que não conseguem sustentar beta e assim não são capazes de subir para o sono REM e a restauração psicológica não acontece. Pode ser que durma profundamente, desperte lentamente e nunca se sinta descansado. Pode ser que molhe a cama como uma criança.","Cerebros de dominancias lentas pueden estar limitados metabólicamente de una manera tal que no pueden sostener beta, así que no son capaces de subir hasta  el sueño  REM, y la restauración psicológica no sucede. Puede dormir muy profundamente, se despierta poco a poco y nunca se siente descansado. Puede mojar la cama de niño.","I cervelli con dominanza di onde lente potrebbero essere talmente limitati dal punto di vista metabolico da non riuscire a sostenere Beta, quindi non sono in grado di entrare nella fase REM, quindi non avviene il ristoro psicologico. Può essere che la persona dorma molto profondamente, si svegli lentamente e non si senta mai riposata. Potrebbe bagnare il letto.   "]
["EXS",null,"Strong slow-alpha patterns which do not block with eyes open can also relate to Alpha-Delta sleep, where the brain is unable to achieve a Delta sleep state during which physical restoration happens. This may correlate with chronic pain or fatigue.","Padrões fortes de alfa lenta, que não bloqueiam com os olhos abertos, também podem estar relacionados com sono alfa-delta, onde o cérebro é incapaz de alcançar um estado de sono delta durante o qual restauração física acontece. Isso pode estar associado com dor crônica ou fadiga.","Patrones fuertes de alfa lenta que no se bloquean con los ojos abiertos también pueden relacionarse con el sueño Alfa-Delta, donde el cerebro es incapaz de lograr un estado de sueño Delta durante el cual ocurre la restauración física. Esto puede correlacionarse con dolor crónico o fatiga.","I pattern di alfa lento molto forte che non si blocca ad occhi aperti possono anche correlare con il sonno Alfa-Delta, in cui il cervello non riesce a raggiungere lo stato di sonno Delta durante il quale avviene il ripristino fisico. Ciò può correlare con dolore cronico o affaticamento cronico. "]
["EXS",null,"Special Issues","Questões Especiais","Temas especiales:","Problemi particolari"]
["EXS",null,"For nightmares, night terrors, sleepwalking, narcolepsy, request assistance with plan.","Para pesadelos, terrores noturnos, sonambulismo e narcolepsia solicite ajuda com o plano.","Para pesadillas, terrores nocturnos, sonambulismo y narcolepsia pedir ayuda con el plan.","Per incubi, terrori notturni, sonnambulismo, narcolessia richiedete assistenza con il piano di trattamento. "]
[".",null,"No significant sleep-related patterns were found in this brain.","Nenhum padrão significativo relacionado ao sono foi encontrado nesse cérebro. ","No se encontraron patrones significativos relacionados con el sueño en este cerebro.","Non sono stati trovati pattern collegati al sonno significativi."]
["."]
["."]
["."]
["."]
["."]
["."]
["."]
["."]
["."]
["WBTP",null,"Whole-Brain Training Plan","Whole-Brain Training Plan (Plano de Treinamento todo o cérebro)","Whole-Brain Training Plan (Plan de entrenamiento del Cerebro Entero) ","Whole-Brain Training Plan (Training di Allenamento Globale del Cervello)"]
["WBTP",null,"The Whole-Brain Training Plan includes 5 Session Blocks, each with up to 3 Exercises. By training 2-3 exercises together with HEG in each session and cycling through the blocks each 5 sessions, all the most important patterns identified in the assessment are addressed--much like training through a series of different body areas in a physical workout schedule.","O Plano de Treinamento The Whole-Brain Training Plan inclui 5 Blocos de Sessões, cada um com até 3 Exercícios. Ao treinar 2-3 exercícios juntamente com HEG em cada sessão e ter feito uma sequência dos blocos a cada 5 sessões, todos os padrões mais importantes identificados na avaliação serão abordados - tal como um treinamento de exercícios físicos em circuito, que treina uma série para cada área do corpo.","El Plan de EntrenamientoWhole-Brain Training Plan incluye 5 Bloques de Sesión, cado uno con hasta 3 Ejercicios. Entrenando 2-3 ejercicios juntos con HEG en cada sesión y recorriendo los bloques de 5 sesiones cada bloque, se concentran en todas las muestras más importantes identificadas en la evaluación – al igual que uno se concentra en diferentes áreas del cuerpo durante un entrenamiento físico.","Il Training di Allenamento Globale del Cervello include 5 blocchi di sessione, ognuno comprendente fino a 3 esercizi. Eseguendo 2-3 esercizi insieme all’HEG in ogni sessione e completando il ciclo di blocchi ogni 5 sessioni, si coprono tutti i pattern identificati nell’assessment – proprio come allenare una serie di aree corporee in un piano di allenamento muscolare."]
["WBTP",null,"Block 1 will be those patterns considered most foundational;","Bloco 1 trabalha os padrões considerados fundamentais;","Bloque 1 será las muestras consideradas las más fundacional; ","Blocco 1: include i pattern considerati più fondamentali;"]
["WBTP",null,"Block 2 will work the sites included in the Salience Network and focus on synchrony;","Bloco 2 trabalha os pontos incluídos em \"Salience Network\" (Rede de Ativação-o modo como o cérebro ativa quando há tarefa e o foco fica mais externo) e em sincronia;","Bloque 2 trabajara los sitios incluidos en la Red de Relevancia y se concentrara en sincronía; ","Blocco 2: lavora sui siti inclusi nella Rete di Salienza  ed è focalizzato sulla sincronia;"]
["WBTP",null,"Block 3 will train the Sensory-Motor cortex;","Bloco 3 treina o córtex sensório-motor;","Bloque 3 entrenara la corteza motor-sensorial;","Blocco 3: allena la corteccia Sensori-Motoria; "]
["WBTP",null,"Block 4 will train the midline of the brain with special focus on the Default-Mode Network;","Bloco 4 trabalha a linha média do cérebro com foco especial em \"Default-Mode Network\" (Rede em Modo Padrão- o modo como o cérebro opera quando não há tarefa e o foco é interno)","Bloque 4 entrenara la línea media del cerebro con enfoque especial en la Red en Modo Automatico; ","Blocco 4: allena la linea mediana del cervello con particolare focus sul Default-Mode Network;"]
["WBTP",null,"Block 5 often trains deep states, though in very slow brains it may train the language systems.","Bloco 5 frequentemente treina estados profundos, embora em cérebros muito lentos possa treinar os sistemas de linguagem.","Bloque 5 comúnmente entrena estados profundos, aunque en cerebros que trabajan muy despacio puede entrenar sistemas de lenguaje. ","Blocco 5: spesso allena gli stati profondi, ma nei cervelli molto lenti potrebbe allenare il sistema linguistico;"]
["WBTP",null,"If a client responds particularly well to specific exercise(s) or block(s), trainer and client may choose to focus more on those after 2-3 cycles through the plan.  If particular exercises (e.g. gamma synchrony) seem to relate to negative effects (e.g. sleep disturbances), they can be removed from the plan.","Se um cliente responde particularmente bem a algum dos exercícios ou a algum bloco específico, o treinador e o cliente podem optar por concentrar-se mais sobre eles, após ter passado por 2-3 ciclos do plano. Se algum exercício em  particular (por exemplo, sincronia de gama) parecer estar relacionado com efeitos negativos (por exemplo, distúrbios do sono), ele pode ser removido do plano.","Si un cliente responde particularmente bien a un(os) ejercicio(s) específico(s) o bloque(s), el entrenador y el cliente pueden optar a centrarse más en esos después de 2-3 ciclos a través del plan. Si los ejercicios particulares (por ejemplo sincronía gamma) parecen relacionarse con efectos negativos (por ejemplo, trastornos del sueño), pueden ser retirados del plan. ","Se un cliente risponde particolarmente bene a uno o più esercizi specifici o uno o più specifici blocchi, il trainer e il cliente possono scegliere di dedicarsi maggiormente a questi dopo 2-3 cicli del Piano. Se esercizi particolari (es. la sincronia Gamma) sembrano essere collegati ad effetti negativi (es. disturbi del sonno), questi possono essere rimossi dal Piano."]
["WBTP",null,"Times for each exercise are not defined. Depending on the length of a training session and the number of exercises in a block, the training period may range from  about 8 minutes to 15-20 for an exercise.  Frequency of training is also not defined. As client/trainer move through the cycles of training, a rule of thumb is that greater frequency (up to 1-2 sessions per day for the first cycle) may be helpful in the beginning.  In following cycles, sessions can be spaced further apart to allow evaluation of how long a response is lasting. By the 3rd of 4th cycle, sessions may be done 2 or even 1 time per week if the client is maintaining the changes between sessions.","O tempo para cada exercício não está definido. Dependendo da duração de uma sessão de treino e o número de exercícios em um bloco, o período de treino poderá variar de cerca de 8 a 15-20 minutos. A frequência de treinamento também não está definida. Conforme o  cliente / treinador vão percorrendo os ciclos de formação, uma regra geral é que uma  frequência maior (até 1-2 sessões por dia para o primeiro ciclo) pode ser útil no início. Nos ciclos seguintes, as sessões podem ser mais espaçadas para permitir a avaliação de quanto tempo uma resposta é duradoura. Após o terceiro ou quarto ciclo, as sessões podem ser feitas duas ou até mesmo uma vez por semana, se o cliente estiver mantendo as mudanças entre as sessões.","El tiempo para cada ejercicio no es preciso. Dependiendo en la duración de una sesión de entrenamiento y el número de ejercicios en un bloque, el periodo de entrenamiento puede variar de unos 8 minutos a 15-20 para un ejercicio. La frecuencia de entrenamiento tampoco es definido. Mientras cliente/entrenador se mueve a través de los ciclos de entrenamiento, la regla general es que mayor frecuencia (hasta 1-2 sesiones por día para el primer ciclo) puede ser útil en el comienzo. En siguientes ciclos, las sesiones pueden con menos frecuencia para permitir una evaluación de cuánto tiempo dura una reacción. Para la tercera del cuarto ciclo, las sesiones se pueden realizar 2 o incluso 1 vez por semana si el cliente está manteniendo los cambios entre las sesiones.","I tempi per ogni esercizio non sono definiti. In base alla lunghezza della seduta e al numero di esercizi in un blocco, la durata dell’allenamento può variare indicativamente dagli 8 ai 15-20 minuti per ogni esercizio. Anche la frequenza non è definita. Una regola generale è che una maggior frequenza (fino a 1-2 sessioni al giorno per il primo ciclo) può essere utile all’inizio. Nei cicli successivi, le sessioni possono essere intervallate da tempi più lunghi per poter valutare quando a lungo gli effetti si mantengono. Al 3° o 4° ciclo, le sessioni possono essere fatte 2 o anche 1 sola volta alla settimana se il cliente mantiene i cambiamenti tra le sessioni."]
["WBTP",null,"The client/trainer may choose, after several cycles, to shift to a series of blocks of Alpha Theta or some other protocol related to synchrony or deep states.","O cliente / treinador pode escolher, depois de vários ciclos, se quer fazer uma série de blocos de Alfa Teta ou algum outro protocolo relacionado com sincronia ou estados profundos.","El cliente/entrenador puede decidir, después de varios ciclos, pasar a una serie de bloques de Alfa Theta o algún otro protocolo relacionado con la sincronía o estados profundos.","Dopo diversi cicli, il cliente/il terapista potrebbe scegliere di dedicarsi a una serie di blocchi di Alfa Theta o ad altri protocolli per la sincronia o gli stati profondi."]
["EXS",null,"Word Application could not be found.","Word Application could not be found.","Word Application could not be found.","Word Application could not be found."]
["EXS",null,"Word Version","Word Version","Word Version","Word Version"]
["EXS",null,"Excel Version","Excel Version","Excel Version","Excel Version"]
["EXS",null,"Findings Font","Findings Font","Findings Font","Findings Font"]
["EXS",null,"Sites Font","Sites Font","Sites Font","Sites Font"]
["EXS",null,"Font Color","Font Color","Font Color","Font Color"]
["EXS",null,"Red           Green          Blue","Red           Green          Blue","Red           Green          Blue","Red           Green          Blue"]
["EXS",null,"Identical Colors","Identical Colors","Identical Colors","Identical Colors"]
["EXS",null,"Bold","Bold","Bold","Bold"]
["EXS",null,"Italic","Italic","Italic","Italic"]

{"sheet":"Raw","index":14,"n_rows":89,"n_cols":71,"rows_kept":89,"cut":false,"hidden":true,"merged":[]}
["RUN","2-4 D  L AVG","4-6 T1 L AVG","6-8 T2 L AVG","8-10 A1 L AVG","10-12 A2 L AV","12-15 B1 L AV","15-19 B2 L AV","19-23 B3 L AV","23-38 HiB L AV","38-42 G L AVG","2-4 D  R AVG","4-6 T1 R AVG","6-8 T2 R AVG","8-10 A1 R AVG","10-12 A2 R AV","12-15 B1 R AV","15-19 B2 R AV","19-23 B3 R AV","23-38 HiB R AV","38-42 G R AVG","D CoV L","T1 CoV L","T2 CoV L","A1 CoV L","A2 CoV L","B1 CoV L","B2 CoV L","B3 CoV L","HiB CoV L","G CoV L","D CoV R","T1 CoV R","T2 CoV R","A1 CoV R","A2 CoV R","B1 CoV R","B2 CoV R","B3 CoV R","HiB CoV R","G CoV R","T/B Pwr L","A/T Amp L","T/B Pwr R","A/T Amp R","Alpha PF L","Alpha PF R","Beta PF L","Beta PF R","Tot PF L","Tot PF R","D Coh","Th Coh","Al Coh","LoB Coh","Be Coh","HiB Coh","G Coh","Beta L","Beta R","Alpha L","Theta L","Alpha R","Theta R","D Phase","T Phase","Al Phase","LoB Phase","Be Phase","HiB Phase","G Phase"]
[null,10.447979411764706,8.123397058823528,6.4981147058823536,13.326376470588233,9.1743558823529412,6.1700235294117647,7.2494588235294115,6.2024764705882331,9.6732058823529421,4.8094117647058798,12.692488235294116,9.8147941176470574,6.5234235294117653,14.20716176470588,9.166091176470589,5.723673529411764,6.5171882352941166,5.2648705882352926,8.5857088235294086,4.5093705882352948,1.8324697058823534,1.2889476470588235,1.0346476470588235,1.9155023529411768,1.3111044117647055,1.1424514705882354,1.6085020588235295,1.1879317647058822,2.543411764705882,1.0415700000000001,2.4166205882352938,1.7005073529411758,1.0311341176470585,1.9543808823529412,1.4538638235294121,0.98462617647058837,1.3497344117647057,1.2411982352941175,2.1782382352941174,0.98997911764705881,9.5379749999999994,2.312432058823529,28.11551764705883,2.2793773529411769,9.5361794117647047,9.4862676470588241,19.970558823529405,21.141264705882353,7.7361617647058818,6.653320588235295,85.833588235294101,81.967235294117629,92.055999999999997,64.408147058823516,40.136164705882351,31.076323529411766,24.113552941176479,9.9002647058823534,8.9024617647058832,15.64051764705882,10.460349999999996,16.221023529411767,11.484432352941177,78.816970588235307,77.813117647058817,87.381794117647075,58.905588235294118,40.850529411764697,36.856529411764697,30.203794117647053]
[]
[]
[null,11.21224358974359,7.8651282051282028,6.3693948717948707,12.933056410256413,8.8435435897435912,6.6827384615384631,5.1828820512820499,4.5386333333333333,6.3236051282051262,2.8564230769230763,13.627592307692307,9.3920769230769281,7.202856410256409,14.88915384615385,9.7628487179487209,7.7988051282051272,5.9986487179487193,4.3029051282051274,6.5545333333333327,2.836179487179487,1.8454728205128197,1.4119079487179489,0.96352048717948724,1.9540243589743587,1.5419074358974358,1.306981794871795,1.0590705128205125,0.97685615384615376,1.6632769230769231,0.58128435897435893,2.2151387179487183,1.5349558974358972,1.1070199999999997,2.2910556410256411,1.5763182051282052,1.6433982051282057,1.1147071794871795,1.0219410256410257,1.6972841025641026,0.60001641025641028,18.44426923076923,2.0332220512820514,29.331437435897442,2.2995135897435901,9.4574358974358965,9.3777230769230755,18.864820512820504,17.871205128205126,6.6637717948717938,6.1966615384615391,91.590538461538443,88.356615384615367,90.122051282051302,74.268205128205139,44.988897435897421,28.914564102564107,29.354664102564112,7.8256615384615387,9.1684282051282082,15.592415384615391,10.725971794871795,17.691810256410253,12.431307692307694,80.591025641025638,81.16138461538462,87.880179487179504,67.858333333333334,43.135358974358986,33.711205128205123,34.070641025641024]
[null,8.439824999999999,6.5312104166666671,5.4529958333333353,8.9504812500000011,6.8814624999999987,5.4312624999999999,4.7434395833333349,3.7847854166666672,6.0821666666666649,2.6851916666666669,10.788533333333335,8.040314583333334,6.2658937499999974,10.757112499999998,8.0646895833333314,6.2198874999999996,5.1306458333333333,4.2724937500000015,5.9928791666666674,2.7973166666666667,1.6306366666666665,1.0096897916666667,1.0819683333333332,1.1104117291666666,1.1639383333333331,0.94729083333333319,0.93020312500000024,0.86779750000000011,1.5865924999999999,0.56659333333333339,1.9456410416666661,1.0314812499999999,1.096624166666667,1.3458945833333333,1.3458177083333334,1.0450120833333332,1.2507437500000003,0.78921479166666686,1.5216020833333335,0.59505979166666678,12.453672083333325,2.2665754166666665,16.894570833333336,2.137369375,9.5026750000000018,9.5891812499999975,19.846458333333331,18.066708333333331,6.8564020833333359,6.6654499999999972,73.437958333333327,83.537541666666641,88.022416666666643,76.315624999999997,49.24831249999999,27.819437499999992,24.342379166666671,6.7262479166666687,7.4669104166666687,10.876358333333334,8.7428208333333313,13.069385416666663,10.258797916666669,76.815937500000004,77.511187499999977,84.609458333333308,66.370333333333306,43.538687500000002,33.565979166666672,33.534458333333347]
[null,9.7756716981132072,7.1279169811320724,5.2013698113207552,4.4157924528301873,4.3568547169811316,4.3722471698113203,4.0146415094339618,3.7604037735849039,6.2956000000000012,2.9627132075471696,10.573801886792454,7.8446320754716981,5.756898113207547,5.7666339622641534,5.0291943396226415,4.7851698113207535,4.7772283018867929,3.8960886792452833,6.8271924528301868,3.2061018867924536,1.8842890566037729,1.4229392452830192,0.88987132075471731,0.84530622641509412,0.6687525660377357,0.89249867924528292,0.91255169811320724,0.84132660377358504,1.6777866037735849,0.67390924528301888,2.1323609433962263,1.4131083018867929,1.0288152830188679,1.0315137735849058,0.77982924528301889,0.9444128301886795,1.0659018867924526,0.95875320754716986,1.7143915094339623,0.62913849056603754,222.26926792452838,1.0554479245283017,43.950661886792446,1.2033241509433963,9.927601886792452,9.5265962264150943,22.09796226415094,21.321320754716982,3.5160679245283015,3.6767396226415099,90.18247169811319,87.425962264150925,79.741924528301908,65.868415094339625,38.518713207547172,35.889313207547175,28.766297924528313,5.9920301886792471,6.6935830188679244,5.9318679245283006,8.555783018867924,7.452349056603774,9.4919943396226429,74.558811320754714,76.694075471698099,81.360867924528307,65.833075471698123,44.071603773584904,33.151716981132076,32.503679245283024]
[null,8.7446512820512812,6.4009410256410266,5.4697666666666676,11.096920512820514,7.6907512820512807,6.5450589743589749,8.9892230769230785,9.6634641025641024,15.818792307692307,7.9490230769230763,15.714579487179485,10.476356410256411,8.1548435897435905,15.56021025641026,9.2189153846153857,6.4342025641025655,5.6724846153846142,4.2308487179487191,6.1269820512820514,3.0153641025641025,1.299583076923077,0.98019230769230781,0.86758051282051274,1.6856556410256411,1.211593846153846,1.075978205128205,1.8262946153846151,2.2902302564102555,4.2682717948717945,1.7780125641025644,2.7323230769230769,1.8335241025641027,1.2657910256410259,2.2168943589743586,1.3706530769230769,1.2226792307692302,1.1398907692307692,0.83774564102564109,1.6812051282051281,0.56457128205128204,12.153170000000001,2.367290769230769,21.043515384615386,2.3131169230769233,9.7932538461538456,9.1970717948717926,23.616769230769226,17.912564102564104,8.6171102564102569,5.2766948717948727,33.249292307692308,23.101051282051277,37.048333333333325,17.969738461538466,11.842921538461539,12.280638461538464,6.2168002564102567,12.576574358974359,8.0319410256410269,13.865843589743585,8.6397205128205119,18.429669230769228,13.604528205128204,49.74292307692307,41.916435897435903,37.232999999999997,31.554128205128201,26.797538461538451,24.089307692307695,23.039846153846153]
[null,8.7170960000000033,6.1868420000000004,5.0588980000000001,6.0904299999999987,5.3908400000000007,6.8103960000000008,9.6163319999999999,11.742727999999994,21.641219999999997,11.097729999999999,13.479079999999996,10.446232000000002,7.3117900000000029,9.6225120000000022,6.5243360000000017,5.8431779999999991,4.568854,3.9624519999999976,5.9472720000000008,2.7812660000000005,1.6511000000000002,1.0578716000000001,0.97048799999999957,1.0343372000000002,0.89512160000000007,1.2484908000000001,2.1402167999999997,2.7489340000000002,5.7398519999999973,2.0061450000000001,2.6665251999999997,1.7351627999999999,1.4503996000000001,1.4665459999999999,1.0637597999999999,1.1680577999999995,1.0342234000000001,0.78402680000000036,1.7008097999999996,0.73190379999999999,2.3792716000000005,1.8974818000000002,29.917895999999995,1.5554188,9.9534859999999981,9.1321460000000005,26.449619999999992,19.20936,23.526067999999999,4.6046179999999994,63.283340000000038,45.838569999999997,27.920995999999995,22.601084,13.981919399999999,11.746880000000003,10.850887999999999,13.875153999999995,7.239656000000001,8.1870519999999996,7.5799399999999979,11.856354,12.331675999999998,45.904740000000004,39.280540000000002,36.473260000000003,31.246240000000004,25.741740000000004,22.961519999999997,22.3413]
[null,9.7549499999999991,6.1442315789473669,5.1900999999999993,10.043952631578948,8.1518868421052666,7.5610078947368411,12.535271052631577,15.35172894736842,22.56034210526316,11.446423684210531,14.291468421052633,10.109710526315789,7.7214763157894728,15.783973684210528,9.0673394736842088,6.7595552631578943,5.6879815789473698,4.191723684210527,6.1429394736842111,2.7629657894736837,1.7283213157894737,1.2584797368421052,1.0415244736842109,1.5681555263157894,1.2274494736842105,1.4094431578947368,2.4650963157894736,2.9519789473684219,5.8567052631578971,2.5525794736842107,2.4098473684210524,1.9875505263157889,1.1255544736842105,1.9688984210526312,1.1779936842105259,1.1831731578947366,1.0257005263157897,0.95957184210526314,1.6001868421052632,0.53028447368421072,1.2622850000000003,2.5686500000000003,41.550534210526308,2.1250205263157897,9.9400499999999994,9.1772184210526344,24.284473684210532,17.736184210526314,18.59857894736842,6.3414947368421055,18.945917368421053,17.004423421052628,33.74473421052631,11.785089473684209,12.376976315789477,8.7873131578947365,8.7557794736842087,18.342447368421055,8.2150473684210539,12.859149999999998,8.1014289473684205,18.092897368421049,13.28886842105263,42.029842105263157,35.694500000000005,36.064421052631566,29.484210526315785,24.530631578947368,22.011526315789471,20.845078947368421]
[null,9.9186175438596482,6.9192561403508774,5.9771964912280682,12.71467192982456,8.9240807017543844,6.6925684210526342,5.164494736842105,4.0227105263157874,5.1616561403508765,2.4756403508771925,10.221259649122809,7.1745631578947373,6.4781631578947358,13.776989473684212,9.4138140350877215,7.5042122807017568,5.8596438596491209,4.1447035087719293,4.9673210526315783,2.3247350877192985,1.4519903508771925,1.1179042105263155,1.2599640350877195,1.9263714035087718,1.5916271929824557,1.3677436842105262,1.00864,0.82314964912280697,1.3023433333333341,0.4943294736842106,1.6969756140350869,1.1196152631578946,1.3307385964912279,2.2079649122807004,1.4926503508771927,1.5085050877192985,1.2203064912280703,0.92581017543859623,1.3606607017543861,0.4595696491228069,17.404636140350878,2.5230649122807014,24.36444473684211,2.5952354385964913,9.8146315789473633,9.7529052631578956,17.043473684210532,16.711491228070177,7.7839684210526316,8.1401578947368414,88.62952631578942,83.527087719298223,88.514368421052623,78.051754385964898,65.297964912280705,42.801421052631582,36.16637192982455,7.9533350877192994,8.959722807017549,15.535003508771934,9.172517543859648,16.630538596491231,9.7931298245614027,88.897122807017553,76.90038596491226,81.217122807017532,70.895894736842095,57.616894736842099,40.826631578947371,39.498684210526314]
[null,8.4647966101694898,6.230471186440675,5.6831186440677959,10.46256779661017,8.2210237288135595,6.1469915254237284,5.0827152542372849,3.9855830508474583,5.4043983050847473,2.4922203389830511,8.5776406779661016,7.1059152542372868,6.1093050847457624,11.691964406779659,9.3429559322033882,7.1849779661016973,5.769993220338983,4.1319813559322052,5.3351033898305067,2.4170084745762712,1.3202720847457623,1.0798784745762711,0.89507008474576277,1.4861752542372881,1.2884922033898303,1.3055986440677967,1.0189825423728811,0.79697830508474554,1.4363837288135592,0.53380711864406782,1.4571491525423728,1.0368387796610168,1.0005127118644068,1.5267408474576269,1.6535577966101696,1.3950311864406779,1.2298950847457628,0.93576576271186462,1.395951355932203,0.50983101694915256,24.194165254237291,2.5630557627118642,16.07685966101695,2.7169367796610171,9.6282593220338963,9.6882999999999999,17.575847457627116,17.185932203389832,7.7116745762711849,8.3344254237288133,86.060016949152526,83.191423728813575,88.1083898305085,79.932593220338987,63.531338983050851,45.21257627118645,36.865806779661014,7.3105728813559292,8.3199271186440669,13.418366101694913,8.3962983050847466,14.924983050847457,9.232266101694913,82.490796610169497,75.240288135593218,82.788830508474604,71.31061016949154,56.593711864406785,41.83777966101696,37.999677966101693]
[null,7.7597983333333334,5.7961966666666678,5.0724016666666669,5.7978883333333355,5.9421616666666646,5.4657433333333332,4.6652783333333323,3.1615499999999992,5.6203599999999989,2.645305,7.7619800000000003,6.2716299999999991,5.4774616666666684,6.7338216666666666,6.8144416666666672,6.5456850000000024,5.4390850000000013,3.3503350000000007,5.2489666666666688,2.3239366666666665,1.2913296666666672,1.0905283333333331,0.8692065000000001,1.0151073500000001,1.039757,1.2476798333333332,1.139956,0.6327001666666664,1.5070350000000003,0.54427166666666649,1.2763618333333335,0.96638249999999981,0.88286200000000004,1.2620393333333335,1.0817388333333329,1.3836745000000004,1.2807556666666668,0.79049333333333327,1.376938833333333,0.43261059999999996,10.140083333333333,1.6662165000000002,9.8772453333333328,1.6882163333333331,10.133479999999999,10.183931666666664,17.885116666666669,16.575383333333338,5.3652183333333348,6.4694549999999982,83.079900000000009,77.304399999999973,79.86371666666669,78.060349999999985,59.591933333333337,41.550299999999993,41.302895000000007,6.7265216666666667,7.7143283333333326,8.0611466666666676,7.7146700000000008,9.3059433333333352,8.1832733333333323,80.446033333333361,73.144099999999995,80.021916666666669,70.490550000000013,56.127883333333344,41.843899999999991,39.215366666666668]
[null,10.079825454545453,7.6213854545454556,6.787963636363636,14.49190727272727,11.323476363636363,6.3854509090909088,5.772380000000001,4.4820581818181813,5.4288327272727273,2.3638836363636364,9.2657563636363651,7.1793072727272724,7.0872654545454541,18.694438181818182,11.915414545454546,9.1942490909090893,8.0630509090909097,4.8124872727272745,5.991976363636363,2.6146090909090907,1.9276076363636359,1.4387849090909086,1.1604729090909096,2.4541743636363633,1.6204072727272731,1.2640621818181814,1.2356994545454547,0.8548699999999998,1.4160460000000001,0.5429329090909093,1.8116456363636364,1.4574499999999997,1.3165454545454547,2.7524799999999998,1.8585141818181818,1.9128729090909082,1.8029532727272728,0.99651036363636336,1.5299978181818179,0.57699927272727269,15.007570727272729,3.1486970909090912,7.7859420000000004,3.7031181818181809,9.6124472727272732,9.5996800000000047,17.448872727272732,16.637981818181817,8.3013163636363636,9.5230490909090921,63.718163636363656,64.748290909090898,48.972392727272727,54.613418181818169,61.950163636363655,72.626599999999982,74.293472727272743,8.2324618181818181,11.812358181818182,17.931259999999995,9.659365454545453,21.522672727272731,9.6237218181818154,61.752054545454548,56.11809090909091,35.020872727272724,49.60589090909091,53.48270909090909,61.21716363636363,63.495545454545464]
[null,9.372996428571426,7.0199821428571409,6.7836839285714294,9.3692464285714276,5.9206285714285718,6.0283392857142859,5.0972749999999989,3.8554375000000007,5.1766035714285712,2.2121714285714282,7.7776428571428573,5.7303000000000015,5.6516499999999983,10.690376785714287,6.8018303571428547,7.3187500000000005,6.1270660714285725,4.0003553571428574,5.6843142857142865,2.448801785714287,1.7885837500000004,1.2924278571428576,1.2495167857142859,1.2961869642857147,0.89216624999999994,1.1732548214285714,1.1496360714285718,0.79664321428571438,1.3643075000000002,0.48526696428571425,1.3053853571428571,1.0664351785714281,0.95448999999999962,1.4747362500000001,0.92954610714285724,1.4622487500000001,1.478689642857143,0.78713553571428585,1.52468125,0.51727321428571416,17.976278571428569,1.7200857142857144,22.835998392857142,2.4494110714285715,9.3647267857142857,9.4527339285714245,17.546017857142857,16.835017857142855,5.8629267857142837,8.1157571428571433,59.351071428571444,63.028053571428572,78.230946428571443,66.790375000000012,64.807607142857151,68.41117857142855,73.839303571428559,7.3712714285714283,8.8491089285714306,11.164558928571433,9.8077678571428599,12.592666071428569,8.1915642857142874,61.96451785714288,60.64164285714287,48.778321428571424,54.214571428571439,55.143857142857144,62.283267857142853,64.038142857142844]
[null,9.2354916666666647,6.7273349999999983,5.4817866666666655,7.8426316666666649,5.4225699999999977,5.9165383333333343,4.5743633333333316,3.788355000000001,5.4210250000000002,2.2157416666666672,7.0944983333333322,5.453901666666666,5.1208416666666672,8.5412083333333317,5.8520100000000017,6.6253149999999996,5.3944600000000005,4.0537099999999997,5.8035066666666673,2.4239583333333323,1.5228868333333336,1.5176798333333337,0.88437193333333342,1.1426349999999996,1.0065251666666666,1.1594899999999997,0.90635216666666685,0.79199249999999988,1.3495651666666668,0.44989516666666673,1.1615251666666666,0.96555433333333329,0.76854081666666696,1.420542833333333,1.0439374999999997,1.252088333333333,1.1971430000000001,0.88757649999999977,1.4218836666666663,0.520424,15.670436666666664,1.5930136666666663,9.0175075000000007,2.3346913333333332,9.3806650000000005,9.446181666666666,18.383149999999997,17.907283333333332,5.943268333333334,7.9585633333333332,52.059049999999978,57.638583333333322,78.07578333333332,69.686200000000028,65.383933333333331,69.972983333333318,71.430800000000005,7.0135033333333334,7.9391649999999983,9.4535533333333355,8.8010666666666655,10.510673333333333,7.3984949999999987,59.577616666666657,59.26755,56.773099999999992,58.069283333333331,56.78488333333334,61.814133333333324,64.800816666666677]
[null,9.4578481481481482,7.1531574074074058,6.9168685185185197,15.435853703703705,11.222962962962958,7.6129203703703716,6.7268777777777764,4.6281277777777783,5.7366888888888905,2.4559333333333333,9.2881481481481512,6.8360555555555571,6.3298907407407414,26.48980925925926,18.521927777777773,8.0318000000000005,7.3513907407407419,6.2036962962962967,7.987099999999999,3.909038888888889,1.7268505555555562,1.5390674074074073,1.2435072222222223,2.5313105555555557,1.4724866666666669,1.4938201851851856,1.5518118518518516,0.87269185185185172,1.5015053703703702,0.53354296296296311,1.7918709259259264,1.2225546296296292,1.039479814814815,2.7526588888888885,2.364101666666667,1.7170775925925927,1.5456974074074072,1.1417503703703704,2.0119629629629623,0.84415499999999999,7.1366648148148153,3.1561796296296296,5.0914846296296279,5.3798425925925928,9.4701592592592601,10.048931481481482,17.019203703703706,18.869500000000002,9.060903703703703,10.053140740740741,67.905574074074082,50.671999999999997,22.724298148148151,24.893418518518526,45.758457407407406,51.973666666666659,50.061592592592582,9.7703388888888867,10.905840740740738,18.670081481481482,9.5235425925925945,30.925259259259249,8.9002444444444446,57.8925185185185,48.282407407407426,25.476888888888887,33.129814814814821,45.569722222222239,43.885851851851854,48.515444444444427]
[null,7.9996285714285706,6.0457517857142866,6.0455339285714302,10.171662499999996,6.7470035714285741,6.5423428571428568,5.7044392857142867,4.0121303571428566,5.4225250000000003,2.248964285714286,7.2095392857142855,5.9331749999999994,5.5834196428571428,10.943060714285711,7.7203178571428603,7.4551803571428579,5.6788053571428581,4.7245678571428575,8.2182035714285711,3.7472392857142856,1.242753392857143,1.0642021428571431,1.0613770178571424,1.3727128571428573,0.87378080357142873,1.3503142857142862,1.3668799999999999,0.8690208928571429,1.4391774999999998,0.49465000000000003,1.1809398214285713,0.95030178571428592,0.93493464285714312,1.5951071428571428,1.0976055357142853,1.2121335714285715,1.2344487500000001,1.0051821428571428,2.0642607142857137,0.75744017857142854,40.269060714285708,2.1966778571428578,16.261879464285713,2.4173019642857132,9.3752642857142838,9.5516607142857151,17.278214285714284,20.931589285714288,7.275639285714286,8.9447678571428568,60.709910714285719,56.024285714285725,62.771412500000011,43.67537500000001,48.249464285714289,50.493153571428586,45.442232142857151,8.2031035714285743,8.6571928571428565,12.199007142857145,8.6025678571428568,12.935391071428571,8.1983267857142863,57.58428571428572,50.569160714285694,32.776875000000004,33.64132142857143,44.51771428571427,45.87516071428572,46.431839285714268]
[null,7.6640699999999979,5.6973749999999974,5.2479849999999999,8.4453583333333331,5.5670966666666661,6.283621666666666,5.0666583333333346,3.8388316666666671,5.478748333333332,2.1983016666666666,6.7290316666666676,5.5946966666666667,4.7609883333333345,8.3171583333333334,6.1213250000000006,7.1653550000000026,5.2045416666666675,4.9168349999999972,8.5736433333333348,3.9809650000000003,1.2555802333333335,1.0030465000000002,0.84813951666666665,1.3315570000000005,0.9296279999999999,1.1678655000000002,0.98223549999999993,0.82844516666666668,1.3847813333333332,0.46564315000000001,0.97568383333333308,0.89468656666666646,0.66180783333333304,1.5878336666666668,1.1019606666666668,1.3940693333333334,1.1689301666666667,0.98381716666666674,2.0788666666666669,0.79957033333333349,8.901508333333334,2.1718384999999998,20.610272999999996,2.1600683333333333,9.3463966666666689,9.9036366666666673,17.89395,22.452450000000006,7.1338499999999989,9.2022916666666674,48.467099999999974,51.665483333333356,66.128533333333365,43.305598333333336,46.739516666666667,49.746633333333328,43.385866666666665,7.5588533333333343,8.2204833333333323,10.240575000000002,7.7323650000000006,10.520601666666668,7.1822066666666666,53.613016666666667,50.695116666666685,42.666316666666653,37.764816666666661,44.899983333333331,46.345416666666644,45.913216666666685]
[null,6.7488237288135595,4.7142423728813565,4.174362711864406,7.5655406779661032,7.0055779661016944,5.2730983050847433,5.0879898305084748,5.9713406779661016,8.8707169491525395,4.8869101694915251,10.282533898305081,7.3253338983050824,6.5699881355932215,13.015208474576269,8.3193338983050875,7.8444966101694904,6.5126915254237279,5.0308881355932202,9.289983050847459,4.4408559322033918,1.1950838983050842,0.83457169491525418,0.64394984745762718,1.2240547457627124,1.1033210169491527,1.0071479661016953,1.2081789830508476,1.1383718644067793,2.3019745762711867,1.000672372881356,1.6674027118644072,1.3754389830508476,1.2729776271186433,1.9567757627118645,1.3290188135593222,1.6189105084745763,1.4512045762711863,0.9916620338983051,2.3712661016949155,0.84165966101694945,8.4347345762711843,2.8836059322033902,11.895337288135593,2.2342844067796608,10.027784745762711,9.5354508474576249,23.681101694915256,19.767135593220335,7.953769491525426,7.1277491525423748,33.358583898305092,19.266930847457626,24.887364406779653,11.016159661016946,10.178050847457628,12.659750847457627,9.0167881355932185,7.8212305084745797,9.6965728813559338,10.515816949152546,6.1978661016949141,15.093369491525429,10.210830508474574,41.900000000000013,28.805169491525419,31.394779661016955,24.979254237288142,21.311101694915262,21.351542372881358,18.943050847457624]
[null,5.7715349999999992,4.4969683333333332,4.0107699999999999,6.2628633333333337,6.4625000000000012,4.5620650000000023,5.1500916666666665,5.6858399999999998,9.8108966666666628,4.4682633333333319,8.2571633333333345,6.8760216666666674,5.8930599999999993,11.811734999999999,9.1827983333333343,6.9143983333333336,6.4561183333333334,5.0462916666666677,8.6764566666666685,4.0776700000000003,0.90021633333333351,0.77248183333333331,0.67525109999999988,0.8665809999999996,0.98986478333333328,0.9507456666666666,1.065241166666667,1.2250991666666664,2.5260878333333334,0.95595849999999971,1.3082588333333334,0.91600450000000011,0.97119599999999984,1.8325500000000006,1.4803778333333333,1.1803118333333331,1.1958519999999997,1.0954810000000004,2.2190988333333337,0.88870833333333332,4.9435199999999986,2.2653811666666663,26.753631999999989,2.7458416666666667,9.837388333333335,9.6647633333333349,23.992349999999998,20.090933333333332,10.082831666666667,8.6785016666666674,26.456429999999994,21.603281666666668,23.443615000000001,12.389498666666666,13.286511666666673,12.783864999999999,9.5661208333333345,7.448290000000001,8.9089533333333364,8.7410066666666673,6.0157066666666683,14.838601666666667,8.8033399999999968,34.547999999999995,28.853966666666661,31.648166666666665,25.108266666666665,21.336466666666663,20.263866666666672,17.579250000000002]
[null,5.8255899999999974,4.2932899999999998,3.5056299999999996,3.5632933333333336,3.8651866666666663,4.3589150000000005,5.4750849999999982,5.0318366666666661,10.302366666666664,4.5851966666666657,7.992569999999998,6.3279883333333347,5.8412216666666632,8.9317383333333353,7.5788700000000011,7.0401216666666668,7.0404733333333338,5.4668349999999988,10.861701666666665,5.2544883333333354,0.92615883333333326,0.6945743333333334,0.61806300000000014,0.57670233333333332,0.74315583333333302,0.83496833333333342,1.0452196666666667,1.035206166666667,2.6124016666666678,0.8832203333333335,1.3448691666666668,0.97719983333333316,0.99343099999999995,1.9107540000000001,1.2492128333333334,1.413659666666667,1.5115015000000005,1.2522985,2.75176,1.0993336666666664,4.6958369999999983,1.4178591666666667,5.8086908333333342,2.173575,10.573163333333332,10.061321666666666,25.579466666666669,22.378366666666661,12.499253333333332,8.8606749999999987,40.122194999999991,25.650798333333331,17.241369933333331,11.118128333333335,13.688044999999999,13.55532,9.5497283333333325,7.3804766666666648,9.8876700000000017,5.1685250000000016,5.4940033333333309,11.580373333333332,8.4555600000000002,35.63904999999999,29.718483333333332,29.391466666666677,23.999983333333329,21.400400000000001,20.881783333333328,18.380183333333328]
[null,6.7671542372881355,5.4770033898305073,5.3424050847457627,16.789833898305087,8.5284288135593247,5.2906220338983054,4.941722033898305,3.9901118644067801,4.0749423728813561,1.9824627118644065,9.5568999999999988,7.3655203389830524,6.9590677966101717,17.736496610169493,10.046508474576269,7.2928694915254244,6.2497288135593214,5.3311661016949161,9.7837406779661045,5.2221338983050831,1.0834100677966101,0.93678730508474584,0.96204762711864422,2.0839823728813558,1.1508447457627118,1.008872033898305,1.1580867796610166,0.73794661016949148,1.0934189830508476,0.40121055932203387,1.6568786440677969,1.1422798305084743,1.2454362711864406,2.9210647457627115,1.306931525423729,1.3846474576271186,1.537627288135593,1.1743108474576271,2.5852677966101698,1.1453449152542374,14.016844237288142,3.9950728813559317,202.17475067796607,3.2105566101694918,9.4709338983050841,9.4730813559322016,17.32232203389831,22.737644067796609,9.1460254237288137,8.9687118644067798,50.176728813559322,48.730762711864408,50.379355932203381,29.464483050847452,26.851150847457635,18.948076271186441,17.143110169491525,7.2974830508474584,9.4656237288135578,19.050638983050845,7.7685983050847467,20.654655932203386,10.158588135593218,43.869,41.582779661016957,40.345203389830495,28.38108474576271,30.979169491525422,27.858389830508472,26.801389830508473]
[null,5.5555383333333319,4.6179000000000006,4.4583233333333316,7.2602883333333352,5.5681966666666654,4.8945633333333332,4.210936666666667,3.2325266666666677,4.2908649999999993,1.9680033333333333,8.2560383333333327,5.6403599999999994,5.709645000000001,10.055319999999998,7.1858666666666684,6.7443783333333327,5.5882266666666656,5.340234999999999,10.15339,5.6794216666666664,1.032397,0.84999083333333347,0.83096858333333357,0.97869866666666672,0.87032216666666617,0.96007533333333372,0.87395600000000007,0.64734100000000039,1.184912,0.41984133333333323,1.2530498333333329,0.99573350000000005,0.90515033333333306,1.3595469166666665,1.2173518333333333,1.1744073333333327,1.2123246666666669,0.96488433333333323,2.5084649999999997,1.0876171666666665,8.001676999999999,2.111371333333333,6.8887973333333319,2.4460770000000012,9.6171966666666666,9.3909949999999984,17.054266666666663,26.708633333333342,7.4943250000000035,8.2723766666666663,47.350686666666661,46.797983333333349,52.533003333333333,28.521853333333336,28.691678333333336,19.665978333333339,17.495032166666661,6.1671450000000014,8.624270000000001,8.8689333333333327,6.4868433333333337,12.295603333333336,7.9444416666666662,47.842433333333325,42.622383333333346,43.866983333333323,30.123950000000001,31.505200000000006,27.27773333333333,26.930949999999996]
[null,6.1759775862068977,6.1924637931034479,4.7909275862068945,12.183067241379312,7.2972224137931043,5.3403017241379303,4.7142362068965538,3.755674137931035,4.2105034482758636,1.871704137931034,9.127532758620692,8.549436206896555,6.0912275862068963,15.175025862068965,9.0711637931034499,6.974798275862069,6.0538051724137958,5.210087931034483,9.6156879310344845,5.1798879310344814,1.1485701724137936,0.95994344827586198,0.81654929310344837,1.929169310344828,0.97403189655172406,1.0934962068965517,1.016931551724138,0.7234703448275861,1.0938629310344832,0.39855862068965514,1.6780074137931036,1.3724584482758619,1.194031379310345,2.2264639655172416,1.3277091379310351,1.3928394827586204,1.1646677586206895,1.0199144827586204,2.4786120689655169,1.1216339655172418,16.783831206896547,2.6127293103448279,11.782572241379311,2.5034910344827588,9.6627758620689637,9.3385827586206904,17.591793103448282,23.461534482758616,8.1986775862068964,8.2816568965517252,62.118293103448266,55.892810344827573,52.08456034482758,30.664332758620695,29.600037931034475,17.157200689655177,14.295336206896552,7.2302379310344831,9.1023655172413793,14.944339655172415,7.9753965517241365,18.039081034482759,10.985518965517244,48.684155172413789,44.145827586206892,45.229706896551718,32.068655172413798,32.389724137931026,26.86991379310345,26.522810344827587]
[null,9.2123862068965519,8.1069827586206866,5.9949499999999993,18.592136206896551,9.6649017241379305,7.9314793103448293,6.5975431034482757,4.3110017241379319,4.9480982758620673,2.1155156896551728,9.5064568965517271,8.8216775862068992,6.3535793103448306,19.241396551724133,9.8993068965517228,8.7727327586206929,6.9371068965517235,4.5529051724137934,6.0770431034482746,2.7161396551724133,1.325167931034483,1.2197377586206899,0.95882189655172423,2.5859522413793097,1.4281255172413791,1.7652406896551727,1.3231243103448276,0.81162034482758638,1.2389963793103453,0.42678793103448293,1.5208358620689655,1.2626374137931038,1.0648006896551725,2.6525650000000001,1.6466662068965519,1.7005322413793107,1.4148446551724139,0.93026206896551744,1.6402441379310349,0.58307982758620702,7.5567120689655187,3.2567239655172417,11.458991034482761,3.2218015517241381,9.3757448275862068,9.3955068965517246,16.884258620689653,16.882034482758623,8.914977586206895,8.5703189655172416,87.226706896551732,83.55558620689655,82.148844827586203,74.652103448275881,68.112293103448295,61.276379310344822,54.032448275862073,9.7748362068965502,10.515744827586207,20.963282758620693,10.044912068965516,21.907629310344827,10.721372413793103,78.145637931034486,74.443189655172418,74.894517241379333,68.042879310344844,60.70441379310347,54.959172413793127,54.712741379310344]
[null,7.947947368421052,6.0991771929824568,5.4252192982456133,10.248442105263155,6.6371666666666682,6.7541508771929823,5.6036315789473674,3.3455912280701745,4.4758385964912302,2.0751143859649122,8.9274526315789497,6.7010105263157911,5.5218543859649136,10.837687719298248,7.2854789473684223,7.117403508771929,5.7488473684210515,3.7791035087719296,5.7093263157894736,2.7042859649122799,1.3233763157894736,1.0460047368421053,0.9808087719298243,1.1532056140350875,1.2046001754385962,1.296549824561404,1.0274989473684211,0.68687403508771905,1.1618647368421053,0.49942578947368432,1.4620696491228076,1.1287995438596492,1.029804912280702,1.3577650877192979,1.3232217543859646,1.3474959649122815,1.0569815789473684,0.77904385964912282,1.3557587719298241,0.58479684210526317,20.73980877192983,2.2768543859649126,18.107490877192983,2.3174459649122809,9.3664894736842079,9.5899368421052653,16.246333333333325,17.228877192982463,7.9130578947368413,7.9286333333333339,71.64431578947368,85.114280701754424,86.453859649122805,75.203736842105286,68.45019298245613,57.464736842105253,55.214947368421065,7.9958649122807008,8.3584736842105265,12.249238596491228,8.3238508771929816,13.142136842105261,8.8322596491228076,72.657122807017544,75.18129824561403,75.162596491228072,67.034701754385978,59.939228070175439,53.029912280701737,51.134491228070168]
[null,6.8993749999999983,5.1778116666666678,4.0389049999999989,5.9961401666666667,4.5841166666666675,4.4651249999999996,3.8539099999999995,3.1174283333333319,5.1322433333333333,2.3294936666666666,7.0104933333333337,5.3344666666666658,4.2888133333333345,6.7290300000000025,5.4275049999999982,5.1386433333333335,4.2551949999999996,3.6333249999999997,6.3763633333333329,3.0367283333333339,1.2784396666666666,0.83739416666666677,0.64017583333333361,0.92767116666666649,0.80373133333333302,0.8989296666666664,0.88927316666666678,0.69772016666666681,1.30304,0.44610116666666672,1.2994006666666662,0.81419866666666685,0.73301183333333308,1.0574354999999998,0.84673549999999997,1.0422960000000001,0.9431976666666666,0.76709883333333351,1.5873266666666661,0.57582233333333332,108.1887816666667,1.8650506666666666,13.175240333333329,1.9129838333333331,9.7739150000000006,9.7049883333333344,20.32705,21.568033333333336,5.6447499999999993,6.2952166666666649,83.635500000000008,79.526749999999993,84.312416666666664,71.275133333333343,64.317300000000017,67.484316666666672,62.987583333333319,5.8188966666666655,6.4945550000000001,7.3723866666666655,6.4925783333333316,8.4450066666666679,6.9517433333333347,71.725216666666682,75.017816666666675,76.12766666666667,66.067216666666653,58.840866666666699,53.815283333333348,50.832366666666665]
[null,8.2381862068965539,7.1474948275862085,7.4013775862068973,34.662172413793101,17.171058620689656,7.5792810344827561,6.9924568965517224,5.9823534482758598,4.7269327586206895,2.0041206896551715,8.6589224137931033,7.3664034482758609,7.364099999999997,31.190527586206894,18.98214827586207,8.234398275862068,7.0695448275862072,6.033289655172414,5.3852327586206901,2.4496206896551733,1.3324268965517239,1.2461322413793101,1.2691725862068963,3.7641324137931025,2.5772325862068959,1.5729075862068966,1.6254231034482756,1.0273912068965516,1.2905179310344821,0.36600896551724127,1.3944593103448277,1.3396829310344827,1.2528608620689654,4.0348381034482763,2.6825339655172407,1.7191548275862067,1.6698844827586212,1.1311891379310344,1.399374827586207,0.51788775862068981,10.243438448275864,6.3414965517241377,56.552550862068969,5.5178051724137918,9.8486879310344833,9.9177103448275865,17.39110344827586,17.220103448275854,9.8770706896551737,9.9583603448275877,91.51886206896549,89.590379310344815,86.159137931034508,83.768706896551706,80.338448275862078,62.985827586206888,46.566551724137938,10.60093275862069,10.855710344827591,38.389293103448281,10.199603448275862,36.419120689655195,10.302277586206895,79.92877586206896,82.27520689655168,72.180603448275846,72.932879310344831,72.478534482758619,54.711551724137941,44.217775862068969]
[null,7.7897526315789483,6.75701754385965,5.7559403508771911,9.994589473684206,7.024543859649123,7.112205263157894,4.9992438596491242,3.467998245614035,5.317340350877191,2.2804507017543854,7.9830947368421015,6.9878807017543876,6.0734947368421048,10.571705263157895,7.574447368421052,7.3349631578947356,5.1617140350877175,3.7013877192982454,6.1364596491228047,2.885880701754385,1.2980475438596493,1.0767722807017543,0.8184714035087719,1.7110691578947363,1.2008084210526315,1.1494875438596492,0.96687157894736875,0.77694964912280717,1.3413354385964915,0.52898438596491237,1.4259973684210525,1.1562963157894735,0.89010245614035122,1.887424385964912,1.3048340350877188,1.1954250877192978,0.94261719298245605,0.85162070175438631,1.5879852631578948,0.60654052631578947,9.8753631578947338,1.7750054385964908,18.627717894736847,2.1466871929824562,9.5415701754385971,9.6461228070175409,17.285754385964914,18.076929824561411,7.6726210526315768,7.8601473684210514,84.466192982456164,89.745771929824571,90.358333333333306,84.103456140350872,78.43638596491229,67.371508771929825,57.150298245614039,7.656715789473683,7.8663999999999987,11.268485964912285,8.9220385964912285,12.098650877192981,9.2483578947368414,80.131210526315783,82.248824561403495,78.154438596491246,75.395017543859637,72.024192982456157,55.581964912280696,45.996263157894738]
[null,6.5914759259259261,6.1640111111111118,6.2073296296296308,7.166448148148147,5.5783888888888882,6.1192351851851852,4.7343203703703702,4.1292388888888887,6.4911759259259263,3.224055555555557,6.5424555555555575,6.6087111111111119,6.7526870370370382,7.3865444444444437,5.887181481481484,6.2985500000000005,4.9315888888888884,4.2533499999999993,7.2311555555555564,3.4877222222222235,1.2890394444444451,1.0638294444444443,0.90219240740740725,1.1550316666666671,0.94201185185185199,1.0355694444444443,1.0657559259259257,0.99465722222222219,1.5659185185185189,0.71127722222222245,1.2374696296296297,1.0274918518518521,0.94818222222222215,1.2804977777777782,1.0543161111111112,1.1757977777777777,0.93248574074074053,0.92558759259259271,1.7582537037037032,0.75633833333333322,28.391176111111108,1.483867037037037,15.56547037037037,1.4436337037037035,9.8587407407407408,9.8571129629629617,19.143407407407409,20.536111111111108,7.6262555555555549,7.4380740740740725,87.590462962962974,89.231000000000009,88.708962962962971,82.594666666666683,79.997111111111096,75.818703703703704,70.331388888888895,7.3316370370370345,7.4576555555555553,8.992700000000001,8.7614611111111138,9.407190740740738,9.4582018518518485,77.913574074074049,82.147185185185194,79.661740740740711,75.337092592592597,71.777796296296302,57.902759259259255,50.553129629629638]
[]
[]
[]
["Fp1/Fp2:",null,"C:\\Users\\petelobo\\Documents\\BE sessions\\FOFA1508\\F3 FOFA1508.epochs.txt",null,null,"Alcohol:",1,null,null,null,null,"Stress1:",1]
["F3/F4:",null,"C:\\Users\\petelobo\\Documents\\BE sessions\\FOFA1508\\T3 FOFA1508.epochs.txt",null,null,"Freq:",5,null,null,null,null,"Stress2:",1]
["F7/F8:",null,"C:\\Users\\petelobo\\Documents\\BE sessions\\FOFA1508\\Fz FOFA1508.epochs.txt",null,null,"Drugs:",1,null,null,null,null,"Stress3:",1]
["C3/C4",null,"C:\\Users\\petelobo\\Documents\\BE sessions\\FOFA1508\\F7 FOFA1508.epochs.txt",null,null,"Freq:",5,null,null,null,null,"Stress4:",0]
["Fz/Pz:",null,"C:\\Users\\petelobo\\Documents\\BE sessions\\FOFA1508\\Fp1 FOFA1508.epochs.txt",null,null,"Head:",0,null,null,null,null,"Stress5:",0]
["Cz/Oz:",null,"",null,null,"Priority:",0,null,null,null,null,"Anxiety1:",0]
["T3/T4:",null,null,null,null,"Seizures:",0,null,null,null,null,"Anxiety2:",0]
["T5/T6:",null,null,null,null,"Priority:",0,null,null,null,null,"Anxiety3:",1]
["P3/P4:",null,null,null,null,"Autism:",0,null,null,null,null,"Anxiety4:",1]
["O1/O2:",null,null,null,null,"Nonverb:",0,null,null,null,null,"Anxiety5:",0]
["Name:","Example adult",null,null,null,null,null,null,null,null,null,"Depr1:",0]
["Age:","46",null,null,null,null,null,null,null,null,null,"Depr2:",0]
["Trainer:","sample",null,null,null,null,null,null,null,null,null,"Depr3:",0]
["Date:","8/17/2015",null,null,null,null,null,null,null,null,null,"Depr4:",0]
["FileNo:",10,null,null,null,"Antidep:",0,null,null,null,null,"Anger1:",1]
["Hand:",2,null,null,null,"Antianx:",1,null,null,null,null,"Anger2:",1]
[null,null,null,null,null,"Anticon:",0,null,null,null,null,"Anger3:",0]
[null,null,null,null,null,"Antipsy:",0,null,null,null,null,"Anger4:",0]
[null,null,null,null,null,"Stim:",0,null,null,null,null,"Sleep1:",1]
[null,null,null,null,null,"Mood:",0,null,null,null,null,"Sleep2:",0]
[null,null,null,null,null,null,null,null,null,null,null,"Sleep3:",0]
[null,null,null,null,null,null,null,null,null,null,null,"Sleep4:",0]
[null,null,null,null,null,null,null,null,null,null,null,"Sleep5:",0]
[null,null,null,null,null,null,null,null,null,null,null,"Sleep6:",1]
[null,null,null,null,null,null,null,null,null,null,null,"Sleep7:",0]
[null,12,null,null,null,"Sex:",0,null,null,null,null,"Physical1:",0]
[null,"homemaker",null,null,null,"Bfamily:",1,null,null,null,null,"Physical2:",0]
["Submitted",1,null,null,null,"Afamily:",0,null,null,null,null,"Physical3:",1]
[null,null,null,null,null,"Ffamily:",0,null,null,null,null,"Physical4:",0]
[null,null,null,null,null,"Siblings:",3,null,null,null,null,"Physical5:",1]
[null,null,null,null,null,"Order:",2,null,null,null,null,"Physical6:",0]
[null,null,null,null,null,"Neglect:",1,null,null,null,null,"Physical7:",0]
[null,null,null,null,null,"Abuse:",0,null,null,null,null,"Physical8:",1]
[null,null,null,null,null,"Trauma:",0,null,null,null,null,"Attent1:",0]
[null,null,null,null,null,null,null,null,null,null,null,"Attent2:",1]
[null,null,null,null,null,null,null,null,null,null,null,"Attent3:",1]
[null,null,null,null,null,null,null,null,null,null,null,"Attent4:",1]
[null,null,null,null,null,null,null,null,null,null,null,"Learn1:",0]
[null,null,null,null,null,null,null,null,null,null,null,"Learn2:",0]
[null,null,null,null,null,null,null,null,null,null,null,"Learn3:",0]
[null,null,null,null,null,null,null,null,null,null,null,"Learn4:",0]
[null,null,null,null,null,null,null,null,null,null,null,"Learn5:",0]
[null,null,null,null,null,null,null,null,null,null,null,"Control1:",1]
[null,null,null,null,null,null,null,null,null,null,null,"Control2:",1]
[null,null,null,null,null,null,null,null,null,null,null,"Control3:",0]
[null,null,null,null,null,null,null,null,null,null,null,"Control4:",0]
[null,null,null,null,null,null,null,null,null,null,null,"Control5:",1]
[null,null,null,null,null,null,null,null,null,null,null,"Control6:",1]
[null,null,null,null,null,null,null,null,null,null,null,"Control7:",0]
[null,null,null,null,null,null,null,null,null,null,null,"Memory1:",0]
[null,null,null,null,null,null,null,null,null,null,null,"Memory2:",0]
[null,null,null,null,null,null,null,null,null,null,null,"Memory3:",0]
[null,null,null,null,null,null,null,null,null,null,null,"Memory4:",1]
[null,null,null,null,null,null,null,null,null,null,null,"Memory5:",1]
[null,null,null,null,null,null,null,null,null,null,null,"end"]

{"sheet":"Autoplan","index":15,"n_rows":180,"n_cols":27,"rows_kept":180,"cut":false,"hidden":true,"merged":[]}
["Line","Site","Tab","Rule","Protocol","Active","Reference","State","Block","RawData","Result","Weight",null,null,null,"Protocol","Active","Reference","State","Block","Weight",null,null,"Routine","Site","L/R","F/B"]
[null,"F4","Analyze","Slow%>40","FRE1C IN (2-11) REW (13-21)","F4","A2","EC",1,"5;78;Right;Front",0.37,4.4565119213109519,null,null,null,"BAL2C SUM (2-38) DIFF (15-38) ","F7 F8","L(A1 A2)","EC/EO","1p",179.61615371704102,null,null,1,"F3","Left","Front"]
[null,"F4","Analyze","Slow%>40","FRE1C IN (2-11) REW (13-21)","F4","A2","EO",1,"6;79;Right;Front",0.37,4.1057102842789535,null,null,null,"BAL2C SUM (19-38) DIFF (2-11)","F7 F8","L(A1 A2)","EO","1p",105.48113250732422,null,null,1,"F4","Right","Front"]
[null,"F3","Analyze","Slow%>40","FRE1C IN (2-11) REW (13-21)","F3","A1","EC",1,"5;75;Left;Front",0.35,3.0073948505471635,null,null,null,"FRE2C IN (19-38) REW (9-13)","F7 T3","C(A1)","EC/EO","1p",75.494990255762289,null,null,1,"F7","Left","Front"]
[null,"F3","Analyze","Slow%>40","FRE1C IN (2-11) REW (13-21)","F3","A1","EO",1,"6;76;Left;Front",0.35,2.7124900830032392,null,null,null,"BAL2C SUM (2-38) DIFF (2-11)","F7 F8","L(A1 A2)","EC","1p",64.372138977050781,null,null,1,"F8","Right","Front"]
[null,"F8","Analyze","Slow%>40","FRE1C IN (2-11) REW (13-21)","F8","A2","EC",1,"8;84;Right;Front",0.41,6.8084846323046246,null,null,null,"FRE1C IN (19-38) REW (9-13)","F7","A1","EC/EO",1,53.209803374508155,null,null,1,"C3","Left","Mid"]
[null,"F8","Analyze","Slow%>40","FRE1C IN (2-11) REW (13-21)","F8","A2","EO",1,"9;85;Right;Front",0.44,8.4503473340925179,null,null,null,"FRE2C IN (19-38) REW (9-13)","F7 T6","L(A1 A2)","EC/EO",1,49.868659028482902,null,null,1,"C4","Right","Mid"]
[null,"F7","Analyze","Slow%>40","FRE1C IN (2-11) REW (13-21)","F7","A1","EC",1,"8;81;Left;Front",0.23,1.01688711215451,null,null,null,"FRE1C IN (19-38) REW (9-13)","T6","A2","EC/EO","1x",46.527514682457657,null,null,1,"T3","Left","Mid"]
[null,"F7","Analyze","Slow%>40","FRE1C IN (2-11) REW (13-21)","F7","A1","EO",1,"9;82;Left;Front",0.22,0.99937975793093381,null,null,null,"BAL2C SUM (2-38) DIFF (15-38) ","T3 T4","L(A1 A2)","EC/EO","1p",44.495853424072266,null,null,1,"T4","Right","Mid"]
[null,"C4","Analyze","Slow%>40","FRE1C IN (2-11) REW (13-21)","C4","A2","EC",1,"11;90;Right;Mid",0.33,2.7970994167627907,null,null,null,"FRE2C IN (19-38) REW (9-13)","T3 T6","L(A1 A2)","EC/EO",1,34.406350781855892,null,null,1,"T5","Left","Back"]
[null,"C4","Analyze","Slow%>40","FRE1C IN (2-11) REW (13-21)","C4","A2","EO",1,"12;91;Right;Mid",0.32,2.3018599583151746,null,null,null,"FRE2C IN (6-10) REW (13-21)","P3 P4","L(A1 A2)","EO","1p",28.770116058131435,null,null,1,"T6","Right","Back"]
[null,"C3","Analyze","Slow%>40","FRE1C IN (2-11) REW (13-21)","C3","A1","EC",1,"11;87;Left;Mid",0.34,3.2271522320818833,null,null,null,"FRE2C IN (19-38) REW (9-13)","T4 T6","C(A2)","EC/EO","1p",24.869617752160472,null,null,1,"P3","Left","Back"]
[null,"C3","Analyze","Slow%>40","FRE1C IN (2-11) REW (13-21)","C3","A1","EO",1,"12;88;Left;Mid",0.33,2.6879936025520021,null,null,null,"BAL2C SUM (19-38) DIFF (2-11)","T3 T4","L(A1 A2)","EO","1p",23.797674179077148,null,null,1,"P4","Right","Back"]
[null,"T4","Analyze","Slow%>40","FRE1C IN (2-11) REW (13-21)","T4","A2","EC",1,"20;108;Right;Mid",0.31,2.2701865548614903,null,null,null,"BAL2C SUM (2-38) DIFF (2-11)","T3 T4","L(A1 A2)","EC","1p",22.922140121459961,null,null,1,"O1","Left","Back"]
[null,"T4","Analyze","Slow%>40","FRE1C IN (2-11) REW (13-21)","T4","A2","EO",1,"21;109;Right;Mid",0.28999999999999998,1.8631801125384364,null,null,null,"FRE1C IN (19-38) REW (9-13)","T3","A1","EC/EO","1x",22.28518688125413,null,null,1,"O2","Right","Back"]
[null,"T3","Analyze","Slow%>40","FRE1C IN (2-11) REW (13-21)","T3","A1","EC",1,"20;105;Left;Mid",0.26,1.2352960397685644,null,null,null,"FRE2C IN (6-10) REW (13-21)","C4 P4","C(A2)","EO",1,22.092499776505434,null,null,1,"Fz","Mid","Front"]
[null,"T3","Analyze","Slow%>40","FRE1C IN (2-11) REW (13-21)","T3","A1","EO",1,"21;106;Left;Mid",0.25,1.1966467239158718,null,null,null,"BAL2C SUM (2-38) DIFF (15-38) ","T5 T6","L(A1 A2)","EC","1p",21.324197769165039,null,null,1,"Cz","Mid","Mid"]
[null,"T6","Analyze","Slow%>40","FRE1C IN (2-11) REW (13-21)","T6","A2","EC",1,"23;114;Right;Back",0.28000000000000003,1.7296099883794687,null,null,null,"FRE2C IN (19-38) REW (9-13)","T6 Oz","L(A1 A2)","EO",1,20.200348373194075,null,null,1,"Pz","Mid","Back"]
[null,"T6","Analyze","Slow%>40","FRE1C IN (2-11) REW (13-21)","T6","A2","EO",1,"24;115;Right;Back",0.28000000000000003,1.7296099883794687,null,null,null,"FRE2C IN (19-38) REW (9-13)","T3 T4","L(A1 A2)","EC/EO",1,19.122680777338065,null,null,1,"Oz","Mid","Back"]
[null,"T5","Analyze","Slow%>40","FRE1C IN (2-11) REW (13-21)","T5","A1","EC",1,"23;111;Left;Back",0.28000000000000003,1.7214763176081653,null,null,null,"BAL2C SUM (8-12) DIFF (15-38) ","T5 T6","L(A1 A2)","EO","1p",17.61578369140625,null,null,1]
[null,"T5","Analyze","Slow%>40","FRE1C IN (2-11) REW (13-21)","T5","A1","EO",1,"24;112;Left;Back",0.32,3.5653100290795732,null,null,null,"BAL4C Alpha Beta","P3 P4 O1 O2","L(A1 A2)","EC","1p",16.799246483541552,null,null,1]
[null,"P4","Analyze","Slow%>40","FRE1C IN (2-11) REW (13-21)","P4","A2","EC",1,"26;120;Right;Back",0.3,2.0456246969939325,null,null,null,"FRE2C IN (19-38) REW (9-13)","F7 T4","L(A1 A2)","EC/EO",1,14.105381049092863,null,null,1]
[null,"P4","Analyze","Slow%>40","FRE1C IN (2-11) REW (13-21)","P4","A2","EO",1,"27;121;Right;Back",0.33,2.6484508124170612,null,null,null,"FRE1C IN (6-10) REW (13-21)","C4","A2","EO","1x",12.862932624750114,null,null,1]
[null,"P3","Analyze","Slow%>40","FRE1C IN (2-11) REW (13-21)","P3","A1","EC",1,"26;117;Left;Back",0.3,2.0964248465792674,null,null,null,"FRE2C IN (6-10) REW (13-21)","C4 P3","L(A1 A2)","EO",1,12.091724185830053,null,null,1]
[null,"P3","Analyze","Slow%>40","FRE1C IN (2-11) REW (13-21)","P3","A1","EO",1,"27;118;Left;Back",0.33,2.7367256324445886,null,null,null,"FRE1C IN (2-11) REW (12-16)","F8","A2","EC/EO","1x",11.854589650244829,null,null,1]
[null,"O2","Analyze","Slow%>40","FRE1C IN (2-11) REW (13-21)","O2","A2","EC",1,"29;126;Right;Back",0.23,1.091541383,null,null,null,"FRE2C IN (19-38) REW (9-13)","F7 Oz","C(A1)","EO",1,11.454214755303875,null,null,1]
[null,"O2","Analyze","Slow%>40","FRE1C IN (2-11) REW (13-21)","O2","A2","EO",1,"30;127;Right;Back",0.33,2.5324615414219571,null,null,null,"FRE1C IN (6-10) REW (13-21)","P3","A1","EO","1x",11.320515746909994,null,null,1]
[null,"O1","Analyze","Slow%>40","FRE1C IN (2-11) REW (13-21)","O1","A1","EC",1,"29;123;Left;Back",0.22,0.99494733410866687,null,null,null,"BAL2C Alpha Beta","P3 P4","L(A1 A2)","EC/EO","1p",10.257885456049845,null,null,1]
[null,"O1","Analyze","Slow%>40","FRE1C IN (2-11) REW (13-21)","O1","A1","EO",1,"30;124;Left;Back",0.34,3.1107215850590695,null,null,null,"FRE1C IN (6-10) REW (13-21)","P4","A2","EO","1x",9.2295671517553188,null,null,1]
[null,"Fz","Analyze","Slow%>40","FRE1C IN (2-11) REW (13-21)","Fz","A1","EC",4,"14;93;Mid;Front",0.33,5.5528322508461505,null,null,null,"BAL2C Alpha Beta","O1 O2","L(A1 A2)","EC","1p",9.1370809502563812,null,null,1]
[null,"Fz","Analyze","Slow%>40","FRE1C IN (2-11) REW (13-21)","Fz","A1","EO",4,"15;94;Mid;Front",0.38,17.104850842461207,null,null,null,"FRE2C IN (19-38) REW (9-13)","T3 Oz","C(A1)","EO",1,4.4985039936856976,null,null,1]
[null,"Pz","Analyze","Slow%>40","FRE1C IN (2-11) REW (13-21)","Pz","A1","EC",4,"14;96;Mid;Back",0.28000000000000003,1.7099352614117582,null,null,null,"FRE1C IN (19-38) REW (9-13)","T4","A2","EC/EO","1x",3.3588246973176012,null,null,1]
[null,"Pz","Analyze","Slow%>40","FRE1C IN (2-11) REW (13-21)","Pz","A1","EO",4,"15;97;Mid;Back",0.31,2.1635086742483294,null,null,null,"BAL2C Alpha Beta (Beta)","O1 O2","L(A1 A2)","EO","1p",2.7930812659111259,null,null,1]
[null,"Cz","Analyze","Slow%>40","FRE1C IN (2-11) REW (13-21)","Cz","A1","EC",4,"17;99;Mid;Mid",0.3,2.0322044826283556,null,null,null,"FRE2C IN (19-38) REW (9-13)","T4 Oz","L(A1 A2)","EO",1,2.2398238662344436,null,null,1]
[null,"Cz","Analyze","Slow%>40","FRE1C IN (2-11) REW (13-21)","Cz","A1","EO",4,"18;100;Mid;Mid",0.33,2.6316301128888209,null,null,null,"CON4C MBC Down","P3 P4 O1 O2","L(A1 A2)","EC/EO","2p",199.5354664568915,null,null,1]
[null,"Oz","Analyze","Slow%>40","FRE1C IN (2-11) REW (13-21)","Oz","A1","EC",4,"17;102;Mid;Back",0.22,0.99466787199999984,null,null,null,"CON4C MBC Down","F3 F4 O1 O2","L(A1 A2)","EC/EO","2p",167.69356928392571,null,null,1]
[null,"Oz","Analyze","Slow%>40","FRE1C IN (2-11) REW (13-21)","Oz","A1","EO",4,"18;103;Mid;Back",0.28000000000000003,1.6414689441844919,null,null,null,"CON2C MBC Down","O1 O2","L(A1 A2)","EC/EO","2p",124.01485598045937,null,null,1]
[null,"F4","Analyze","Fast%>30","FRE1C IN (19-38) REW (6-10)","F4","A2","EC",1,"5;78;Right;Front","0.24PF",1.595200933160456,null,null,null,"CON4C MBC Down","F3 F4 P3 P4","L(A1 A2)","EC/EO","2p",118.43473644756868,null,null,1]
[null,"F4","Analyze","Fast%>30","FRE1C IN (19-38) REW (6-10)","F4","A2","EO",1,"6;79;Right;Front","0.27PF",1.8159102927079831,null,null,null,"CON2C MBC Down","P3 P4","L(A1 A2)","EC/EO","2p",76.382543030781619,null,null,1]
[null,"F3","Analyze","Fast%>30","FRE1C IN (19-38) REW (6-10)","F3","A1","EC",1,"5;75;Left;Front","0.26PF",2.2083010559999998,null,null,null,"CON2C Gamma Up","F3 F4","L(A1 A2)","EO","2p",50.524884194716215,null,null,1]
[null,"F3","Analyze","Fast%>30","FRE1C IN (19-38) REW (6-10)","F3","A1","EO",1,"6;76;Left;Front","0.29PF",2.7857284289999997,null,null,null,"CON2C MBC Down","F3 F4","L(A1 A2)","EC/EO","2p",43.678713303466338,null,null,1]
[null,"F8","Analyze","Fast%>30","FRE1C IN (19-38) REW (6-10)","F8","A2","EC",1,"8;84;Right;Front","0.23PF",1.0306631188773625,null,null,null,"CON4C MBC Down","C3 C4 O1 O2","L(A1 A2)","EC/EO",3,193.79484740914626,null,null,1]
[null,"F8","Analyze","Fast%>30","FRE1C IN (19-38) REW (6-10)","F8","A2","EO",1,"9;85;Right;Front","0.24PF",1.0240707748342983,null,null,null,"CON4C MBC Down","C3 C4 P3 P4","L(A1 A2)","EC/EO",3,145.27256500724422,null,null,1]
[null,"F7","Analyze","Fast%>30","FRE1C IN (19-38) REW (6-10)","F7","A1","EC",1,"8;81;Left;Front","0.48PF",19.65902824297779,null,null,null,"CON4C MBC Down","F3 F4 C3 C4","L(A1 A2)","EC/EO",3,113.45870473215322,null,null,1]
[null,"F7","Analyze","Fast%>30","FRE1C IN (19-38) REW (6-10)","F7","A1","EO",1,"9;82;Left;Front",0.59,43.380289253019264,null,null,null,"CON2C MBC Down","C3 C4","L(A1 A2)","EC/EO",3,69.779991428686884,null,null,1]
[null,"C4","Analyze","Fast%>30","FRE1C IN (19-38) REW (6-10)","C4","A2","EC",1,"11;90;Right;Mid","0.24PF",1.8141331263935221,null,null,null,"CON4C Gamma Sync","F3 F4 C3 C4","L(A1 A2)","EO","3p",67.917224747187859,null,null,1]
[null,"C4","Analyze","Fast%>30","FRE1C IN (19-38) REW (6-10)","C4","A2","EO",1,"12;91;Right;Mid","0.26PF",2.001148351121762,null,null,null,"CON2C Gamma Up","C3 C4","L(A1 A2)","EO","3p",17.392340552471648,null,null,1]
[null,"C3","Analyze","Fast%>30","FRE1C IN (19-38) REW (6-10)","C3","A1","EC",1,"11;87;Left;Mid",0.25,2.0362656249999995,null,null,null,"SMR%1C Up","C3","C4","EO","3p",8.594952756142435,null,null,1]
[null,"C3","Analyze","Fast%>30","FRE1C IN (19-38) REW (6-10)","C3","A1","EO",1,"12;88;Left;Mid","0.27PF",2.390290587,null,null,null,"BAL2C Alpha Beta (Alpha)","C3 C4","L(A1 A2)","EC/EO","3p",5.5592658657845879,null,null,1]
[null,"T4","Analyze","Fast%>30","FRE1C IN (19-38) REW (6-10)","T4","A2","EC",1,"20;108;Right;Mid","0.32PF",2.3372857151812751,null,null,null,"SMR%1C Up","Cz","A2","EO","3p",3.9043663317903401,null,null,1]
[null,"T4","Analyze","Fast%>30","FRE1C IN (19-38) REW (6-10)","T4","A2","EO",1,"21;109;Right;Mid","0.33PF",2.0430779642726522,null,null,null,"CON4C MBC Down","Fz Pz Cz Oz","L(A1 A2)","EC/EO","4p",76.898086948433061,null,null,1]
[null,"T3","Analyze","Fast%>30","FRE1C IN (19-38) REW (6-10)","T3","A1","EC",1,"20;105;Left;Mid",0.41,13.455481349415146,null,null,null,"CON2C MBC Down","Fz Pz","L(A1 A2)","EC/EO","4p",64.286193963435551,null,null,1]
[null,"T3","Analyze","Fast%>30","FRE1C IN (19-38) REW (6-10)","T3","A1","EO",1,"21;106;Left;Mid",0.44,15.557446206546556,null,null,null,"CON2C MBC Combined","Cz Oz","L(A1 A2)","EC","4p",30.680265084317654,null,null,1]
[null,"T6","Analyze","Fast%>30","FRE1C IN (19-38) REW (6-10)","T6","A2","EC",1,"23;114;Right;Back","0.31PF",17.126775408531486,null,null,null,"FRE2C IN (2-6) REW (13-21)","Fz Cz","L(A1 A2)","EC/EO","4p",13.434475771688607,null,null,1]
[null,"T6","Analyze","Fast%>30","FRE1C IN (19-38) REW (6-10)","T6","A2","EO",1,"24;115;Right;Back","0.38PF",37.964126978191914,null,null,null,"CON2C MBC Down","Cz Oz","L(A1 A2)","EC/EO",4,12.611892984997509,null,null,1]
[null,"T5","Analyze","Fast%>30","FRE1C IN (19-38) REW (6-10)","T5","A1","EC",1,"23;111;Left;Back","0.24PF",1.8737975039999994,null,null,null,"CON2C MBC Up","Cz Oz","L(A1 A2)","EC","4p",4.3225475614344839,null,null,1]
[null,"T5","Analyze","Fast%>30","FRE1C IN (19-38) REW (6-10)","T5","A1","EO",1,"24;112;Left;Back","0.3PF",3,null,null,null,"FRE1C IN (19-38) REW (9-13)","Oz","A1","EO","4p",2.4365697681962355,null,null,1]
[null,"P4","Analyze","Fast%>30","FRE1C IN (19-38) REW (6-10)","P4","A2","EC",1,"26;120;Right;Back","0.24PF",2.0593422860459545,null,null,null,"FRE2C Squash","O1 O2","L(A1 A2)","EC 10:00m","5p",95,null,null,1]
[null,"P4","Analyze","Fast%>30","FRE1C IN (19-38) REW (6-10)","P4","A2","EO",1,"27;121;Right;Back","0.28PF",2.9590500198503022,null,null,null,"FRE2C IN (19-38) REW (6-10)","P3 P4","L(A1 A2)","EC 10:00m","5p",90,null,null,1]
[null,"P3","Analyze","Fast%>30","FRE1C IN (19-38) REW (6-10)","P3","A1","EC",1,"26;117;Left;Back","0.23PF",1.7205196229999997,null,null,null,"ALP1C Alpha Up","P4 or O1","A2 or A1","EC 10:00m","5p",85,null,null,1]
[null,"P3","Analyze","Fast%>30","FRE1C IN (19-38) REW (6-10)","P3","A1","EO",1,"27;118;Left;Back","0.26PF",2.2083010559999998,null,null,null,"ALP1C Alpha Theta","P4 or O1","A2 or A1","EC 23:50m","5p",80,null,null,1]
[null,"O2","Analyze","Fast%>30","FRE1C IN (19-38) REW (6-10)","O2","A2","EC",1,"29;126;Right;Back",0.2,1.3675065552979258,null,null,null,null,null,null,null,null,null,null,null,1]
[null,"O2","Analyze","Fast%>30","FRE1C IN (19-38) REW (6-10)","O2","A2","EO",1,"30;127;Right;Back","0.28PF",2.8159938209844664,null,null,null,null,null,null,null,null,null,null,null,1]
[null,"O1","Analyze","Fast%>30","FRE1C IN (19-38) REW (6-10)","O1","A1","EC",1,"29;123;Left;Back",0.19,1.1921025789999995,null,null,null,null,null,null,null,null,null,null,null,1]
[null,"O1","Analyze","Fast%>30","FRE1C IN (19-38) REW (6-10)","O1","A1","EO",1,"30;124;Left;Back","0.27PF",2.390290587,null,null,null,null,null,null,null,null,null,null,null,1]
[null,"Fz","Analyze","Fast%>30","FRE1C IN (19-38) REW (6-10)","Fz","A1","EC",4,"14;93;Mid;Front","0.24PF",1.8737975039999994,null,null,null,null,null,null,null,null,null,null,null,1]
[null,"Fz","Analyze","Fast%>30","FRE1C IN (19-38) REW (6-10)","Fz","A1","EO",4,"15;94;Mid;Front","0.27PF",2.390290587,null,null,null,null,null,null,null,null,null,null,null,1]
[null,"Pz","Analyze","Fast%>30","FRE1C IN (19-38) REW (6-10)","Pz","A1","EC",4,"14;96;Mid;Back","0.25PF",1.7562462243166621,null,null,null,null,null,null,null,null,null,null,null,1]
[null,"Pz","Analyze","Fast%>30","FRE1C IN (19-38) REW (6-10)","Pz","A1","EO",4,"15;97;Mid;Back","0.29PF",2.0447011856805339,null,null,null,null,null,null,null,null,null,null,null,1]
[null,"Cz","Analyze","Fast%>30","FRE1C IN (19-38) REW (6-10)","Cz","A1","EC",4,"17;99;Mid;Mid","0.25PF",2.0362656249999995,null,null,null,null,null,null,null,null,null,null,null,1]
[null,"Cz","Analyze","Fast%>30","FRE1C IN (19-38) REW (6-10)","Cz","A1","EO",4,"18;100;Mid;Mid","0.29PF",2.7857284289999997,null,null,null,null,null,null,null,null,null,null,null,1]
[null,"Oz","Analyze","Fast%>30","FRE1C IN (19-38) REW (6-10)","Oz","A1","EC",4,"17;102;Mid;Back",0.25,2.2650921345520123,null,null,null,null,null,null,null,null,null,null,null,1]
[null,"Oz","Analyze","Fast%>30","FRE1C IN (19-38) REW (6-10)","Oz","A1","EO",4,"18;103;Mid;Back","0.33PF",2.4365697681962355,null,null,null,null,null,null,null,null,null,null,null,1]
[null,"F4","Analyze","Mid%>40","FRE1C IN (6-10) REW (13-21)","F4","A2","EO",1,"6;79;Right;Front",0.37,6.6408149365295417,null,null,null,null,null,null,null,null,null,null,null,1]
[null,"F3","Analyze","Mid%>40","FRE1C IN (6-10) REW (13-21)","F3","A1","EO",1,"6;76;Left;Front",0.36,5.5456381591645725,null,null,null,null,null,null,null,null,null,null,null,1]
[null,"F8","Analyze","Mid%>40","FRE1C IN (6-10) REW (13-21)","F8","A2","EO",1,"9;85;Right;Front",0.31,3.0134981476927321,null,null,null,null,null,null,null,null,null,null,null,1]
[null,"F7","Analyze","Mid%>40","FRE1C IN (6-10) REW (13-21)","F7","A1","EO",1,"9;82;Left;Front",0.2,1.4127328808429538,null,null,null,null,null,null,null,null,null,null,null,1]
[null,"C4","Analyze","Mid%>40","FRE1C IN (6-10) REW (13-21)","C4","A2","EO",1,"12;91;Right;Mid",0.42,12.862932624750114,null,null,null,null,null,null,null,null,null,null,null,1]
[null,"C3","Analyze","Mid%>40","FRE1C IN (6-10) REW (13-21)","C3","A1","EO",1,"12;88;Left;Mid",0.4,8.8454381274812945,null,null,null,null,null,null,null,null,null,null,null,1]
[null,"T4","Analyze","Mid%>40","FRE1C IN (6-10) REW (13-21)","T4","A2","EO",1,"21;109;Right;Mid",0.38,9.0400856680701409,null,null,null,null,null,null,null,null,null,null,null,1]
[null,"T3","Analyze","Mid%>40","FRE1C IN (6-10) REW (13-21)","T3","A1","EO",1,"21;106;Left;Mid",0.3,2.9563868063936005,null,null,null,null,null,null,null,null,null,null,null,1]
[null,"T6","Analyze","Mid%>40","FRE1C IN (6-10) REW (13-21)","T6","A2","EO",1,"24;115;Right;Back",0.34,6.0323483587024418,null,null,null,null,null,null,null,null,null,null,null,1]
[null,"T5","Analyze","Mid%>40","FRE1C IN (6-10) REW (13-21)","T5","A1","EO",1,"24;112;Left;Back",0.38,14.793615511242495,null,null,null,null,null,null,null,null,null,null,null,1]
[null,"P4","Analyze","Mid%>40","FRE1C IN (6-10) REW (13-21)","P4","A2","EO",1,"27;121;Right;Back",0.39,9.2295671517553188,null,null,null,null,null,null,null,null,null,null,null,1]
[null,"P3","Analyze","Mid%>40","FRE1C IN (6-10) REW (13-21)","P3","A1","EO",1,"27;118;Left;Back",0.4,11.320515746909994,null,null,null,null,null,null,null,null,null,null,null,1]
[null,"O2","Analyze","Mid%>40","FRE1C IN (6-10) REW (13-21)","O2","A2","EO",1,"30;127;Right;Back",0.4,8.9518953370577528,null,null,null,null,null,null,null,null,null,null,null,1]
[null,"O1","Analyze","Mid%>40","FRE1C IN (6-10) REW (13-21)","O1","A1","EO",1,"30;124;Left;Back",0.4,8.7865977430747737,null,null,null,null,null,null,null,null,null,null,null,1]
[null,"Fz","Analyze","Mid%>40","FRE1C IN (6-10) REW (13-21)","Fz","A1","EO",4,"15;94;Mid;Front",0.35,3.3460927286816009,null,null,null,null,null,null,null,null,null,null,null,1]
[null,"Pz","Analyze","Mid%>40","FRE1C IN (6-10) REW (13-21)","Pz","A1","EO",4,"15;97;Mid;Back",0.4,10.05950989030349,null,null,null,null,null,null,null,null,null,null,null,1]
[null,"Cz","Analyze","Mid%>40","FRE1C IN (6-10) REW (13-21)","Cz","A1","EO",4,"18;100;Mid;Mid",0.38,7.4226320569799213,null,null,null,null,null,null,null,null,null,null,null,1]
[null,"Oz","Analyze","Mid%>40","FRE1C IN (6-10) REW (13-21)","Oz","A1","EO",4,"18;103;Mid;Back",0.39,9.5562382179493781,null,null,null,null,null,null,null,null,null,null,null,1]
[null,"Fz&Cz","Analyze","AntC>Avg","FRE2C IN (2-6) REW (13-21)","Fz Cz","L(A1 A2)","EC",4,"14;17;5;11;93;99;75;78;87;90",0.63,5.8978892058487293,null,null,null,null,null,null,null,null,null,null,null,1]
[null,"Fz&Cz","Analyze","AntC>Avg","FRE2C IN (2-6) REW (13-21)","Fz Cz","L(A1 A2)","EO",4,"15;18;6;12;94;100;76;79;88;91",0.71,10.485531168764243,null,null,null,null,null,null,null,null,null,null,null,1]
[null,"F3&F4","Synchrony","Slow Coh/Phase <40 (3+/6)","CON2C MBC Up","F3 F4","L(A1 A2)","EC",2,5,";6",null,null,null,null,null,null,null,null,null,null,null,null,2]
[null,"F3&F4","Synchrony","Slow Coh/Phase <40 (3+/6)","CON2C MBC Up","F3 F4","L(A1 A2)","EO",2,6,";6",null,null,null,null,null,null,null,null,null,null,null,null,2]
[null,"O1&O2","Synchrony","Slow Coh/Phase <40 (3+/6)","CON2C MBC Up","O1 O2","L(A1 A2)","EC",2,29,";6",null,null,null,null,null,null,null,null,null,null,null,null,2]
[null,"O1&O2","Synchrony","Slow Coh/Phase <40 (3+/6)","CON2C MBC Up","O1 O2","L(A1 A2)","EO",2,30,";6",null,null,null,null,null,null,null,null,null,null,null,null,2]
[null,"P3&P4","Synchrony","Slow Coh/Phase <40 (3+/6)","CON2C MBC Up","P3 P4","L(A1 A2)","EC",2,26,";6",null,null,null,null,null,null,null,null,null,null,null,null,2]
[null,"P3&P4","Synchrony","Slow Coh/Phase <40 (3+/6)","CON2C MBC Up","P3 P4","L(A1 A2)","EO",2,27,";6",null,null,null,null,null,null,null,null,null,null,null,null,2]
[null,"C3&C4","Synchrony","Slow Coh/Phase <40 (3+/6)","CON2C MBC Up","C3 C4","L(A1 A2)","EC",3,11,";6",null,null,null,null,null,null,null,null,null,null,null,null,2]
[null,"C3&C4","Synchrony","Slow Coh/Phase <40 (3+/6)","CON2C MBC Up","C3 C4","L(A1 A2)","EO",3,12,";6",null,null,null,null,null,null,null,null,null,null,null,null,2]
[null,"Fz&Pz","Synchrony","Slow Coh/Phase <40 (3+/6)","CON2C MBC Up","Fz Pz","L(A1 A2)","EC",4,14,"1;6",4.1550108192957378,null,null,null,null,null,null,null,null,null,null,null,2]
[null,"Fz&Pz","Synchrony","Slow Coh/Phase <40 (3+/6)","CON2C MBC Up","Fz Pz","L(A1 A2)","EO",4,15,"1;6",1.1040089968732048,null,null,null,null,null,null,null,null,null,null,null,2]
[null,"Cz&Oz","Synchrony","Slow Coh/Phase <40 (3+/6)","CON2C MBC Up","Cz Oz","L(A1 A2)","EC",4,17,"3;6",21.612737807172419,null,null,null,null,null,null,null,null,null,null,null,2]
[null,"Cz&Oz","Synchrony","Slow Coh/Phase <40 (3+/6)","CON2C MBC Up","Cz Oz","L(A1 A2)","EO",4,18,"1;6",5.4151418545731387,null,null,null,null,null,null,null,null,null,null,null,2]
[null,"F3&F4","Synchrony","Fast Coh/Phase >40 (3+/6)","CON2C MBC Down","F3 F4","L(A1 A2)","EC",2,5,"4;6",26.950449020071847,null,null,null,null,null,null,null,null,null,null,null,2]
[null,"F3&F4","Synchrony","Fast Coh/Phase >40 (3+/6)","CON2C MBC Down","F3 F4","L(A1 A2)","EO",2,6,"4;6",30.203488793430417,null,null,null,null,null,null,null,null,null,null,null,2]
[null,"O1&O2","Synchrony","Fast Coh/Phase >40 (3+/6)","CON2C MBC Down","O1 O2","L(A1 A2)","EC",2,29,"6;6",81.437912883173823,null,null,null,null,null,null,null,null,null,null,null,2]
[null,"O1&O2","Synchrony","Fast Coh/Phase >40 (3+/6)","CON2C MBC Down","O1 O2","L(A1 A2)","EO",2,30,"6;6",83.295899538872462,null,null,null,null,null,null,null,null,null,null,null,2]
[null,"P3&P4","Synchrony","Fast Coh/Phase >40 (3+/6)","CON2C MBC Down","P3 P4","L(A1 A2)","EC",2,26,"6;6",51.496317056754073,null,null,null,null,null,null,null,null,null,null,null,2]
[null,"P3&P4","Synchrony","Fast Coh/Phase >40 (3+/6)","CON2C MBC Down","P3 P4","L(A1 A2)","EO",2,27,"6;6",49.772451948055107,null,null,null,null,null,null,null,null,null,null,null,2]
[null,"C3&C4","Synchrony","Fast Coh/Phase >40 (3+/6)","CON2C MBC Down","C3 C4","L(A1 A2)","EC",3,11,"6;6",45.333368349492218,null,null,null,null,null,null,null,null,null,null,null,2]
[null,"C3&C4","Synchrony","Fast Coh/Phase >40 (3+/6)","CON2C MBC Down","C3 C4","L(A1 A2)","EO",3,12,"6;6",47.113307253940775,null,null,null,null,null,null,null,null,null,null,null,2]
[null,"Fz&Pz","Synchrony","Fast Coh/Phase >40 (3+/6)","CON2C MBC Down","Fz Pz","L(A1 A2)","EC",4,14,"6;6",38.808434089314304,null,null,null,null,null,null,null,null,null,null,null,2]
[null,"Fz&Pz","Synchrony","Fast Coh/Phase >40 (3+/6)","CON2C MBC Down","Fz Pz","L(A1 A2)","EO",4,15,"6;6",44.881976918778399,null,null,null,null,null,null,null,null,null,null,null,2]
[null,"Cz&Oz","Synchrony","Fast Coh/Phase >40 (3+/6)","CON2C MBC Down","Cz Oz","L(A1 A2)","EC",4,17,"4;6",9.0675272771452367,null,null,null,null,null,null,null,null,null,null,null,2]
[null,"Cz&Oz","Synchrony","Fast Coh/Phase >40 (3+/6)","CON2C MBC Down","Cz Oz","L(A1 A2)","EO",4,18,"5;6",11.705140257282984,null,null,null,null,null,null,null,null,null,null,null,2]
[null,"F3&F4","Synchrony","Gamma Coh/Phase<40 (3+/6)","CON2C Gamma Up","F3 F4","L(A1 A2)","EO",2,5,"6;6",50.524884194716215,null,null,null,null,null,null,null,null,null,null,null,2]
[null,"O1&O2","Synchrony","Gamma Coh/Phase<40 (3+/6)","CON2C Gamma Up","O1 O2","L(A1 A2)","EO",2,29,";6",null,null,null,null,null,null,null,null,null,null,null,null,2]
[null,"P3&P4","Synchrony","Gamma Coh/Phase<40 (3+/6)","CON2C Gamma Up","P3 P4","L(A1 A2)","EO",2,26,";6",null,null,null,null,null,null,null,null,null,null,null,null,2]
[null,"C3&C4","Synchrony","Gamma Coh/Phase<40 (3+/6)","CON2C Gamma Up","C3 C4","L(A1 A2)","EO",3,11,"6;6",17.392340552471648,null,null,null,null,null,null,null,null,null,null,null,2]
[null,"Fz&Pz","Synchrony","Gamma Coh/Phase<40 (3+/6)","CON2C Gamma Up","Fz Pz","L(A1 A2)","EO",4,14,";6",null,null,null,null,null,null,null,null,null,null,null,null,2]
[null,"Cz&Oz","Synchrony","Gamma Coh/Phase<40 (3+/6)","CON2C Gamma Up","Cz Oz","L(A1 A2)","EO",4,17,";6",null,null,null,null,null,null,null,null,null,null,null,null,2]
[null,"C3&C4","Synchrony","LowBeta Coh/Phase<40 (>0.5)","CON2C SMR Coherence","C3 C4","L(A1 A2)","EO",3,11,";6",null,null,null,null,null,null,null,null,null,null,null,null,2]
[null,"F3&F4","Head","Asm(Beta+HiBeta) L/R<1.0","BAL2C Alpha Beta (Beta)","F3 F4","L(A1 A2)","EC",1,"5;75;78;10;11;12",0.2,0.20464960104081287,null,null,null,null,null,null,null,null,null,null,null,3]
[null,"F3&F4","Head","Asm(Beta+HiBeta) L/R<1.0","BAL2C Alpha Beta (Beta)","F3 F4","L(A1 A2)","EO",1,"6;76;79;10;11;12",0.23,0.22531935203447212,null,null,null,null,null,null,null,null,null,null,null,3]
[null,"C3&C4","Head","Asm(Beta+HiBeta) L/R<1.0","BAL2C Alpha Beta (Beta)","C3 C4","L(A1 A2)","EC",3,"11;87;90;10;11;12",0.21,0.20832928397507997,null,null,null,null,null,null,null,null,null,null,null,3]
[null,"C3&C4","Head","Asm(Beta+HiBeta) L/R<1.0","BAL2C Alpha Beta (Beta)","C3 C4","L(A1 A2)","EO",3,"12;88;91;10;11;12",0.23,0.22517789612262612,null,null,null,null,null,null,null,null,null,null,null,3]
[null,"P3&P4","Head","Asm(Beta+HiBeta) L/R<1.0","BAL2C Alpha Beta (Beta)","P3 P4","L(A1 A2)","EC",1,"26;117;120;10;11;12","0.2/0.97",2.7881245625697182,null,null,null,null,null,null,null,null,null,null,null,3]
[null,"P3&P4","Head","Asm(Beta+HiBeta) L/R<1.0","BAL2C Alpha Beta (Beta)","P3 P4","L(A1 A2)","EO",1,"27;118;121;10;11;12","0.23/0.97",3.1155272018902398,null,null,null,null,null,null,null,null,null,null,null,3]
[null,"O1&O2","Head","Asm(Beta+HiBeta) L/R<1.0","BAL2C Alpha Beta (Beta)","O1 O2","L(A1 A2)","EC",1,"29;123;126;10;11;12","0.17/0.97",2.3671773460171766,null,null,null,null,null,null,null,null,null,null,null,3]
[null,"O1&O2","Head","Asm(Beta+HiBeta) L/R<1.0","BAL2C Alpha Beta (Beta)","O1 O2","L(A1 A2)","EO",1,"30;124;127;10;11;12","0.23/0.98",2.7930812659111259,null,null,null,null,null,null,null,null,null,null,null,3]
[null,"F3&F4","Head","Asm(Alpha) R/L<1.0","BAL2C Alpha Beta (Alpha)","F3 F4","L(A1 A2)","EC",1,"5;78;75;7;8",0.3,0.29909769623739518,null,null,null,null,null,null,null,null,null,null,null,3]
[null,"F3&F4","Head","Asm(Alpha) R/L<1.0","BAL2C Alpha Beta (Alpha)","F3 F4","L(A1 A2)","EO",1,"6;79;76;7;8",0.27,0.26841618502336517,null,null,null,null,null,null,null,null,null,null,null,3]
[null,"C3&C4","Head","Asm(Alpha) R/L<1.0","BAL2C Alpha Beta (Alpha)","C3 C4","L(A1 A2)","EC",3,"11;87;90;7;8","0.32/0.99",3.4500680107751691,null,null,null,null,null,null,null,null,null,null,null,3]
[null,"C3&C4","Head","Asm(Alpha) R/L<1.0","BAL2C Alpha Beta (Alpha)","C3 C4","L(A1 A2)","EO",3,"12;88;91;7;8","0.3/0.97",3.8342318603970034,null,null,null,null,null,null,null,null,null,null,null,3]
[null,"P3&P4","Head","Asm(Alpha) R/L<1.0","BAL2C Alpha Beta (Alpha)","P3 P4","L(A1 A2)","EC",1,"26;120;117;7;8","0.35/0.96",4.8740409707154502,null,null,null,null,null,null,null,null,null,null,null,3]
[null,"P3&P4","Head","Asm(Alpha) R/L<1.0","BAL2C Alpha Beta (Alpha)","P3 P4","L(A1 A2)","EO",1,"27;121;118;7;8","0.28/0.98",3.3112754875170207,null,null,null,null,null,null,null,null,null,null,null,3]
[null,"O1&O2","Head","Asm(Alpha) R/L<1.0","BAL2C Alpha Beta (Alpha)","O1 O2","L(A1 A2)","EC",1,"29;126;123;7;8","0.49/0.96",6.7699036042392047,null,null,null,null,null,null,null,null,null,null,null,3]
[null,"O1&O2","Head","Asm(Alpha) R/L<1.0","BAL2C Alpha Beta (Alpha)","O1 O2","L(A1 A2)","EO",1,"30;127;124;7;8",0.28000000000000003,0.28131225618214317,null,null,null,null,null,null,null,null,null,null,null,3]
[null,"F3&F4","Head","DIF (2-4, 4-6, 6-8, 8-10)>15%","BAL2C SUM () DIFF (2-11)","F3 F4","L(A1 A2)","EC",1,"5;75;78;4;5;6;7;Front","0.53/0.55",3.9003875255584717,null,null,null,null,null,null,null,null,null,null,null,3]
[null,"F3&F4","Head","DIF (2-4, 4-6, 6-8, 8-10)>15%","BAL2C SUM () DIFF (2-11)","F3 F4","L(A1 A2)","EO",1,"6;76;79;4;5;6;7;Front","0.5/0.52",5.3553404808044434,null,null,null,null,null,null,null,null,null,null,null,3]
[null,"F7&F8","Head","DIF (2-4, 4-6, 6-8, 8-10)>15%","BAL2C SUM () DIFF (2-11)","F7 F8","L(A1 A2)","EC",1,"8;81;84;4;5;6;7;Front","0.36/0.59",64.372138977050781,null,null,null,null,null,null,null,null,null,null,null,3]
[null,"F7&F8","Head","DIF (2-4, 4-6, 6-8, 8-10)>15%","BAL2C SUM () DIFF (2-11)","F7 F8","L(A1 A2)","EO",1,"9;82;85;4;5;6;7;Front","0.28/0.58",105.48113250732422,null,null,null,null,null,null,null,null,null,null,null,3]
[null,"C3&C4","Head","DIF (2-4, 4-6, 6-8, 8-10)>15%","BAL2C SUM () DIFF (2-11)","C3 C4","L(A1 A2)","EC",3,"11;87;90;4;5;6;7;Mid","0.52/0.52",0.22758673131465912,null,null,null,null,null,null,null,null,null,null,null,3]
[null,"C3&C4","Head","DIF (2-4, 4-6, 6-8, 8-10)>15%","BAL2C SUM () DIFF (2-11)","C3 C4","L(A1 A2)","EO",3,"12;88;91;4;5;6;7;Mid","0.5/0.49",0.24152958393096924,null,null,null,null,null,null,null,null,null,null,null,3]
[null,"P3&P4","Head","DIF (2-4, 4-6, 6-8, 8-10)>15%","BAL2C SUM () DIFF (2-11)","P3 P4","L(A1 A2)","EC",1,"26;117;120;4;5;6;7;Back","0.54/0.53",2.0627701282501221,null,null,null,null,null,null,null,null,null,null,null,3]
[null,"P3&P4","Head","DIF (2-4, 4-6, 6-8, 8-10)>15%","BAL2C SUM () DIFF (2-11)","P3 P4","L(A1 A2)","EO",1,"27;118;121;4;5;6;7;Back","0.51/0.5",1.9799084663391113,null,null,null,null,null,null,null,null,null,null,null,3]
[null,"O1&O2","Head","DIF (2-4, 4-6, 6-8, 8-10)>15%","BAL2C SUM () DIFF (2-11)","O1 O2","L(A1 A2)","EC",1,"29;123;126;4;5;6;7;Back","0.56/0.53",6.1130275726318359,null,null,null,null,null,null,null,null,null,null,null,3]
[null,"O1&O2","Head","DIF (2-4, 4-6, 6-8, 8-10)>15%","BAL2C SUM () DIFF (2-11)","O1 O2","L(A1 A2)","EO",1,"30;124;127;4;5;6;7;Back","0.5/0.49",2.0248672962188721,null,null,null,null,null,null,null,null,null,null,null,3]
[null,"T3&T4","Head","DIF (2-4, 4-6, 6-8, 8-10)>15%","BAL2C SUM () DIFF (2-11)","T3 T4","L(A1 A2)","EC",1,"20;105;108;4;5;6;7;Mid","0.38/0.47",22.922140121459961,null,null,null,null,null,null,null,null,null,null,null,3]
[null,"T3&T4","Head","DIF (2-4, 4-6, 6-8, 8-10)>15%","BAL2C SUM () DIFF (2-11)","T3 T4","L(A1 A2)","EO",1,"21;106;109;4;5;6;7;Mid","0.36/0.45",23.797674179077148,null,null,null,null,null,null,null,null,null,null,null,3]
[null,"T5&T6","Head","DIF (2-4, 4-6, 6-8, 8-10)>15%","BAL2C SUM () DIFF (2-11)","T5 T6","L(A1 A2)","EC",1,"23;111;114;4;5;6;7;Mid","0.54/0.49",11.829837799072266,null,null,null,null,null,null,null,null,null,null,null,3]
[null,"T5&T6","Head","DIF (2-4, 4-6, 6-8, 8-10)>15%","BAL2C SUM () DIFF (2-11)","T5 T6","L(A1 A2)","EO",1,"24;112;115;4;5;6;7;Mid","0.48/0.42",12.740571022033691,null,null,null,null,null,null,null,null,null,null,null,3]
[null,"F3&F4","Head","DIF (15-19, 19-22, 23-38)>15%","BAL2C SUM () DIFF (15-38) ","F3 F4","L(A1 A2)","EC",1,"5;75;78;10;11;12;Front","0.22/0.2",7.6849660873413086,null,null,null,null,null,null,null,null,null,null,null,3]
[null,"F3&F4","Head","DIF (15-19, 19-22, 23-38)>15%","BAL2C SUM () DIFF (15-38) ","F3 F4","L(A1 A2)","EO",1,"6;76;79;10;11;12;Front","0.25/0.23",9.9354667663574219,null,null,null,null,null,null,null,null,null,null,null,3]
[null,"F7&F8","Head","DIF (15-19, 19-22, 23-38)>15%","BAL2C SUM () DIFF (15-38) ","F7 F8","L(A1 A2)","EC",1,"8;81;84;10;11;12;Front","0.39/0.19",105.88033294677734,null,null,null,null,null,null,null,null,null,null,null,3]
[null,"F7&F8","Head","DIF (15-19, 19-22, 23-38)>15%","BAL2C SUM () DIFF (15-38) ","F7 F8","L(A1 A2)","EO",1,"9;82;85;10;11;12;Front","0.47/0.21",126.67598724365234,null,null,null,null,null,null,null,null,null,null,null,3]
[null,"C3&C4","Head","DIF (15-19, 19-22, 23-38)>15%","BAL2C SUM () DIFF (15-38) ","C3 C4","L(A1 A2)","EC",3,"11;87;90;10;11;12;Mid","0.21/0.21",1.3314235210418701,null,null,null,null,null,null,null,null,null,null,null,3]
[null,"C3&C4","Head","DIF (15-19, 19-22, 23-38)>15%","BAL2C SUM () DIFF (15-38) ","C3 C4","L(A1 A2)","EO",3,"12;88;91;10;11;12;Mid","0.23/0.23",3.3750388622283936,null,null,null,null,null,null,null,null,null,null,null,3]
[null,"P3&P4","Head","DIF (15-19, 19-22, 23-38)>15%","BAL2C SUM () DIFF (15-38) ","P3 P4","L(A1 A2)","EC",1,"26;117;120;10;11;12;Back","0.2/0.21",3.5638535022735596,null,null,null,null,null,null,null,null,null,null,null,3]
[null,"P3&P4","Head","DIF (15-19, 19-22, 23-38)>15%","BAL2C SUM () DIFF (15-38) ","P3 P4","L(A1 A2)","EO",1,"27;118;121;10;11;12;Back","0.23/0.24",3.4069194793701172,null,null,null,null,null,null,null,null,null,null,null,3]
[null,"Fz&Pz","Head","DIF (15-19, 19-22, 23-38)>15%","BAL2C SUM () DIFF (15-38) ","Fz Pz","L(A1 A2)","EC",4,"14;93;96;10;11;12;Front","0.21/0.22",6.0043759346008301,null,null,null,null,null,null,null,null,null,null,null,3]
[null,"Fz&Pz","Head","DIF (15-19, 19-22, 23-38)>15%","BAL2C SUM () DIFF (15-38) ","Fz Pz","L(A1 A2)","EO",4,"15;94;97;10;11;12;Front","0.23/0.25",9.39923095703125,null,null,null,null,null,null,null,null,null,null,null,3]
[null,"T3&T4","Head","DIF (15-19, 19-22, 23-38)>15%","BAL2C SUM () DIFF (15-38) ","T3 T4","L(A1 A2)","EC",1,"20;105;108;10;11;12;Mid","0.33/0.26",24.747848510742188,null,null,null,null,null,null,null,null,null,null,null,3]
[null,"T3&T4","Head","DIF (15-19, 19-22, 23-38)>15%","BAL2C SUM () DIFF (15-38) ","T3 T4","L(A1 A2)","EO",1,"21;106;109;10;11;12;Mid","0.36/0.28",32.121929168701172,null,null,null,null,null,null,null,null,null,null,null,3]
[null,"T5&T6","Head","DIF (15-19, 19-22, 23-38)>15%","BAL2C SUM () DIFF (15-38) ","T5 T6","L(A1 A2)","EC",1,"23;111;114;10;11;12;Mid","0.21/0.25",21.324197769165039,null,null,null,null,null,null,null,null,null,null,null,3]
[null,"T5&T6","Head","DIF (15-19, 19-22, 23-38)>15%","BAL2C SUM () DIFF (15-38) ","T5 T6","L(A1 A2)","EO",1,"24;112;115;10;11;12;Mid","0.25/0.3",17.61578369140625,null,null,null,null,null,null,null,null,null,null,null,3]
[null,"F7/F8&C3/C4","Analyze","Alpha&Beta Rev <1","BAL2C Dual Bipolar","F7 C3","I(F8 C4)","EC",3,"8;11;81;84;87;90","2.06/1.01/1.25/1",null,null,null,null,null,null,null,null,null,null,null,null,4]
[null,"F7/F8&C3/C4","Analyze","Alpha&Beta Rev <1","BAL2C Dual Bipolar","F7 C3","I(F8 C4)","EO",3,"9;12;82;85;88;91","2.27/1.03/1.59/1.04",null,null,null,null,null,null,null,null,null,null,null,null,4]
[null,"T3/T4&C3/C4","Analyze","Alpha&Beta Rev <1","BAL2C Dual Bipolar","T3 C3","I(T4 C4)","EC",3,"20;11;105;108;87;90","1.25/1.01/0.91/1",null,null,null,null,null,null,null,null,null,null,null,null,4]
[null,"T3/T4&C3/C4","Analyze","Alpha&Beta Rev <1","BAL2C Dual Bipolar","T3 C3","I(T4 C4)","EO",3,"21;12;106;109;88;91","1.32/1.03/1.1/1.04",null,null,null,null,null,null,null,null,null,null,null,null,4]
[null,"C4","Analyze","T/B ratio EO>2","BAL1C Difference (Theta/Beta)","C4","A2","EO",3,"12;64;60",1.23,1.2313388537083634,null,null,null,null,null,null,null,null,null,null,null,4]
[null,"C3","Analyze","T/B ratio EO>2","BAL1C Difference (Theta/Beta)","C3","A1","EO",3,"12;62;59",1.32,1.3190853517033454,null,null,null,null,null,null,null,null,null,null,null,4]
[null,"F3","Analyze","T/B ratio EO>2","BAL1C Difference (Theta/Beta)","F3","A1","EO",1,"6;62;59",1.69,1.6894969647431857,null,null,null,null,null,null,null,null,null,null,null,4]
[null,"F7","Analyze","T/B ratio EO>2","BAL1C Difference (Theta/Beta)","F7","A1","EO",1,"9;62;59",0.3,0.29843923066748457,null,null,null,null,null,null,null,null,null,null,null,4]
[null,"T3","Analyze","T/B ratio EO>2","BAL1C Difference (Theta/Beta)","T3","A1","EO",1,"21;62;59",0.65,0.65231917899721548,null,null,null,null,null,null,null,null,null,null,null,4]
[null,"C4","Analyze","SMR% EO<12","SMR%1C Up","C4","A2","EO",3,"12;91",1.41,3.9912919650744461,null,null,null,null,null,null,null,null,null,null,null,4]
[null,"Cz","Analyze","SMR% EO<12","SMR%1C Up","Cz","A2","EO",3,"17;100",1.4,3.9043663317903401,null,null,null,null,null,null,null,null,null,null,null,4]
[null,"C3","Analyze","SMR% EO<12","SMR%1C Up","C3","A1","EO",3,"12;88",1.52,4.6036607910679894,null,null,null,null,null,null,null,null,null,null,null,4]

{"sheet":"Amplitude","index":16,"n_rows":159,"n_cols":43,"rows_kept":159,"cut":false,"hidden":true,"merged":[[138,0,140,0],[138,1,140,1],[141,0,143,0],[141,1,143,1],[122,0,127,0],[122,1,124,1],[125,1,127,1],[132,0,134,0],[132,1,134,1],[135,0,137,0],[135,1,137,1],[110,0,115,0],[110,1,112,1],[113,1,115,1],[116,0,121,0],[116,1,118,1],[119,1,121,1],[95,1,97,1],[98,0,103,0],[98,1,100,1],[101,1,103,1],[104,0,109,0],[104,1,106,1],[107,1,109,1],[53,0,58,0],[53,1,55,1],[56,1,58,1],[59,0,64,0],[59,1,61,1],[62,1,64,1],[41,0,46,0],[41,1,43,1],[44,1,46,1],[47,0,52,0],[47,1,49,1],[50,1,52,1],[29,0,34,0],[29,1,31,1],[32,1,34,1],[35,0,40,0],[35,1,37,1],[38,1,40,1],[17,0,22,0],[17,1,19,1],[20,1,22,1],[23,0,28,0],[23,1,25,1],[26,1,28,1],[0,2,0,6],[1,2,1,6],[1,9,1,10],[11,0,16,0],[11,1,13,1],[14,1,16,1],[5,0,10,0],[5,1,7,1],[8,1,10,1],[153,0,155,0],[153,1,155,1],[156,0,158,0],[156,1,158,1],[144,0,146,0],[144,1,146,1],[147,0,149,0],[147,1,149,1],[150,0,152,0],[150,1,152,1],[68,0,73,0],[68,1,70,1],[71,1,73,1],[129,0,131,0],[129,1,131,1],[74,0,79,0],[74,1,76,1],[77,1,79,1],[80,0,85,0],[80,1,82,1],[83,1,85,1],[86,0,91,0],[86,1,88,1],[89,1,91,1],[92,0,97,0],[92,1,94,1]]}
["Name:",null,{"$f":"Raw!B45","v":"Example adult"},null,null,null,null,null,"Age:",{"$f":"Raw!B46","v":"46"},null,null,null,null,null,null,null,null,"L","R","H","D","V","S","H","M","A","RevFP","RevF3","RevF7","RevC3","RevFz","RevCz","RevT3","RevT5","RevP3","RevO1","DR","Red","Green","Blue","Bold","Italic"]
["Trainer:",null,{"$f":"Raw!B47","v":"sample"},null,null,null,null,null,"Date:",{"$f":"Raw!B48","v":"8/17/2015"},null,null,null,null,null,null,null,null,3,1,1,1,1,1,1,1,1,0,0,0,0,0,0,0,0,0,0,0,"150","50","50",0,1]
[null,"Amplitude",null,null,null,null,null,null,null,null,null,null,null,null,null,"Power",null,null,null,null,null,null,null,null,null,null,null,null,null,null,null,null,null,null,null,null,null,null,"150","50","50",1,1]
[]
["SITE","CHNL","CND","2-4 Hz","4-6 Hz","6-8 Hz","8-10 Hz","10-12Hz","12-15 Hz","15-19 Hz","19-23 Hz","23-38 Hz","38-42 Hz","TOT",null,"2-4 D","4-6 T1","6-8 T2","8-10 A1","10-12 A2","12-15 B1","15-19 B2","19-23 B3","23-38 HB","38-42 G","TOT"]
["Frontal    Fp1 & Fp2","Fp1","ECL",{"$f":"Raw!B2","v":10.447979411764706},{"$f":"Raw!C2","v":8.123397058823528},{"$f":"Raw!D2","v":6.4981147058823536},{"$f":"Raw!E2","v":13.326376470588233},{"$f":"Raw!F2","v":9.1743558823529412},{"$f":"Raw!G2","v":6.1700235294117647},{"$f":"Raw!H2","v":7.2494588235294115},{"$f":"Raw!I2","v":6.2024764705882331},{"$f":"Raw!J2","v":9.6732058823529421},{"$f":"Raw!K2","v":4.8094117647058798},{"$f":"SUM(D6:M6)","v":81.674800000000005},null,{"$f":"D6^2","v":109.16027378865917},{"$f":"E6^2","v":65.989579775302744},{"$f":"F6^2","v":42.225494730804506},{"$f":"G6^2","v":177.59230983584769},{"$f":"H6^2","v":84.168805856064012},{"$f":"I6^2","v":38.069190353494811},{"$f":"J6^2","v":52.554653234048438},{"$f":"K6^2","v":38.470714368200667},{"$f":"L6^2","v":93.570912042387562},{"$f":"M6^2","v":23.130441522491324},{"$f":"SUM(P6:Y6)","v":724.932375507301}]
[null,null,"EOL",{"$f":"Raw!B3","v":0},{"$f":"Raw!C3","v":0},{"$f":"Raw!D3","v":0},{"$f":"Raw!E3","v":0},{"$f":"Raw!F3","v":0},{"$f":"Raw!G3","v":0},{"$f":"Raw!H3","v":0},{"$f":"Raw!I3","v":0},{"$f":"Raw!J3","v":0},{"$f":"Raw!K3","v":0},{"$f":"SUM(D7:M7)","v":0},null,{"$f":"D7^2","v":0},0,0,0,0,0,0,0,0,0,0]
[null,null,"TSKL",{"$f":"Raw!B4","v":0},{"$f":"Raw!C4","v":0},{"$f":"Raw!D4","v":0},{"$f":"Raw!E4","v":0},{"$f":"Raw!F4","v":0},{"$f":"Raw!G4","v":0},{"$f":"Raw!H4","v":0},{"$f":"Raw!I4","v":0},{"$f":"Raw!J4","v":0},{"$f":"Raw!K4","v":0},0,null,0,0,0,0,0,0,0,0,0,0,0]
[null,"Fp2","ECR",{"$f":"Raw!L2","v":12.692488235294116},{"$f":"Raw!M2","v":9.8147941176470574},{"$f":"Raw!N2","v":6.5234235294117653},{"$f":"Raw!O2","v":14.20716176470588},{"$f":"Raw!P2","v":9.166091176470589},{"$f":"Raw!Q2","v":5.723673529411764},{"$f":"Raw!R2","v":6.5171882352941166},{"$f":"Raw!S2","v":5.2648705882352926},{"$f":"Raw!T2","v":8.5857088235294086},{"$f":"Raw!U2","v":4.5093705882352948},83.004770588235289,null,161.09925760307954,96.330183571799282,42.555054544083056,201.84344540852069,84.01722745537198,32.760438671288917,42.473742494256044,27.718862310865035,73.714396002430746,20.33442310204153,782.84703116373692]
[null,null,"EOR",{"$f":"Raw!L3","v":0},{"$f":"Raw!M3","v":0},{"$f":"Raw!N3","v":0},{"$f":"Raw!O3","v":0},{"$f":"Raw!P3","v":0},{"$f":"Raw!Q3","v":0},{"$f":"Raw!R3","v":0},{"$f":"Raw!S3","v":0},{"$f":"Raw!T3","v":0},{"$f":"Raw!U3","v":0},0,null,0,0,0,0,0,0,0,0,0,0,0]
[null,null,"TSKR",{"$f":"Raw!L4","v":0},{"$f":"Raw!M4","v":0},{"$f":"Raw!N4","v":0},{"$f":"Raw!O4","v":0},{"$f":"Raw!P4","v":0},{"$f":"Raw!Q4","v":0},{"$f":"Raw!R4","v":0},{"$f":"Raw!S4","v":0},{"$f":"Raw!T4","v":0},{"$f":"Raw!U4","v":0},0,null,0,0,0,0,0,0,0,0,0,0,0]
["Frontal    F3 & F4","F3","ECL",{"$f":"Raw!B5","v":11.21224358974359},{"$f":"Raw!C5","v":7.8651282051282028},{"$f":"Raw!D5","v":6.3693948717948707},{"$f":"Raw!E5","v":12.933056410256413},{"$f":"Raw!F5","v":8.8435435897435912},{"$f":"Raw!G5","v":6.6827384615384631},{"$f":"Raw!H5","v":5.1828820512820499},{"$f":"Raw!I5","v":4.5386333333333333},{"$f":"Raw!J5","v":6.3236051282051262},{"$f":"Raw!K5","v":2.8564230769230763},{"$f":"SUM(D12:M12)","v":72.807648717948723},null,{"$f":"D12^2","v":125.71440631574622},{"$f":"E12^2","v":61.860241683103183},40.569191032846796,167.26394811087448,78.208263223694971,44.658993345325463,26.862266357501628,20.599192534444445,39.98798181746217,8.159152794378695,{"$f":"SUM(P12:Y12)","v":613.88363721537803}]
[null,null,"EOL",{"$f":"Raw!B6","v":8.439824999999999},{"$f":"Raw!C6","v":6.5312104166666671},{"$f":"Raw!D6","v":5.4529958333333353},{"$f":"Raw!E6","v":8.9504812500000011},{"$f":"Raw!F6","v":6.8814624999999987},{"$f":"Raw!G6","v":5.4312624999999999},{"$f":"Raw!H6","v":4.7434395833333349},{"$f":"Raw!I6","v":3.7847854166666672},{"$f":"Raw!J6","v":6.0821666666666649},{"$f":"Raw!K6","v":2.6851916666666669},{"$f":"SUM(D13:M13)","v":58.982820833333335},null,{"$f":"D13^2","v":71.230646030624982},42.656709506775179,29.735163558350717,80.111114606601575,47.35452613890623,29.498612343906249,22.500219080733523,14.324600650212679,36.99275136111109,7.2102542867361121,381.61459756395834]
[null,null,"TSKL",{"$f":"Raw!B7","v":9.7756716981132072},{"$f":"Raw!C7","v":7.1279169811320724},{"$f":"Raw!D7","v":5.2013698113207552},{"$f":"Raw!E7","v":4.4157924528301873},{"$f":"Raw!F7","v":4.3568547169811316},{"$f":"Raw!G7","v":4.3722471698113203},{"$f":"Raw!H7","v":4.0146415094339618},{"$f":"Raw!I7","v":3.7604037735849039},{"$f":"Raw!J7","v":6.2956000000000012},{"$f":"Raw!K7","v":2.9627132075471696},52.28321132075471,null,95.563757149291561,50.807200489910954,27.054247914118907,19.499222986472041,18.982183024880737,19.116545313923101,16.117346449270201,14.140636540391585,39.634579360000018,8.7776695501744388,309.69338877843353]
[null,"F4","ECR",{"$f":"Raw!L5","v":13.627592307692307},{"$f":"Raw!M5","v":9.3920769230769281},{"$f":"Raw!N5","v":7.202856410256409},{"$f":"Raw!O5","v":14.88915384615385},{"$f":"Raw!P5","v":9.7628487179487209},{"$f":"Raw!Q5","v":7.7988051282051272},{"$f":"Raw!R5","v":5.9986487179487193},{"$f":"Raw!S5","v":4.3029051282051274},{"$f":"Raw!T5","v":6.5545333333333327},{"$f":"Raw!U5","v":2.836179487179487},82.365600000000015,null,185.71127210467455,88.211108928994179,51.881140466771839,221.68690225443797,95.313215089552983,60.821361427718593,35.983786441347817,18.514992542333985,42.961907217777771,8.0439140834976985,809.12960055710732]
[null,null,"EOR",{"$f":"Raw!L6","v":10.788533333333335},{"$f":"Raw!M6","v":8.040314583333334},{"$f":"Raw!N6","v":6.2658937499999974},{"$f":"Raw!O6","v":10.757112499999998},{"$f":"Raw!P6","v":8.0646895833333314},{"$f":"Raw!Q6","v":6.2198874999999996},{"$f":"Raw!R6","v":5.1306458333333333},{"$f":"Raw!S6","v":4.2724937500000015},{"$f":"Raw!T6","v":5.9928791666666674},{"$f":"Raw!U6","v":2.7973166666666667},68.329766666666657,null,116.39245148444449,64.646658598962688,39.26142448628903,115.7154693376562,65.039218075525142,38.687000512656248,26.323526667100694,18.254202843789077,35.914600706267372,7.8249805336111109,528.05953324630207]
[null,null,"TSKR",{"$f":"Raw!L7","v":10.573801886792454},{"$f":"Raw!M7","v":7.8446320754716981},{"$f":"Raw!N7","v":5.756898113207547},{"$f":"Raw!O7","v":5.7666339622641534},{"$f":"Raw!P7","v":5.0291943396226415},{"$f":"Raw!Q7","v":4.7851698113207535},{"$f":"Raw!R7","v":4.7772283018867929},{"$f":"Raw!S7","v":3.8960886792452833},{"$f":"Raw!T7","v":6.8271924528301868},{"$f":"Raw!U7","v":3.2061018867924536},58.462941509433968,null,111.80528634113567,61.538252399519401,33.141875885852613,33.254067254738366,25.292795705692416,22.897850123175495,22.821910248348171,15.179506996543257,46.610556787981466,10.279089308494131,382.82119105148098]
["Frontal    F7 & F8","F7","ECL",{"$f":"Raw!B8","v":8.7446512820512812},{"$f":"Raw!C8","v":6.4009410256410266},{"$f":"Raw!D8","v":5.4697666666666676},{"$f":"Raw!E8","v":11.096920512820514},{"$f":"Raw!F8","v":7.6907512820512807},{"$f":"Raw!G8","v":6.5450589743589749},{"$f":"Raw!H8","v":8.9892230769230785},{"$f":"Raw!I8","v":9.6634641025641024},{"$f":"Raw!J8","v":15.818792307692307},{"$f":"Raw!K8","v":7.9490230769230763},88.368592307692296,null,76.468926044681112,40.972046013734399,29.918347387777789,123.1416448678567,59.147655282373414,42.837796977836959,80.806131526686414,93.382538461545039,250.23419007390532,63.186967877455615,860.09624451385264]
[null,null,"EOL",{"$f":"Raw!B9","v":8.7170960000000033},{"$f":"Raw!C9","v":6.1868420000000004},{"$f":"Raw!D9","v":5.0588980000000001},{"$f":"Raw!E9","v":6.0904299999999987},{"$f":"Raw!F9","v":5.3908400000000007},{"$f":"Raw!G9","v":6.8103960000000008},{"$f":"Raw!H9","v":9.6163319999999999},{"$f":"Raw!I9","v":11.742727999999994},{"$f":"Raw!J9","v":21.641219999999997},{"$f":"Raw!K9","v":11.097729999999999},92.35251199999999,null,75.987762673216054,38.277013932964003,25.592448974404,37.093337584899984,29.061155905600007,46.381493676816014,92.473841134224003,137.89166088198385,468.34240308839986,123.15961115289997,1074.2607290054077]
[null,null,"TSKL",{"$f":"Raw!B10","v":9.7549499999999991},{"$f":"Raw!C10","v":6.1442315789473669},{"$f":"Raw!D10","v":5.1900999999999993},{"$f":"Raw!E10","v":10.043952631578948},{"$f":"Raw!F10","v":8.1518868421052666},{"$f":"Raw!G10","v":7.5610078947368411},{"$f":"Raw!H10","v":12.535271052631577},{"$f":"Raw!I10","v":15.35172894736842},{"$f":"Raw!J10","v":22.56034210526316},{"$f":"Raw!K10","v":11.446423684210531},108.7398947368421,null,95.159049502499983,37.751581695734053,26.937138009999991,100.88098446540168,66.45325908648897,57.168840384272841,157.13302036294317,235.67558167346948,508.96903590650982,131.0206151584558,1417.1491062457758]
[null,"F8","ECR",{"$f":"Raw!L8","v":15.714579487179485},{"$f":"Raw!M8","v":10.476356410256411},{"$f":"Raw!N8","v":8.1548435897435905},{"$f":"Raw!O8","v":15.56021025641026},{"$f":"Raw!P8","v":9.2189153846153857},{"$f":"Raw!Q8","v":6.4342025641025655},{"$f":"Raw!R8","v":5.6724846153846142},{"$f":"Raw!S8","v":4.2308487179487191},{"$f":"Raw!T8","v":6.1269820512820514},{"$f":"Raw!U8","v":3.0153641025641025},84.60478717948719,null,246.94800845888224,109.7540436347206,66.501473973182129,242.12014322369504,84.98840086869825,41.398962635904027,32.177081711775138,17.900080874168321,37.539909056732412,9.0924206710322153,888.42052510879034]
[null,null,"EOR",{"$f":"Raw!L9","v":13.479079999999996},{"$f":"Raw!M9","v":10.446232000000002},{"$f":"Raw!N9","v":7.3117900000000029},{"$f":"Raw!O9","v":9.6225120000000022},{"$f":"Raw!P9","v":6.5243360000000017},{"$f":"Raw!Q9","v":5.8431779999999991},{"$f":"Raw!R9","v":4.568854},{"$f":"Raw!S9","v":3.9624519999999976},{"$f":"Raw!T9","v":5.9472720000000008},{"$f":"Raw!U9","v":2.7812660000000005},70.486972000000009,null,181.68559764639988,109.12376299782404,53.462273004100041,92.592737190144035,42.566960240896023,34.142729139683986,20.874426873316001,15.701025852303982,35.370044241984012,7.7354405627560023,593.25499774940806]
[null,null,"TSKR",{"$f":"Raw!L10","v":14.291468421052633},{"$f":"Raw!M10","v":10.109710526315789},{"$f":"Raw!N10","v":7.7214763157894728},{"$f":"Raw!O10","v":15.783973684210528},{"$f":"Raw!P10","v":9.0673394736842088},{"$f":"Raw!Q10","v":6.7595552631578943},{"$f":"Raw!R10","v":5.6879815789473698},{"$f":"Raw!S10","v":4.191723684210527},{"$f":"Raw!T10","v":6.1429394736842111},{"$f":"Raw!U10","v":2.7629657894736837},82.519134210526317,null,204.24606962994463,102.20624692590026,59.621196495297774,249.13382526385047,82.216645131031825,45.691587355685591,32.353134442444613,17.570547444771474,37.735705377347649,7.6339799538019362,838.40893802007622]
["Central    C3 & C4","C3","ECF",{"$f":"Raw!B11","v":9.9186175438596482},{"$f":"Raw!C11","v":6.9192561403508774},{"$f":"Raw!D11","v":5.9771964912280682},{"$f":"Raw!E11","v":12.71467192982456},{"$f":"Raw!F11","v":8.9240807017543844},{"$f":"Raw!G11","v":6.6925684210526342},{"$f":"Raw!H11","v":5.164494736842105},{"$f":"Raw!I11","v":4.0227105263157874},{"$f":"Raw!J11","v":5.1616561403508765},{"$f":"Raw!K11","v":2.4756403508771925},67.970892982456121,null,98.378973981360403,47.876105535783324,35.72687789474913,161.6628822830686,79.639216371425022,44.790472070470948,26.672005886869805,16.182199978531838,26.642694111221907,{"$f":"M24^2","v":6.1287951468913491},543.70022326037235]
[null,null,"EOF",{"$f":"Raw!B12","v":8.4647966101694898},{"$f":"Raw!C12","v":6.230471186440675},{"$f":"Raw!D12","v":5.6831186440677959},{"$f":"Raw!E12","v":10.46256779661017},{"$f":"Raw!F12","v":8.2210237288135595},{"$f":"Raw!G12","v":6.1469915254237284},{"$f":"Raw!H12","v":5.0827152542372849},{"$f":"Raw!I12","v":3.9855830508474583},{"$f":"Raw!J12","v":5.4043983050847473},{"$f":"Raw!K12","v":2.4922203389830511},62.173886440677968,null,71.652781651536884,38.81877120506747,32.297837522550985,109.46532489866418,67.585231149715597,37.785504813631135,25.833994355656387,15.884872255202534,29.207521040002888,{"$f":"M25^2","v":6.2111622180407942},434.74300111006886]
[null,null,"TSKF",{"$f":"Raw!B13","v":7.7597983333333334},{"$f":"Raw!C13","v":5.7961966666666678},{"$f":"Raw!D13","v":5.0724016666666669},{"$f":"Raw!E13","v":5.7978883333333355},{"$f":"Raw!F13","v":5.9421616666666646},{"$f":"Raw!G13","v":5.4657433333333332},{"$f":"Raw!H13","v":4.6652783333333323},{"$f":"Raw!I13","v":3.1615499999999992},{"$f":"Raw!J13","v":5.6203599999999989},{"$f":"Raw!K13","v":2.645305},51.92668333333333,null,60.214470174002777,33.595895798677788,25.729258668002782,33.615509125802802,35.309285272802754,29.874350185877777,21.764821927469434,9.9953984024999958,31.588446529599988,6.9976385430250003,288.68507462776108]
[null,"C4","ECB",{"$f":"Raw!L11","v":10.221259649122809},{"$f":"Raw!M11","v":7.1745631578947373},{"$f":"Raw!N11","v":6.4781631578947358},{"$f":"Raw!O11","v":13.776989473684212},{"$f":"Raw!P11","v":9.4138140350877215},{"$f":"Raw!Q11","v":7.5042122807017568},{"$f":"Raw!R11","v":5.8596438596491209},{"$f":"Raw!S11","v":4.1447035087719293},{"$f":"Raw!T11","v":4.9673210526315783},{"$f":"Raw!U11","v":2.3247350877192985},71.865405263157896,null,104.47414881478612,51.474356506620502,41.966597900304698,189.8054389580056,88.619894687214568,56.313201953835062,34.33542616192365,17.178567175626341,24.67427843991689,5.4043932280732543,614.24630382630664]
[null,null,"EOB",{"$f":"Raw!L12","v":8.5776406779661016},{"$f":"Raw!M12","v":7.1059152542372868},{"$f":"Raw!N12","v":6.1093050847457624},{"$f":"Raw!O12","v":11.691964406779659},{"$f":"Raw!P12","v":9.3429559322033882},{"$f":"Raw!Q12","v":7.1849779661016973},{"$f":"Raw!R12","v":5.769993220338983},{"$f":"Raw!S12","v":4.1319813559322052},{"$f":"Raw!T12","v":5.3351033898305067},{"$f":"Raw!U12","v":2.4170084745762712},67.666845762711858,null,73.575919600298761,50.494031600402167,37.32360861850043,136.70203168940242,87.290825551094485,51.623908373366881,33.292821762757825,17.073269925771346,28.463328180180962,5.8419299661735131,521.68167526794878]
[null,null,"TSKB",{"$f":"Raw!L13","v":7.7619800000000003},{"$f":"Raw!M13","v":6.2716299999999991},{"$f":"Raw!N13","v":5.4774616666666684},{"$f":"Raw!O13","v":6.7338216666666666},{"$f":"Raw!P13","v":6.8144416666666672},{"$f":"Raw!Q13","v":6.5456850000000024},{"$f":"Raw!R13","v":5.4390850000000013},{"$f":"Raw!S13","v":3.3503350000000007},{"$f":"Raw!T13","v":5.2489666666666688},{"$f":"Raw!U13","v":2.3239366666666665},55.967343333333346,null,60.248333520400003,39.333342856899989,30.002586309802798,45.344354238469442,46.436615228402786,42.845992119225031,29.583645637225015,11.224744612225004,27.551651067777801,5.4006816306777772,337.97194722110561]
["Midline    Fz & Pz","Fz","ECL",{"$f":"Raw!B14","v":10.079825454545453},{"$f":"Raw!C14","v":7.6213854545454556},{"$f":"Raw!D14","v":6.787963636363636},{"$f":"Raw!E14","v":14.49190727272727},{"$f":"Raw!F14","v":11.323476363636363},{"$f":"Raw!G14","v":6.3854509090909088},{"$f":"Raw!H14","v":5.772380000000001},{"$f":"Raw!I14","v":4.4820581818181813},{"$f":"Raw!J14","v":5.4288327272727273},{"$f":"Raw!K14","v":2.3638836363636364},74.737163636363633,null,101.60288119410245,58.085516246757038,46.076450328595037,210.01537640132554,128.22111695783138,40.773983312409911,33.320370864400012,20.088845545203302,29.472224780707439,{"$f":"M30^2","v":5.5879458462677691},673.24471147759982]
[null,null,"EOL",{"$f":"Raw!B15","v":9.372996428571426},{"$f":"Raw!C15","v":7.0199821428571409},{"$f":"Raw!D15","v":6.7836839285714294},{"$f":"Raw!E15","v":9.3692464285714276},{"$f":"Raw!F15","v":5.9206285714285718},{"$f":"Raw!G15","v":6.0283392857142859},{"$f":"Raw!H15","v":5.0972749999999989},{"$f":"Raw!I15","v":3.8554375000000007},{"$f":"Raw!J15","v":5.1766035714285712},{"$f":"Raw!K15","v":2.2121714285714282},60.836364285714289,null,87.85306205001271,49.280149286033136,46.018367642758299,87.782778639298456,35.053842680816331,36.340874543686226,25.98221242562499,14.864398316406255,26.79722453572704,{"$f":"M31^2","v":4.893702429387754},414.86661254975127]
[null,null,"TSKL",{"$f":"Raw!B16","v":9.2354916666666647},{"$f":"Raw!C16","v":6.7273349999999983},{"$f":"Raw!D16","v":5.4817866666666655},{"$f":"Raw!E16","v":7.8426316666666649},{"$f":"Raw!F16","v":5.4225699999999977},{"$f":"Raw!G16","v":5.9165383333333343},{"$f":"Raw!H16","v":4.5743633333333316},{"$f":"Raw!I16","v":3.788355000000001},{"$f":"Raw!J16","v":5.4210250000000002},{"$f":"Raw!K16","v":2.2157416666666672},56.625838333333327,null,85.294306325069414,45.257036202224974,30.049985058844431,61.506871459002753,29.404265404899974,35.005425849802791,20.924799905344429,14.351633606025008,29.387512050625002,4.9095111334027797,356.09134699524157]
[null,"Pz","ECR",{"$f":"Raw!L14","v":9.2657563636363651},{"$f":"Raw!M14","v":7.1793072727272724},{"$f":"Raw!N14","v":7.0872654545454541},{"$f":"Raw!O14","v":18.694438181818182},{"$f":"Raw!P14","v":11.915414545454546},{"$f":"Raw!Q14","v":9.1942490909090893},{"$f":"Raw!R14","v":8.0630509090909097},{"$f":"Raw!S14","v":4.8124872727272745},{"$f":"Raw!T14","v":5.991976363636363},{"$f":"Raw!U14","v":2.6146090909090907},84.818554545454546,null,85.854240990267797,51.542452916234708,50.229331623193382,349.48201893382151,141.97710379002976,84.534216345682609,65.012789962591739,23.160033750162,35.903780742376853,6.836180698264462,894.53214975262495]
[null,null,"EOR",{"$f":"Raw!L15","v":7.7776428571428573},{"$f":"Raw!M15","v":5.7303000000000015},{"$f":"Raw!N15","v":5.6516499999999983},{"$f":"Raw!O15","v":10.690376785714287},{"$f":"Raw!P15","v":6.8018303571428547},{"$f":"Raw!Q15","v":7.3187500000000005},{"$f":"Raw!R15","v":6.1270660714285725},{"$f":"Raw!S15","v":4.0003553571428574},{"$f":"Raw!T15","v":5.6843142857142865},{"$f":"Raw!U15","v":2.448801785714287},62.231087500000001,null,60.491728413265307,32.836338090000019,31.941147722499981,114.28415582053893,46.264896207350091,53.564101562500007,37.54093864365116,16.002842983421559,32.311428898775517,5.9966301857174811,431.23420852772]
[null,null,"TSKR",{"$f":"Raw!L16","v":7.0944983333333322},{"$f":"Raw!M16","v":5.453901666666666},{"$f":"Raw!N16","v":5.1208416666666672},{"$f":"Raw!O16","v":8.5412083333333317},{"$f":"Raw!P16","v":5.8520100000000017},{"$f":"Raw!Q16","v":6.6253149999999996},{"$f":"Raw!R16","v":5.3944600000000005},{"$f":"Raw!S16","v":4.0537099999999997},{"$f":"Raw!T16","v":5.8035066666666673},{"$f":"Raw!U16","v":2.4239583333333323},56.363410000000002,null,50.331906601669431,29.745043389669437,26.223019375069448,72.952239793402754,34.246021040100018,43.894798849224998,29.100198691600006,16.432564764099997,33.680689630044448,5.8755740017361067,342.48205613661662]
["Midline    Cz & Oz","Cz","ECL",{"$f":"Raw!B17","v":9.4578481481481482},{"$f":"Raw!C17","v":7.1531574074074058},{"$f":"Raw!D17","v":6.9168685185185197},{"$f":"Raw!E17","v":15.435853703703705},{"$f":"Raw!F17","v":11.222962962962958},{"$f":"Raw!G17","v":7.6129203703703716},{"$f":"Raw!H17","v":6.7268777777777764},{"$f":"Raw!I17","v":4.6281277777777783},{"$f":"Raw!J17","v":5.7366888888888905},{"$f":"Raw!K17","v":2.4559333333333333},77.347238888888882,null,89.450891593429361,51.167660895147442,47.843070102472581,238.26557956214339,125.9548976680383,57.95655656560016,45.250884637160475,21.419566727438276,32.909599407901254,{"$f":"M36^2","v":6.0316085377777773},716.25031569710893]
[null,null,"EOL",{"$f":"Raw!B18","v":7.9996285714285706},{"$f":"Raw!C18","v":6.0457517857142866},{"$f":"Raw!D18","v":6.0455339285714302},{"$f":"Raw!E18","v":10.171662499999996},{"$f":"Raw!F18","v":6.7470035714285741},{"$f":"Raw!G18","v":6.5423428571428568},{"$f":"Raw!H18","v":5.7044392857142867},{"$f":"Raw!I18","v":4.0121303571428566},{"$f":"Raw!J18","v":5.4225250000000003},{"$f":"Raw!K18","v":2.248964285714286},60.939982142857147,null,63.994057280816314,36.551114654467483,36.548480481508314,103.46271801390618,45.522057192869937,42.802250060408156,32.540627564400523,16.097190002707265,29.403777375625001,{"$f":"M37^2","v":5.0578403584183684},411.98011298512762]
[null,null,"TSKL",{"$f":"Raw!B19","v":7.6640699999999979},{"$f":"Raw!C19","v":5.6973749999999974},{"$f":"Raw!D19","v":5.2479849999999999},{"$f":"Raw!E19","v":8.4453583333333331},{"$f":"Raw!F19","v":5.5670966666666661},{"$f":"Raw!G19","v":6.283621666666666},{"$f":"Raw!H19","v":5.0666583333333346},{"$f":"Raw!I19","v":3.8388316666666671},{"$f":"Raw!J19","v":5.478748333333332},{"$f":"Raw!K19","v":2.1983016666666666},55.488046666666662,null,58.73796896489997,32.46008189062497,27.541346560224998,71.324077378402777,30.992565296011104,39.48390124980277,25.671026666736125,14.73662856500278,30.016683300002764,4.8325302176694445,335.79681008937763]
[null,"Oz","ECR",{"$f":"Raw!L17","v":9.2881481481481512},{"$f":"Raw!M17","v":6.8360555555555571},{"$f":"Raw!N17","v":6.3298907407407414},{"$f":"Raw!O17","v":26.48980925925926},{"$f":"Raw!P17","v":18.521927777777773},{"$f":"Raw!Q17","v":8.0318000000000005},{"$f":"Raw!R17","v":7.3513907407407419},{"$f":"Raw!S17","v":6.2036962962962967},{"$f":"Raw!T17","v":7.987099999999999},{"$f":"Raw!U17","v":3.909038888888889},100.94885740740742,null,86.269696021947937,46.731655558641997,40.06751678971537,701.70999459193763,343.06180860521584,64.509811240000005,54.042945823048711,38.485847736680391,63.793766409999982,15.280585034845679,1453.9536278120336]
[null,null,"EOR",{"$f":"Raw!L18","v":7.2095392857142855},{"$f":"Raw!M18","v":5.9331749999999994},{"$f":"Raw!N18","v":5.5834196428571428},{"$f":"Raw!O18","v":10.943060714285711},{"$f":"Raw!P18","v":7.7203178571428603},{"$f":"Raw!Q18","v":7.4551803571428579},{"$f":"Raw!R18","v":5.6788053571428581},{"$f":"Raw!S18","v":4.7245678571428575},{"$f":"Raw!T18","v":8.2182035714285711},{"$f":"Raw!U18","v":3.7472392857142856},67.213508928571429,null,51.977456712257649,35.202565580624992,31.174574908242985,119.75057779654328,59.603307815318928,55.579714157528713,32.248830284314423,22.321541436747452,67.53886994144132,14.041802264400509,489.43924089742023]
[null,null,"TSKR",{"$f":"Raw!L19","v":6.7290316666666676},{"$f":"Raw!M19","v":5.5946966666666667},{"$f":"Raw!N19","v":4.7609883333333345},{"$f":"Raw!O19","v":8.3171583333333334},{"$f":"Raw!P19","v":6.1213250000000006},{"$f":"Raw!Q19","v":7.1653550000000026},{"$f":"Raw!R19","v":5.2045416666666675},{"$f":"Raw!S19","v":4.9168349999999972},{"$f":"Raw!T19","v":8.5736433333333348},{"$f":"Raw!U19","v":3.9809650000000003},61.364540000000012,null,45.279867171002792,31.300630792011113,22.667009910136123,69.175122741736118,37.470619755625009,51.342312276025034,27.087253960069454,24.175266417224972,73.507360007211133,15.848082331225003,397.85352536226674]
["Temporal    T3 & T4","T3","ECL",{"$f":"Raw!B20","v":6.7488237288135595},{"$f":"Raw!C20","v":4.7142423728813565},{"$f":"Raw!D20","v":4.174362711864406},{"$f":"Raw!E20","v":7.5655406779661032},{"$f":"Raw!F20","v":7.0055779661016944},{"$f":"Raw!G20","v":5.2730983050847433},{"$f":"Raw!H20","v":5.0879898305084748},{"$f":"Raw!I20","v":5.9713406779661016},{"$f":"Raw!J20","v":8.8707169491525395},{"$f":"Raw!K20","v":4.8869101694915251},{"$f":"SUM(D42:M42)","v":60.298603389830504},null,45.54662172259696,22.224081150270042,17.425304050203959,57.237405749959805,49.078122639129553,27.805565735087594,25.887640515357656,35.656909492332659,78.689619191982132,{"$f":"M42^2","v":23.881891004679687},383.43316125160004]
[null,null,"EOL",{"$f":"Raw!B21","v":5.7715349999999992},{"$f":"Raw!C21","v":4.4969683333333332},{"$f":"Raw!D21","v":4.0107699999999999},{"$f":"Raw!E21","v":6.2628633333333337},{"$f":"Raw!F21","v":6.4625000000000012},{"$f":"Raw!G21","v":4.5620650000000023},{"$f":"Raw!H21","v":5.1500916666666665},{"$f":"Raw!I21","v":5.6858399999999998},{"$f":"Raw!J21","v":9.8108966666666628},{"$f":"Raw!K21","v":4.4682633333333319},56.681793333333331,null,33.310616256224989,20.222724191002776,16.086275992899999,39.223457132011113,41.763906250000019,20.812437064225019,26.523444175069443,32.328776505599997,96.253693404011031,{"$f":"M43^2","v":19.965377216011099},346.49070818705547]
[null,null,"TSKL",{"$f":"Raw!B22","v":5.8255899999999974},{"$f":"Raw!C22","v":4.2932899999999998},{"$f":"Raw!D22","v":3.5056299999999996},{"$f":"Raw!E22","v":3.5632933333333336},{"$f":"Raw!F22","v":3.8651866666666663},{"$f":"Raw!G22","v":4.3589150000000005},{"$f":"Raw!H22","v":5.4750849999999982},{"$f":"Raw!I22","v":5.0318366666666661},{"$f":"Raw!J22","v":10.302366666666664},{"$f":"Raw!K22","v":4.5851966666666657},50.806389999999993,null,33.93749884809997,18.432339024099999,12.289441696899997,12.69705937937778,14.939667968177774,19.000139977225004,29.976555757224979,25.319380240011107,106.1387589344444,21.024028472011103,293.7548702975721]
[null,"T4","ECR",{"$f":"Raw!L20","v":10.282533898305081},{"$f":"Raw!M20","v":7.3253338983050824},{"$f":"Raw!N20","v":6.5699881355932215},{"$f":"Raw!O20","v":13.015208474576269},{"$f":"Raw!P20","v":8.3193338983050875},{"$f":"Raw!Q20","v":7.8444966101694904},{"$f":"Raw!R20","v":6.5126915254237279},{"$f":"Raw!S20","v":5.0308881355932202},{"$f":"Raw!T20","v":9.289983050847459},{"$f":"Raw!U20","v":4.4408559322033918},78.631313559322024,null,105.73050336979308,53.660516721657537,43.164744101835694,169.39565163668195,69.211316511488121,61.536127066960624,42.415150905326044,25.309835432852626,86.303785085033056,19.721201410586055,676.44883224221485]
[null,null,"EOR",{"$f":"Raw!L21","v":8.2571633333333345},{"$f":"Raw!M21","v":6.8760216666666674},{"$f":"Raw!N21","v":5.8930599999999993},{"$f":"Raw!O21","v":11.811734999999999},{"$f":"Raw!P21","v":9.1827983333333343},{"$f":"Raw!Q21","v":6.9143983333333336},{"$f":"Raw!R21","v":6.4561183333333334},{"$f":"Raw!S21","v":5.0462916666666677},{"$f":"Raw!T21","v":8.6764566666666685},{"$f":"Raw!U21","v":4.0776700000000003},73.19171333333334,null,68.180746313344457,47.279673960469452,34.728156163599991,139.51708371022497,84.323785230669458,47.808904312002781,41.681463934002778,25.465059585069454,75.280900288544473,16.627392628900004,580.89316612682785]
[null,null,"TSKR",{"$f":"Raw!L22","v":7.992569999999998},{"$f":"Raw!M22","v":6.3279883333333347},{"$f":"Raw!N22","v":5.8412216666666632},{"$f":"Raw!O22","v":8.9317383333333353},{"$f":"Raw!P22","v":7.5788700000000011},{"$f":"Raw!Q22","v":7.0401216666666668},{"$f":"Raw!R22","v":7.0404733333333338},{"$f":"Raw!S22","v":5.4668349999999988},{"$f":"Raw!T22","v":10.861701666666665},{"$f":"Raw!U22","v":5.2544883333333354},72.336008333333325,null,63.881175204899968,40.043436346802793,34.119870559136068,79.775949655136145,57.439270476900013,49.563313081469445,49.568264757377783,29.886284917224987,117.97656309566941,27.609647645136132,549.86377573975267]
["Temporal    T5 & T6","T5","ECL",{"$f":"Raw!B23","v":6.7671542372881355},{"$f":"Raw!C23","v":5.4770033898305073},{"$f":"Raw!D23","v":5.3424050847457627},{"$f":"Raw!E23","v":16.789833898305087},{"$f":"Raw!F23","v":8.5284288135593247},{"$f":"Raw!G23","v":5.2906220338983054},{"$f":"Raw!H23","v":4.941722033898305},{"$f":"Raw!I23","v":3.9901118644067801},{"$f":"Raw!J23","v":4.0749423728813561},{"$f":"Raw!K23","v":1.9824627118644065},63.184686440677972,null,45.794376471246764,29.997566132214867,28.541292089517381,281.89852233267459,72.734098027948917,27.990681505570244,24.420616660316,15.920992690479752,16.605155342303938,{"$f":"M48^2","v":3.9301584039327766},547.83345965620526]
[null,null,"EOL",{"$f":"Raw!B24","v":5.5555383333333319},{"$f":"Raw!C24","v":4.6179000000000006},{"$f":"Raw!D24","v":4.4583233333333316},{"$f":"Raw!E24","v":7.2602883333333352},{"$f":"Raw!F24","v":5.5681966666666654},{"$f":"Raw!G24","v":4.8945633333333332},{"$f":"Raw!H24","v":4.210936666666667},{"$f":"Raw!I24","v":3.2325266666666677},{"$f":"Raw!J24","v":4.2908649999999993},{"$f":"Raw!K24","v":1.9680033333333333},46.057141666666666,null,30.864006173136094,21.325000410000005,19.876646944544429,52.71178668313614,31.004814118677764,23.95675022401111,17.731987610677781,10.449228650711117,18.411522448224993,{"$f":"M49^2","v":3.8730371200111109},230.20478038313053]
[null,null,"TSKL",{"$f":"Raw!B25","v":6.1759775862068977},{"$f":"Raw!C25","v":6.1924637931034479},{"$f":"Raw!D25","v":4.7909275862068945},{"$f":"Raw!E25","v":12.183067241379312},{"$f":"Raw!F25","v":7.2972224137931043},{"$f":"Raw!G25","v":5.3403017241379303},{"$f":"Raw!H25","v":4.7142362068965538},{"$f":"Raw!I25","v":3.755674137931035},{"$f":"Raw!J25","v":4.2105034482758636},{"$f":"Raw!K25","v":1.871704137931034},56.532078275862077,null,38.142699145329978,38.346607828897142,22.952987136278221,148.42712740796972,53.24945495636446,28.518822504830549,22.224023014414406,14.105088230324023,17.728339287942937,3.5032763799481552,387.19842589229961]
[null,"T6","ECR",{"$f":"Raw!L23","v":9.5568999999999988},{"$f":"Raw!M23","v":7.3655203389830524},{"$f":"Raw!N23","v":6.9590677966101717},{"$f":"Raw!O23","v":17.736496610169493},{"$f":"Raw!P23","v":10.046508474576269},{"$f":"Raw!Q23","v":7.2928694915254244},{"$f":"Raw!R23","v":6.2497288135593214},{"$f":"Raw!S23","v":5.3311661016949161},{"$f":"Raw!T23","v":9.7837406779661045},{"$f":"Raw!U23","v":5.2221338983050831},85.544132203389836,null,91.334337609999977,54.250889863973022,48.42862459781675,314.5833120025539,100.93233252973279,53.1859454204223,39.059110243033601,28.421332003860968,95.721581653688645,27.270682451827046,853.188148376909]
[null,null,"EOR",{"$f":"Raw!L24","v":8.2560383333333327},{"$f":"Raw!M24","v":5.6403599999999994},{"$f":"Raw!N24","v":5.709645000000001},{"$f":"Raw!O24","v":10.055319999999998},{"$f":"Raw!P24","v":7.1858666666666684},{"$f":"Raw!Q24","v":6.7443783333333327},{"$f":"Raw!R24","v":5.5882266666666656},{"$f":"Raw!S24","v":5.340234999999999},{"$f":"Raw!T24","v":10.15339},{"$f":"Raw!U24","v":5.6794216666666664},70.352881666666661,null,68.162168961469433,31.813660929599994,32.600046026025012,101.10946030239997,51.636679751111139,45.486639103136099,31.22827727804443,28.518109855224989,{"$f":"L52^2","v":103.0913284921},32.255830467802774,525.90220116691376]
[null,null,"TSKR",{"$f":"Raw!L25","v":9.127532758620692},{"$f":"Raw!M25","v":8.549436206896555},{"$f":"Raw!N25","v":6.0912275862068963},{"$f":"Raw!O25","v":15.175025862068965},{"$f":"Raw!P25","v":9.0711637931034499},{"$f":"Raw!Q25","v":6.974798275862069},{"$f":"Raw!R25","v":6.0538051724137958},{"$f":"Raw!S25","v":5.210087931034483},{"$f":"Raw!T25","v":9.6156879310344845},{"$f":"Raw!U25","v":5.1798879310344814},81.048653448275886,null,{"$f":"D53^2","v":83.31185425969386},73.092859455793757,37.103053506967889,230.28140991446193,82.286012561310969,48.647810988968487,36.648557065544026,27.14501624911118,92.461454387042238,26.83123897807668,737.8092673669712]
["Parietal    P3 & P4","P3","ECF",{"$f":"Raw!B26","v":9.2123862068965519},{"$f":"Raw!C26","v":8.1069827586206866},{"$f":"Raw!D26","v":5.9949499999999993},{"$f":"Raw!E26","v":18.592136206896551},{"$f":"Raw!F26","v":9.6649017241379305},{"$f":"Raw!G26","v":7.9314793103448293},{"$f":"Raw!H26","v":6.5975431034482757},{"$f":"Raw!I26","v":4.3110017241379319},{"$f":"Raw!J26","v":4.9480982758620673},{"$f":"Raw!K26","v":2.1155156896551728},77.474994999999993,null,84.868059625017835,65.723169448573074,35.939425502499994,345.66752873579367,93.410325337244345,62.908364050428091,43.527575001857905,18.584735865520223,24.483676547589162,{"$f":"M54^2","v":4.4754066331772009},779.58826674770148]
[null,null,"EOF",{"$f":"Raw!B27","v":7.947947368421052},{"$f":"Raw!C27","v":6.0991771929824568},{"$f":"Raw!D27","v":5.4252192982456133},{"$f":"Raw!E27","v":10.248442105263155},{"$f":"Raw!F27","v":6.6371666666666682},{"$f":"Raw!G27","v":6.7541508771929823},{"$f":"Raw!H27","v":5.6036315789473674},{"$f":"Raw!I27","v":3.3455912280701745},{"$f":"Raw!J27","v":4.4758385964912302},{"$f":"Raw!K27","v":2.0751143859649122},58.61227929824561,null,63.169867371191124,37.19996243139736,29.433004434056624,105.0305655849307,44.051981361111132,45.618554071886734,31.400686872576166,11.192980665340098,20.033131141840585,{"$f":"M55^2","v":4.3060997148385347},391.43683364916899]
[null,null,"TSKF",{"$f":"Raw!B28","v":6.8993749999999983},{"$f":"Raw!C28","v":5.1778116666666678},{"$f":"Raw!D28","v":4.0389049999999989},{"$f":"Raw!E28","v":5.9961401666666667},{"$f":"Raw!F28","v":4.5841166666666675},{"$f":"Raw!G28","v":4.4651249999999996},{"$f":"Raw!H28","v":3.8539099999999995},{"$f":"Raw!I28","v":3.1174283333333319},{"$f":"Raw!J28","v":5.1322433333333333},{"$f":"Raw!K28","v":2.3294936666666666},45.594548833333327,null,47.601375390624973,26.809733655469458,16.31275359902499,35.95369689831336,21.014125613611117,19.937341265624998,14.852622288099996,9.718359413469436,26.339921632544442,5.4265407430401105,223.96647049982292]
[null,"P4","ECB",{"$f":"Raw!L26","v":9.5064568965517271},{"$f":"Raw!M26","v":8.8216775862068992},{"$f":"Raw!N26","v":6.3535793103448306},{"$f":"Raw!O26","v":19.241396551724133},{"$f":"Raw!P26","v":9.8993068965517228},{"$f":"Raw!Q26","v":8.7727327586206929},{"$f":"Raw!R26","v":6.9371068965517235},{"$f":"Raw!S26","v":4.5529051724137934},{"$f":"Raw!T26","v":6.0770431034482746},{"$f":"Raw!U26","v":2.7161396551724133},82.878344827586204,null,90.372722725995899,77.821995434985183,40.367970052841891,370.23134126070136,97.996277032116495,76.960840054176629,48.123452094185488,20.728945508992275,36.930452881168236,7.3774146264001166,866.91141167156354]
[null,null,"EOB",{"$f":"Raw!L27","v":8.9274526315789497},{"$f":"Raw!M27","v":6.7010105263157911},{"$f":"Raw!N27","v":5.5218543859649136},{"$f":"Raw!O27","v":10.837687719298248},{"$f":"Raw!P27","v":7.2854789473684223},{"$f":"Raw!Q27","v":7.117403508771929},{"$f":"Raw!R27","v":5.7488473684210515},{"$f":"Raw!S27","v":3.7791035087719296},{"$f":"Raw!T27","v":5.7093263157894736},{"$f":"Raw!U27","v":2.7042859649122799},64.332450877192997,null,79.699410489085921,44.903542073795037,30.490875859799953,117.45547510102807,53.078203492548496,50.657432706678968,33.049246065401647,14.281623330012309,32.596406980166201,7.3131625800215412,463.52537867853812]
[null,null,"TSKB",{"$f":"Raw!L28","v":7.0104933333333337},{"$f":"Raw!M28","v":5.3344666666666658},{"$f":"Raw!N28","v":4.2888133333333345},{"$f":"Raw!O28","v":6.7290300000000025},{"$f":"Raw!P28","v":5.4275049999999982},{"$f":"Raw!Q28","v":5.1386433333333335},{"$f":"Raw!R28","v":4.2551949999999996},{"$f":"Raw!S28","v":3.6333249999999997},{"$f":"Raw!T28","v":6.3763633333333329},{"$f":"Raw!U28","v":3.0367283333333339},51.230563333333336,null,49.147016776711119,28.45653461777777,18.393919808177788,45.279844740900032,29.457810525024982,26.405655307211113,18.106684488024996,13.201050555624997,40.658009358677774,9.221718970469448,278.32824514859999]
["Occipital O1 & O2","O1","ECL",{"$f":"Raw!B29","v":8.2381862068965539},{"$f":"Raw!C29","v":7.1474948275862085},{"$f":"Raw!D29","v":7.4013775862068973},{"$f":"Raw!E29","v":34.662172413793101},{"$f":"Raw!F29","v":17.171058620689656},{"$f":"Raw!G29","v":7.5792810344827561},{"$f":"Raw!H29","v":6.9924568965517224},{"$f":"Raw!I29","v":5.9823534482758598},{"$f":"Raw!J29","v":4.7269327586206895},{"$f":"Raw!K29","v":2.0041206896551715},101.90543448275862,null,67.867711979500626,51.086682310371607,54.780390173605838,1201.4661964435195,294.84525415516055,57.445500999669996,48.894453450133746,35.788552780098073,22.343893304521401,{"$f":"M60^2","v":4.0164997387039207},1838.5351353352853]
[null,null,"EOL",{"$f":"Raw!B30","v":7.7897526315789483},{"$f":"Raw!C30","v":6.75701754385965},{"$f":"Raw!D30","v":5.7559403508771911},{"$f":"Raw!E30","v":9.994589473684206},{"$f":"Raw!F30","v":7.024543859649123},{"$f":"Raw!G30","v":7.112205263157894},{"$f":"Raw!H30","v":4.9992438596491242},{"$f":"Raw!I30","v":3.467998245614035},{"$f":"Raw!J30","v":5.317340350877191},{"$f":"Raw!K30","v":2.2804507017543854},60.499082280701749,null,60.680246061191148,45.657286088027099,33.130849322856243,99.891818747479135,49.344216436134197,50.583463705290846,24.992439168239471,12.027011831582024,28.27410840706677,{"$f":"M61^2","v":5.2004554031320689},409.78189517099901]
[null,null,"TSKL",{"$f":"Raw!B31","v":6.5914759259259261},{"$f":"Raw!C31","v":6.1640111111111118},{"$f":"Raw!D31","v":6.2073296296296308},{"$f":"Raw!E31","v":7.166448148148147},{"$f":"Raw!F31","v":5.5783888888888882},{"$f":"Raw!G31","v":6.1192351851851852},{"$f":"Raw!H31","v":4.7343203703703702},{"$f":"Raw!I31","v":4.1292388888888887},{"$f":"Raw!J31","v":6.4911759259259263},{"$f":"Raw!K31","v":3.224055555555557},56.405679629629638,null,43.447554882061048,37.995032977901239,38.530941130877927,51.357979060096007,31.118422595679004,37.445039251608364,22.413789369303839,17.050613801512345,42.135364901320308,10.394534225308652,331.8892721956687]
[null,"O2","ECR",{"$f":"Raw!L29","v":8.6589224137931033},{"$f":"Raw!M29","v":7.3664034482758609},{"$f":"Raw!N29","v":7.364099999999997},{"$f":"Raw!O29","v":31.190527586206894},{"$f":"Raw!P29","v":18.98214827586207},{"$f":"Raw!Q29","v":8.234398275862068},{"$f":"Raw!R29","v":7.0695448275862072},{"$f":"Raw!S29","v":6.033289655172414},{"$f":"Raw!T29","v":5.3852327586206901},{"$f":"Raw!U29","v":2.4496206896551733},102.73418793103448,null,74.976937368088585,54.263899762770492,54.229968809999953,972.8490111059333,360.32195316681333,67.805314965520196,49.978464069250897,36.400584063210466,29.000731864521409,6.0006415231866868,1705.8275066992953]
[null,null,"EOR",{"$f":"Raw!L30","v":7.9830947368421015},{"$f":"Raw!M30","v":6.9878807017543876},{"$f":"Raw!N30","v":6.0734947368421048},{"$f":"Raw!O30","v":10.571705263157895},{"$f":"Raw!P30","v":7.574447368421052},{"$f":"Raw!Q30","v":7.3349631578947356},{"$f":"Raw!R30","v":5.1617140350877175},{"$f":"Raw!S30","v":3.7013877192982454},{"$f":"Raw!T30","v":6.1364596491228047},{"$f":"Raw!U30","v":2.885880701754385},64.411028070175433,null,63.72980157739606,48.83047670195139,36.887338318448748,111.76095217108035,57.372252936980601,53.80168452767311,26.643291780021528,13.700271048571867,37.656137025312375,8.3283074247583819,458.71051351219444]
[null,null,"TSKR",{"$f":"Raw!L31","v":6.5424555555555575},{"$f":"Raw!M31","v":6.6087111111111119},{"$f":"Raw!N31","v":6.7526870370370382},{"$f":"Raw!O31","v":7.3865444444444437},{"$f":"Raw!P31","v":5.887181481481484},{"$f":"Raw!Q31","v":6.2985500000000005},{"$f":"Raw!R31","v":4.9315888888888884},{"$f":"Raw!S31","v":4.2533499999999993},{"$f":"Raw!T31","v":7.2311555555555564},{"$f":"Raw!U31","v":3.4877222222222235},59.379946296296303,null,42.803724696419778,43.675062550123464,45.598782220168054,54.561038829753073,34.658905795898519,39.671732102500009,24.320568969012342,18.090986222499993,52.289610668641991,12.164206299382725,367.83461835440005]
[]
[]
[null,null,null,null,null,null,null,null,null,null,null,null,null,null,null,null,null,null,null,null,null,null,null,null,null,null,null,null,null,"2-4 Hz","4-6 Hz","6-8 Hz","8-10 Hz","10-12Hz","12-15 Hz","15-19 Hz","19-23 Hz","23-38 Hz","38-42 Hz","Score"]
["Frontal    F3 & F4","Fp1","EC",{"$f":"D6/$N6","v":0.12792170181946824},9.9460262636988733E-2,7.9560827891618391E-2,0.16316387025849138,0.11232786468228806,7.5543784979109393E-2,8.8760043777632899E-2,7.5941128360133517E-2,0.11843562374628333,5.8884891847985912E-2,null,null,{"$f":"P6/$Z6","v":0.15057994024928162},9.102860074241248E-2,5.8247494742189564E-2,0.24497776045878794,0.11610573441027994,5.2514126337445392E-2,7.2495938945023902E-2,5.3068004227676019E-2,0.12907536648078036,3.1907033406122678E-2,null,null,"F3-F4","EC",{"$f":"(D12-D15)/((D12+D15)/2)","v":-0.19447380634250025},-0.17696361683191497,-0.12281846557965743,-0.14061409340738848,-9.8816053429666512E-2,-0.15413642333778663,-0.14591323558514699,5.3322893103648461E-2,-3.5863600289419331E-2,7.1122441855487953E-3,-6]
[null,null,"EO",{"$f":"D7/$N7","v":{"$error":"#DIV/0!"}},{"$error":"#DIV/0!"},{"$error":"#DIV/0!"},{"$error":"#DIV/0!"},{"$error":"#DIV/0!"},{"$error":"#DIV/0!"},{"$error":"#DIV/0!"},{"$error":"#DIV/0!"},{"$error":"#DIV/0!"},{"$error":"#DIV/0!"},null,null,{"$f":"P7/$Z7","v":{"$error":"#DIV/0!"}},{"$f":"Q7/$Z7","v":{"$error":"#DIV/0!"}},{"$error":"#DIV/0!"},{"$error":"#DIV/0!"},{"$error":"#DIV/0!"},{"$error":"#DIV/0!"},{"$error":"#DIV/0!"},{"$error":"#DIV/0!"},{"$error":"#DIV/0!"},{"$error":"#DIV/0!"},null,null,"F3-F4","EO",-0.24429629327863434,-0.20713057372741245,-0.13873292531448883,-0.18334366670207994,-0.15833200100416028,-0.13537290310398539,-7.8428782750132015E-2,-0.12106030416595366,1.4788763741752123E-2,-4.0902810605242965E-2,-7]
[null,null,"TSK",{"$f":"D8/$N8","v":{"$error":"#DIV/0!"}},{"$error":"#DIV/0!"},{"$error":"#DIV/0!"},{"$error":"#DIV/0!"},{"$error":"#DIV/0!"},{"$error":"#DIV/0!"},{"$error":"#DIV/0!"},{"$error":"#DIV/0!"},{"$error":"#DIV/0!"},{"$error":"#DIV/0!"},null,null,{"$f":"P8/$Z8","v":{"$error":"#DIV/0!"}},{"$error":"#DIV/0!"},{"$error":"#DIV/0!"},{"$error":"#DIV/0!"},{"$error":"#DIV/0!"},{"$error":"#DIV/0!"},{"$error":"#DIV/0!"},{"$error":"#DIV/0!"},{"$error":"#DIV/0!"},{"$error":"#DIV/0!"},null,null,"F7-F8","EC",{"$f":"(D18-D21)/((D18+D21)/2)","v":-0.56992211005231097},-0.48294644330283759,-0.39415100653079133,-0.33486647773372047,-0.18074443839588067,1.708208281771775E-2,0.45243549130073035,0.78199122976344104,0.88325069764029107,0.8999424944768738,-1]
[null,"Fp2","EC",{"$f":"D9/$N9","v":0.15291275604215801},0.11824373524668426,7.8590947040535097E-2,0.17116078586836717,0.11042848635702089,6.89559586617665E-2,7.8515827332674204E-2,6.342853008236024E-2,0.10343632977580094,5.4326643592632638E-2,null,null,{"$f":"P9/$Z9","v":0.20578638123414522},0.12305109393925935,5.4359348442342657E-2,0.25783254885500612,0.10732266216872105,4.1847816197998565E-2,5.4255481343675707E-2,3.5407763212258359E-2,9.4161941053606632E-2,2.5974963552986216E-2,null,null,"F7-F8","EO",-0.42908147781852085,-0.51215908737013993,-0.36423067172981843,-0.44957615193895617,-0.19026089081688777,0.15287664971177342,0.71165482074045416,0.99079106384008353,1.1377169872133639,1.1984244393470533,0]
[null,null,"EO",{"$f":"D10/$N10","v":{"$error":"#DIV/0!"}},{"$error":"#DIV/0!"},{"$error":"#DIV/0!"},{"$error":"#DIV/0!"},{"$error":"#DIV/0!"},{"$error":"#DIV/0!"},{"$error":"#DIV/0!"},{"$error":"#DIV/0!"},{"$error":"#DIV/0!"},{"$error":"#DIV/0!"},null,null,{"$f":"P10/$Z10","v":{"$error":"#DIV/0!"}},{"$error":"#DIV/0!"},{"$error":"#DIV/0!"},{"$error":"#DIV/0!"},{"$error":"#DIV/0!"},{"$error":"#DIV/0!"},{"$error":"#DIV/0!"},{"$error":"#DIV/0!"},{"$error":"#DIV/0!"},{"$error":"#DIV/0!"},null,null,"C3-C4","EC",{"$f":"(D24-D27)/((D24+D27)/2)","v":-3.0054016949876257E-2},-3.6229642532119063E-2,-8.044194319221433E-2,-8.0200145070474932E-2,-5.3412165394256389E-2,-0.11434195916667535,-0.12611400278081927,-2.9873098616539449E-2,3.8372104905900511E-2,6.2872275341036607E-2,-1]
[null,null,"TSK",{"$f":"D11/$N11","v":{"$error":"#DIV/0!"}},{"$error":"#DIV/0!"},{"$error":"#DIV/0!"},{"$error":"#DIV/0!"},{"$error":"#DIV/0!"},{"$error":"#DIV/0!"},{"$error":"#DIV/0!"},{"$error":"#DIV/0!"},{"$error":"#DIV/0!"},{"$error":"#DIV/0!"},null,null,{"$f":"P11/$Z11","v":{"$error":"#DIV/0!"}},{"$f":"Q11/$Z11","v":{"$error":"#DIV/0!"}},{"$error":"#DIV/0!"},{"$error":"#DIV/0!"},{"$error":"#DIV/0!"},{"$error":"#DIV/0!"},{"$error":"#DIV/0!"},{"$error":"#DIV/0!"},{"$error":"#DIV/0!"},{"$f":"Y11/$Z11","v":{"$error":"#DIV/0!"}},null,null,"C3-C4","EO",-1.3242714746577981E-2,-0.13128654777524698,-7.2281398714773848E-2,-0.11098375708256947,-0.12775375798002594,-0.1557138937855766,-0.1266555657901853,-3.6069514881206792E-2,1.290467979292728E-2,3.0641009927687295E-2,-4]
["Frontal    F3 & F4","F3","EC",{"$f":"D12/$N12","v":0.15399815523749388},0.10802612560113169,8.7482496467773882E-2,0.17763321076825439,0.12146448546914081,9.1786214487256448E-2,7.1185955631669129E-2,6.2337315010894699E-2,8.6853582550128622E-2,3.9232458776256342E-2,null,null,{"$f":"P12/$Z12","v":0.2047854001875602},{"$f":"Q12/$Z12","v":0.10076867655848566},6.6086125404598947E-2,0.27246849072178603,0.12739916570908044,7.2748303811943887E-2,4.3757912296458777E-2,3.3555532817072499E-2,6.5139351162462389E-2,{"$f":"Y12/$Z12","v":1.3291041330551211E-2},null,null,"T3-T4","EC",{"$f":"(D42-D45)/((D42+D45)/2)","v":-0.41496517739312522},-0.43375139898780113,-0.44593209170857967,-0.5295888654215446,-0.17145363625283697,-0.39205331795914977,-0.24562379591379915,0.17095673218754598,-4.6172901010965384E-2,9.5640099124501485E-2,-6]
[null,null,"EO",{"$f":"D13/$N13","v":0.14308954507022065},0.1107307233596336,9.2450577240816692E-2,0.15174725663411742,0.11666892838924778,9.2082108370961396E-2,8.0420697354180198E-2,6.4167589192813707E-2,0.10311759561064281,4.5524978777365756E-2,null,null,{"$f":"P13/$Z13","v":0.18665597827055547},{"$f":"Q13/$Z13","v":0.11177955397690452},7.7919355674980761E-2,0.20992675625615975,0.12408992329222848,7.7299486267587814E-2,5.8960582808844204E-2,3.7536825744229778E-2,9.6937464125467915E-2,1.8894073583041272E-2,null,null,"T3-T4","EO",-0.35436335920450712,-0.41836901875994509,-0.38011355202987118,-0.61399667802668534,-0.34774643159569013,-0.40994046075170038,-0.22505652864572789,0.11918384030261749,0.12272605813776061,9.1410339420698719E-2,-6]
[null,null,"TSK",0.18697534927875764,0.13633280743607507,9.9484512904355268E-2,8.445909004593341E-2,8.3331811625955043E-2,8.3626216893752325E-2,7.6786436946352635E-2,7.1923733806537396E-2,0.12041341457350106,5.666662648878016E-2,null,null,{"$f":"P14/$Z14","v":0.30857538653387762},0.16405645819665968,8.7358170675947325E-2,6.296299402252506E-2,6.1293471907019996E-2,6.1727327759004268E-2,5.2042914163728457E-2,4.5660117563918474E-2,0.12798006284969846,2.8343096327620731E-2,null,null,"T5-T6","EC",{"$f":"(D48-D51)/((D48+D51)/2)","v":-0.34179569880862087},{"$f":"(E48-E51)/((E48+E51)/2)","v":-0.29410371186084827},-0.26284051145039988,-5.4837145907066183E-2,-0.16345462032720728,-0.31823400581337402,-0.23375106543190646,-0.28774042404165867,-0.82385870059069644,-0.89933451148889865,-9]
[null,"F4","EC",0.16545247418451761,0.11402912044684828,8.7449814124542377E-2,0.18076908134165048,0.11853065743403458,9.4685222085495957E-2,7.2829539491592585E-2,5.2241532001286055E-2,7.9578529547934235E-2,3.4434029342097751E-2,null,null,0.22951980990042556,0.10901975266787728,6.4119691618067479E-2,0.27398194566334072,0.11779721694018769,7.51688745360959E-2,4.4472216090688091E-2,2.2882604380788835E-2,5.3096447328335725E-2,9.941440874192773E-3,null,null,"T5-T6","EO",{"$f":"(D49-D52)/((D49+D52)/2)","v":-0.39104876513012171},-0.19934374835498395,-0.24613012661821548,-0.32283378243039834,-0.25367131363886952,-0.31786652996084258,-0.28110359081676672,-0.4917221346602228,-0.81174487711550392,-0.97063216267785113,-10]
[null,null,"EO",0.15788921665667432,0.11766928200642671,9.1700792431604936E-2,0.15742937558204256,0.11802600794285359,9.1027495093646354E-2,7.5086541102389256E-2,6.2527562414233365E-2,8.7705248517849485E-2,4.0938478252279517E-2,null,null,0.22041539666732182,0.12242304991927802,7.4350375316444436E-2,0.21913337806114977,0.12316644995629497,7.3262573776149448E-2,4.9849543488541939E-2,3.456845619578048E-2,6.8012408535603072E-2,1.4818368083435994E-2,null,null,"P3-P4","EC",{"$f":"(D54-D57)/((D54+D57)/2)","v":-3.1419750465348277E-2},{"$f":"(E54-E57)/((E54+E57)/2)","v":-8.4436076219649811E-2},-5.8084538058211344E-2,-3.4321951849957344E-2,-2.3962653124226331E-2,-0.10072351150747354,-5.0176959596804925E-2,-5.4581676251578823E-2,-0.20479462144671862,-0.24862036823889941,-2]
[null,null,"TSK",0.1808633232230745,0.13418127574381178,9.8470893947041227E-2,9.8637424210576391E-2,8.6023628127077686E-2,8.1849624527506659E-2,8.1713786178820774E-2,6.664202276952802E-2,0.11677812091833432,5.4839900354228595E-2,null,null,{"$f":"P17/$Z17","v":0.29205615821330105},0.16074933634288774,8.6572730717500337E-2,8.6865795394974438E-2,6.6069476551759376E-2,5.9813434204838048E-2,5.9615065157871912E-2,3.965168948680782E-2,0.12175542492817065,{"$f":"Y17/$Z17","v":2.6850889001888666E-2},null,null,"P3-P4","EO",{"$f":"(D55-D58)/((D55+D58)/2)","v":-0.11608676098437935},-9.4035079255279708E-2,-1.7654962505401162E-2,-5.5889403976706234E-2,-9.3130615929519281E-2,-5.2373745792538104E-2,-2.5583097779246899E-2,-0.12169287154438894,-0.24221261607869946,-0.26328473563922811,-3]
["Frontal    F7 & F8","F7","EC",9.8956552930062669E-2,7.2434570456361549E-2,6.1897180025470837E-2,0.12557539079248806,8.7030369967563886E-2,7.4065443427791727E-2,0.10172418550725953,0.10935405725279296,0.17900921463830216,8.9953035001906795E-2,null,null,{"$f":"P18/$Z18","v":8.8907406040242873E-2},4.7636582853460542E-2,3.4784883178612606E-2,0.14317193645864523,6.8768647299239302E-2,4.9805817954768454E-2,9.3950103889082801E-2,0.10857219649218108,0.29093742900289465,{"$f":"Y18/$Z18","v":7.3464996830872611E-2},null,null,"O1-O2","EC",{"$f":"(D60-D63)/((D60+D63)/2)","v":-4.9799787211094702E-2},{"$f":"(E60-E63)/((E60+E63)/2)","v":-3.0165378939401466E-2},5.049289599914201E-3,0.10543667389753821,-0.10018970988408522,-8.2854499389114863E-2,-1.0964005345293132E-2,-8.4783155521549122E-3,-0.13019960934729363,-0.20005651970253682,-2]
[null,null,"EO",9.4389376219674498E-2,6.6991594121446327E-2,5.4778130994422768E-2,6.5947637677684384E-2,5.8372424130704766E-2,7.3743484097108278E-2,0.10412637178726661,0.12715114885017959,0.23433277050439083,0.12016706161712201,null,null,{"$f":"P19/$Z19","v":7.0734934845443409E-2},3.5631027831020456E-2,2.3823312426303141E-2,3.4529175816789319E-2,2.7052237060276749E-2,4.3175266883075769E-2,8.608137544024333E-2,0.1283595845578841,0.43596716369033561,0.11464592144862813,null,null,"O1-O2","EO",{"$f":"(D61-D64)/((D61+D64)/2)","v":-2.4515815153355894E-2},-3.359255976571604E-2,-5.3688850500491291E-2,-5.6122485538423597E-2,-7.5334452933241494E-2,-3.08375853654804E-2,-3.1979302959763152E-2,-6.5107242050140055E-2,-0.14303013816298765,-0.23437520852371771,-2]
[null,null,"TSK",8.970902559366678E-2,5.6503931641802882E-2,4.7729492589269028E-2,9.2366768019097253E-2,7.4966845074049257E-2,6.9532970516800588E-2,0.11527757207203282,0.14117844223153464,0.20747070024171638,0.10526425202003047,null,null,{"$f":"P20/$Z20","v":6.7148226734298613E-2},2.6639103485548689E-2,1.9007977277253625E-2,7.1185864649521161E-2,4.6892213948137647E-2,4.0340737705237675E-2,0.11087966655760755,0.16630260050603055,0.35914995370870978,9.2453655427654713E-2,null,null,null,"Result:","T5-T6"]
[null,"F8","EC",0.18574102023141256,0.12382699324130503,9.6387496046095714E-2,0.18391642807870454,0.10896446515559055,7.6050100456520817E-2,6.7046851655693698E-2,5.0007202417199713E-2,7.2418857792098626E-2,3.5640584925378679E-2,null,null,0.27796297077742838,0.12353839261118019,7.4853599273878524E-2,0.27252875905140367,9.566235635797711E-2,4.6598386086177571E-2,3.6218300683491002E-2,2.0148207260268319E-2,4.2254662061229971E-2,1.0234365836965343E-2]
[null,null,"EO",0.1912279619558632,0.14820089022975763,0.10373250251124423,0.13651475906781754,9.2560877774690062E-2,8.2897276393146785E-2,6.4818417792155969E-2,5.6215381191293011E-2,8.4374059932663864E-2,3.9457873151367603E-2,null,null,0.3062521147493884,0.18394073949953998,9.0116852292717806E-2,0.1560757811420164,7.1751540909692227E-2,5.7551523829059988E-2,3.5186263836808659E-2,2.6465897315434202E-2,5.9620305561967436E-2,1.3038980863374818E-2,null,null,"F7-F8","EC",12.280638461538464,null,null,"F3-F4","EC"]
[null,null,"TSK",0.17318975238629664,0.12251353123171974,9.3571950186609021E-2,0.19127653040980513,0.10988166030136995,8.1915004657133583E-2,6.8929244512381208E-2,5.0796990592708154E-2,7.4442606947524234E-2,3.3482728774452339E-2,null,null,{"$f":"P23/$Z23","v":0.24361151267337017},0.12190500636510732,7.1112310224285935E-2,0.29715072677085991,9.8062701150572779E-2,5.4497972628473432E-2,3.8588727976645087E-2,2.0957013514508523E-2,4.5008710744975436E-2,{"$f":"Y23/$Z23","v":9.1053179512014405E-3},null,null,"F7-F8","EO",11.746880000000003,null,null,"F3-F4","EO"]
["Central    C3 & C4","C3","EC",0.14592448485883111,0.10179734054894346,8.7937589591045015E-2,0.18706053976819648,0.13129268000139072,9.8462270059921739E-2,7.5980975241492055E-2,5.9182840622001007E-2,7.5939213299480182E-2,3.6422066008698413E-2,null,null,{"$f":"P24/$Z24","v":0.18094341288185886},8.8056071135464584E-2,6.5710618400169202E-2,0.29733826724152351,0.14647633560615006,8.2380823391755828E-2,4.9056455645589941E-2,2.9763092392151459E-2,4.9002543996497498E-2,{"$f":"Y24/$Z24","v":1.1272379308838969E-2},null,null,"F7-F8","TSK",8.7873131578947365,null,null,"C3-C4","EC"]
[null,null,"EO",0.13614713659964003,0.10021041860372297,9.140684247702989E-2,0.16827913446576692,0.13222631235474547,9.8867738166710281E-2,8.1750000606554671E-2,6.4103810763868313E-2,8.6923926015808117E-2,4.0084679946153209E-2,null,null,{"$f":"P25/$Z25","v":0.16481641215287957},8.9291307981837473E-2,7.4291794094630575E-2,0.25179318498321168,0.1554601936710748,8.6914578767570652E-2,5.9423600356284287E-2,3.6538534754193268E-2,6.7183418629913921E-2,1.4286974608403743E-2,null,null,"T3-T4","EC",12.659750847457627,null,null,"C3-C4","EO"]
[null,null,"TSK",0.14943758844601732,0.11162270136644586,9.7683913954322146E-2,0.11165527935059726,0.11443368390239954,0.10525885695889814,8.9843564692654795E-2,6.0884882242623485E-2,0.10823645261379745,5.0943076472244046E-2,null,null,{"$f":"P26/$Z26","v":0.20858186122592262},0.11637558970444631,8.9125697617650768E-2,0.11644352992321344,0.12231074058238574,0.10348422142848442,7.5392958764957371E-2,3.4623883536023997E-2,0.10942182089022458,2.4239696326690801E-2,null,null,"T3-T4","EO",12.783864999999999,null,null,"Fz-Pz","EC"]
[null,"C4","EC",0.14222781617517408,9.9833336104107481E-2,9.0142999043460389E-2,0.19170544468837838,0.13099229038806734,0.10442037101471441,8.1536364238011083E-2,5.7673139024190946E-2,6.9119780712877943E-2,3.2348458611018004E-2,null,null,0.1700851078207363,8.3800840454346714E-2,6.8322100823209497E-2,0.30900542302925732,0.14427420097634652,9.1678536123123364E-2,5.5898466051873617E-2,2.7966903616051725E-2,4.017000718801908E-2,8.7984139170359261E-3,null,null,"T3-T4","TSK",13.55532,null,null,"Fz-Pz","EO"]
[null,null,"EO",{"$f":"D28/$N28","v":0.12676282722037047},0.10501324798196868,9.0285057857866405E-2,0.1727871940090131,0.13807287493444639,0.10618165935053846,8.527061007945734E-2,6.1063602261318253E-2,7.884368378185054E-2,3.5719242523170415E-2,null,null,0.14103604379530549,9.6790886079077182E-2,7.1544795203569475E-2,0.26204108399856835,0.16732584196341521,9.8956721734286615E-2,6.3818269533155059E-2,3.272737137451126E-2,5.456072070302543E-2,1.1198265615085965E-2,null,null,"T5-T6","EC",18.948076271186441,null,null,"Cz-Oz","EC"]
[null,null,"TSK",0.1386876620848479,0.11205874044524651,9.7868888184377528E-2,0.12031697889537128,0.12175746177696599,0.11695543526186075,9.718319069757525E-2,5.9862319711083897E-2,9.3786239511219741E-2,4.1523083431451058E-2,null,null,{"$f":"P29/$Z29","v":0.17826430274991067},0.11638049601545068,8.8772416043674529E-2,0.13416602949239625,0.13739783911125428,0.1267738120619657,8.7532843718153369E-2,3.321206006746362E-2,8.1520526464739854E-2,{"$f":"Y29/$Z29","v":1.5979674274991178E-2},null,null,"T5-T6","EO",19.665978333333339,null,null,"Cz-Oz","EO"]
["Midline    Fz & Pz","Fz","EC",0.13487032373330635,0.10197584553285406,9.0824474814039213E-2,0.1939049673230599,0.15151065163151153,8.5438764309541518E-2,7.7235738140742458E-2,5.9970943018734256E-2,7.2638998633757487E-2,3.1629292862453244E-2,null,null,{"$f":"P30/$Z30","v":0.15091523106228363},8.6276973671689447E-2,6.8439379534774247E-2,0.31194508151485595,0.19045246813215785,6.056339190978783E-2,4.9492213301268011E-2,2.9838846414572538E-2,4.3776392563149066E-2,{"$f":"Y30/$Z30","v":8.3000218954615446E-3},null,null,"T5-T6","TSK",17.157200689655177,null,null,"T3-T4","EC"]
[null,null,"EO",0.15406897730692318,0.11539121749432989,0.11150705681082897,0.15400733654248849,9.7320552287160023E-2,9.9091051158194735E-2,8.3786647342384835E-2,6.337389726140065E-2,8.5090613684883715E-2,3.6362650111405402E-2,null,null,{"$f":"P31/$Z31","v":0.21176218908065847},0.11878552719188365,0.11092328534208022,0.21159277701280782,8.4494248561910082E-2,8.7596527279784869E-2,6.2627870355581275E-2,3.5829343376297125E-2,6.4592386384222433E-2,1.1795845414773878E-2,null,null,null,"Result:",null,null,null,"T3-T4","EO"]
[null,null,"TSK",0.16309677593294203,0.1188032742296707,9.680716132444013E-2,0.13849917100565073,9.5761407859068309E-2,0.10448478128491581,8.0782262443620023E-2,6.6901526078951681E-2,9.5734123494801551E-2,3.9129516345939024E-2,null,null,{"$f":"P32/$Z32","v":0.23952928664174813},0.12709389482252637,8.4388416939673597E-2,0.17272779015274603,8.2575062980378741E-2,9.830462364554611E-2,5.8762449809329535E-2,4.0303236029537073E-2,8.2528015068610211E-2,1.3787223909904178E-2,null,null,null,null,null,null,null,"P3-P4","EC"]
[null,"Pz","EC",0.10924209229091278,8.464312214705165E-2,8.3557960784952603E-2,0.22040505502601757,0.14048122618110681,0.10839903061519235,9.5062347528805075E-2,5.6738614546281221E-2,7.064464132579909E-2,3.0825909553880843E-2,null,null,9.5976696884522303E-2,5.7619452727873811E-2,5.6151510750154551E-2,0.39068692950886974,0.15871660267246102,9.4501037630743412E-2,7.2677980305761461E-2,2.5890666709482389E-2,4.0136937227248599E-2,7.6421855828825696E-3,null,null,null,null,null,null,null,"P3-P4","EO"]
[null,null,"EO",0.1249800247688562,9.2080987657495159E-2,9.0817149869026448E-2,0.171785151363686,0.10929955799250422,0.1176060116256204,9.8456676840631654E-2,6.428226659453537E-2,9.1342036819046207E-2,3.9350136468598383E-2,null,null,0.14027581118805621,7.6145021523470538E-2,7.4069141758374174E-2,0.26501644248195738,0.10728484728821358,0.12421116067153766,8.7054639685984009E-2,3.7109400569256754E-2,7.4927796217953604E-2,1.3905738615196188E-2,null,null,null,null,null,null,null,null,"Result:"]
[null,null,"TSK",0.12587063723315059,9.6763160118712929E-2,9.0854007354534916E-2,0.15153817580116838,0.10382640085119055,0.11754638337176547,9.570854566819148E-2,7.1920950134138434E-2,0.10296585438437218,4.3005885082775017E-2,null,null,{"$f":"P35/$Z35","v":0.1469621713015877},8.685139223120085E-2,7.65675716587296E-2,0.21301040006692201,9.9993621348848788E-2,0.12816671140199909,8.496853534420469E-2,4.7980805036819278E-2,9.8342932210758419E-2,{"$f":"Y35/$Z35","v":1.7155859398929593E-2}]
["Midline    Cz & Oz","Cz","EC",0.12227777337643,9.2481095772314295E-2,8.9426185315480536E-2,0.19956567196765318,0.14509843045703294,9.8425237664999388E-2,8.6969850177083807E-2,5.983572063155599E-2,7.4167985454914279E-2,3.1752049182535644E-2,null,null,{"$f":"P36/$Z36","v":0.12488775171619854},7.1438238523283876E-2,6.6796578031394077E-2,0.33265685800116584,0.17585318275978626,8.0916622716169354E-2,6.3177472519671971E-2,2.9905141063136756E-2,4.5947064436364184E-2,{"$f":"Y36/$Z36","v":8.4210902328292307E-3}]
[null,null,"EO",0.13127060905064963,9.9208295984427305E-2,9.9204721038469071E-2,0.16691279095151867,0.11071554887581139,0.10735715087356147,9.3607498478450263E-2,6.5837406183308564E-2,8.8981401197138044E-2,3.6904577366665504E-2,null,null,{"$f":"P37/$Z37","v":0.15533287958277367},8.8720580198945118E-2,8.8714186266626194E-2,0.25113522413554257,0.11049576364991499,0.10389397136252862,7.8985918345954795E-2,3.9072735540728321E-2,7.1371836767971542E-2,1.2276904149013997E-2]
[null,null,"TSK",0.13812109923494631,0.10267751961473501,9.4578658202301116E-2,0.15220139905207211,0.10032965658549643,0.11324279811856175,9.1310807240526426E-2,6.9183038461016297E-2,9.8737451801931622E-2,3.9617571688412893E-2,null,null,{"$f":"P38/$Z38","v":0.17492116422805187},9.6665843496205953E-2,8.2017892167869116E-2,0.21240248637090611,9.229559175312578E-2,0.11758271687957222,7.6448095679954128E-2,4.3885552578895537E-2,8.9389423598197223E-2,1.4391233247222301E-2]
[null,"Oz","EC",9.2008452464828056E-2,6.7718008218426273E-2,6.2703936461555906E-2,0.26240821282753313,0.18347833005209102,7.9563060011520678E-2,7.2822921720373149E-2,6.1453853521685156E-2,7.9120261537639971E-2,3.8722963184346572E-2,null,null,5.9334558112262466E-2,3.2141090791847071E-2,2.755763046584267E-2,0.48262199094196584,0.23595099736534839,4.4368547941296382E-2,3.7169648872759892E-2,2.6469790370546691E-2,4.387606673948697E-2,1.0509678398643637E-2]
[null,null,"EO",0.10726324812733622,8.8273549388788092E-2,8.3069902641010857E-2,0.16281043630552047,0.11486259206236846,0.11091788653774294,8.4489047628472869E-2,7.0291938814914579E-2,0.12227011656484339,5.5751281929002097E-2,null,null,0.10619797590596422,7.1924281175491128E-2,6.3694473804516108E-2,0.24466893495701822,0.12177876809802213,0.11355794450730905,6.5889343537686093E-2,4.5606358402770039E-2,0.1379923477684466,2.8689571842776453E-2]
[null,null,"TSK",0.1096566790310278,9.1171491983263714E-2,7.7585334027328048E-2,0.13553688063714536,9.9753456963907805E-2,0.11676702864553375,8.4813504129040429E-2,8.0125020084889351E-2,0.13971657464283663,6.4874029855027021E-2,null,null,{"$f":"P41/$Z41","v":0.11381039574746277},7.8673755029593437E-2,5.6973253886582025E-2,0.17387083017235677,9.4181947292049303E-2,0.12904827782856804,6.8083483577040249E-2,6.0764238283956662E-2,0.18475985587982105,{"$f":"Y41/$Z41","v":3.9833962302569727E-2}]
["Temporal    T3 & T4","T3","EC",0.11192338378357473,7.8181617945672424E-2,6.9228182365637048E-2,0.12546792550160538,0.11618142995469777,8.7449758512550615E-2,8.4379895129819471E-2,9.9029502215190301E-2,0.14711314110881391,8.1045163482438357E-2,null,null,{"$f":"P42/$Z42","v":0.11878633964241375},5.7960769688584941E-2,4.5445479971853227E-2,0.14927609694249144,0.1279965521994213,7.2517373417376962E-2,6.7515392854533993E-2,9.2993807254285479E-2,0.20522382293467781,{"$f":"Y42/$Z42","v":6.2284365094361097E-2}]
[null,null,"EO",0.10182343677905273,7.9337086370708812E-2,7.0759405518691545E-2,0.11049162288325623,0.11401368270046504,8.0485544505825485E-2,9.0859716388648731E-2,0.10031157565115853,0.17308726646969175,7.8830662732501153E-2,null,null,{"$f":"P43/$Z43","v":9.6137112681942444E-2},5.8364405489585006E-2,4.6426283917015483E-2,0.11320204613058786,0.12053398623161195,6.0066364183680436E-2,7.6548789183548821E-2,9.3303444339832273E-2,0.27779588638217617,5.7621681460019551E-2]
[null,null,"TSK",{"$f":"D44/$N44","v":0.11466254540029311},8.4502953270248107E-2,6.8999785263231653E-2,7.0134747486159402E-2,7.6076782205282981E-2,8.5794621503318791E-2,0.10776370846265595,9.9039444972702576E-2,0.20277698664807056,9.0248424788036824E-2,null,null,{"$f":"P44/$Z44","v":0.11552999551538147},6.2747347832661088E-2,4.1835703641103408E-2,4.3223315298622035E-2,5.0857600941369825E-2,6.4680255200460043E-2,0.10204615748790442,8.6192205815558767E-2,0.36131744412246308,7.1569974144475884E-2]
[null,"T4","EC",0.13076894474804371,9.3160517950378788E-2,8.3554347984236693E-2,0.16552195156649865,0.10580179220875804,9.9763011134887711E-2,8.2825673775757808E-2,6.3980721011327818E-2,0.11814610020267299,5.647693941743788E-2,null,null,0.15630229269423049,7.9326793341914448E-2,6.3810804371940685E-2,0.25041901702334041,0.10231567150773903,9.0969374376754772E-2,6.2702674442844664E-2,3.7415742664465089E-2,0.12758361160734535,2.9154017969424951E-2]
[null,null,"EO",0.11281554915551915,9.3945357384264905E-2,8.0515398965474855E-2,0.16138076924373129,0.12546226772302183,9.4469688144113217E-2,8.8208323583443909E-2,6.8946215860320084E-2,0.1185442486795181,5.5712181260592616E-2,null,null,0.1173722644525971,8.1391341329959399E-2,5.9784067344351759E-2,0.24017683774879159,0.14516229514784623,8.2302404469266122E-2,7.1754095872600371E-2,4.3837767544866596E-2,0.12959508680483978,2.8623839284881009E-2]
[null,null,"TSK",0.11049227326961755,8.7480474512405731E-2,8.0751230282843187E-2,0.1234756871318469,0.10477312993378934,9.7325271726702287E-2,9.7330133298065835E-2,7.5575569152338942E-2,0.15015622118122129,7.2640009511169043E-2,null,null,{"$f":"P47/$Z47","v":0.11617636589891413},7.2824285056659416E-2,6.2051497233534446E-2,0.14508311544584024,0.10446091015838382,9.0137439977365369E-2,9.0146445254902841E-2,5.4352161818657416E-2,0.21455598331959774,{"$f":"Y47/$Z47","v":5.0211795836144726E-2}]
["Temporal    T5 & T6","T5","EC",0.10710117622632494,8.6682449472510817E-2,8.4552213292402284E-2,0.26572631509485312,0.13497619904415267,8.3732662642323888E-2,7.8210755046445091E-2,6.3149982838847596E-2,6.4492563031189304E-2,3.1375683310950281E-2,null,null,{"$f":"P48/$Z48","v":8.3591784444829606E-2},5.4756725065752541E-2,5.2098482826201532E-2,0.51456974261773092,0.13276680484903833,5.1093413540560101E-2,4.457671620795349E-2,2.906173839851079E-2,3.0310589924033772E-2,{"$f":"Y48/$Z48","v":7.1740021253889107E-3}]
[null,null,"EO",0.12062273368028155,0.10026458075539137,9.6799826736968186E-2,0.15763653736653585,0.12089757343097531,0.10627153914060015,9.142852800425269E-2,7.0185134154909401E-2,9.3163944715776062E-2,4.2729602014309399E-2,null,null,{"$f":"P49/$Z49","v":0.13407196028583349},9.263491563688965E-2,8.6343328368175778E-2,0.22897781095339442,0.13468362415009957,0.10406712746859477,7.7027017341544254E-2,4.5391015048950906E-2,7.9978888438296716E-2,1.6824312308220547E-2]
[null,null,"TSK",0.1092473118725568,0.10953893757250192,8.4747062770775802E-2,0.21550715298187095,0.12908109229921685,9.4464981423089109E-2,8.3390463444352553E-2,6.6434390039656885E-2,7.4479898434472627E-2,3.310870916150644E-2,null,null,{"$f":"P50/$Z50","v":9.8509437525294799E-2},9.9036063332456223E-2,5.9279649919503193E-2,0.38333608166386285,0.13752497788091719,7.3654283173049742E-2,5.7396986992390521E-2,3.6428578442225884E-2,4.5786186364492422E-2,9.0477547058071001E-3]
[null,"T6","EC",0.11171894265380472,8.6101993781067088E-2,8.1350615376683977E-2,0.20733738426382275,0.11744240330464371,8.5252714636065152E-2,7.3058533093771513E-2,6.2320652093582868E-2,0.11437068126080548,6.1046079535752737E-2,null,null,0.10705064033502212,6.3586080007298526E-2,5.6761951850768863E-2,0.36871505142331379,0.11830020461693565,6.2337885871483756E-2,4.5780183793386026E-2,3.3311916085483888E-2,0.11219281683153687,3.1963269184770486E-2]
[null,null,"EO",0.11735181470533936,8.0172408952971341E-2,8.1157230020120735E-2,0.14292691019597892,0.10214033165995171,9.5864990510102055E-2,7.9431382685129989E-2,7.5906414541797126E-2,0.1443208829470122,8.0727633781596586E-2,null,null,0.12960997084671974,6.0493492628495002E-2,6.1988799350315378E-2,0.1922590551590205,9.8186848498704807E-2,8.6492581704747981E-2,5.9380388993909204E-2,5.4227021282563057E-2,0.19602756608234903,6.1334275453175449E-2]
[null,null,"TSK",0.11261794453433771,0.10548523440124376,7.5155197860186929E-2,0.18723353462933784,0.11192244913596917,8.6056929746689589E-2,7.4693470092963968E-2,6.428346072843133E-2,0.11864093383329412,6.3910845037545419E-2,null,null,{"$f":"P53/$Z53","v":0.11291787450299977},9.9067418489660775E-2,5.0288136986104827E-2,0.31211509545857286,0.11152748576195858,6.593548379051746E-2,4.9672128945102804E-2,3.6791373393809383E-2,0.12531891164366984,{"$f":"Y53/$Z53","v":3.6366091027603444E-2}]
["Parietal    P3 & P4","P3","EC",0.11890786449094386,0.10463999073017929,7.7379159559803776E-2,0.23997595878381861,0.12474865889488514,0.10237469922192095,8.5157063946222605E-2,5.5643781895538452E-2,6.3867035756014795E-2,2.7305786720672558E-2,null,null,{"$f":"P54/$Z54","v":0.10886266923830412},8.4304975141247337E-2,4.6100521307782957E-2,0.44339755160484245,0.11982007595744738,8.0694344352911035E-2,5.5834056076096324E-2,2.3839168261282732E-2,3.1405906927935878E-2,{"$f":"Y54/$Z54","v":5.7407311321497597E-3}]
[null,null,"EO",0.13560208651805408,0.10405971693997947,9.2561138437214835E-2,0.17485145140175282,0.11323850131972828,0.11523440067609089,9.5605078765723689E-2,5.7080039679847684E-2,7.6363496695225797E-2,3.5404089566382461E-2,null,null,{"$f":"P55/$Z55","v":0.16137946647046519},9.5034394399220928E-2,7.5192219801257607E-2,0.2683205987688575,0.11253918276018288,0.11654129134094987,8.0219039633657702E-2,2.8594602508388293E-2,5.1178451846449313E-2,1.1000752470570871E-2]
[null,null,"TSK",0.15132017262019695,0.11356207702797283,8.858306756721826E-2,0.13151002302018613,0.10054089324194179,9.7931114886603055E-2,8.4525674639036624E-2,6.8372829934753909E-2,0.1125626519980223,5.109149506406821E-2,null,null,{"$f":"P56/$Z56","v":0.21253795393745159},0.11970422892158161,7.2835695283405777E-2,0.1605316046552682,9.3827105310514469E-2,8.9019312672700981E-2,6.6316276070045671E-2,4.3392028243250454E-2,0.11760653982608199,2.4229255079699089E-2]
[null,"P4","EC",0.11470374940918808,0.10644128577324807,7.6661513011177199E-2,0.23216434391580176,0.11944382959318851,0.10585072345340411,8.370228569336359E-2,5.4934798491515613E-2,7.3324860867944361E-2,3.2772609791168771E-2,null,null,0.10424677943936715,8.9769259450547728E-2,4.6565277039097998E-2,0.42706940556570561,0.11304070486644278,8.8775899149582158E-2,5.5511383800329356E-2,2.3911261554422362E-2,4.2600030849703062E-2,8.5099982848018049E-3]
[null,null,"EO",0.13877059726235133,0.10416221416944989,8.5833110827781472E-2,0.16846377794601328,0.11324734015304327,0.11063473273167609,8.9361547555451837E-2,5.874334736579559E-2,8.8747222248508048E-2,4.2036109739929051E-2,null,null,0.17194184861312345,9.6873966646249865E-2,6.5780380670258487E-2,0.25339599621466513,0.11450981097058557,0.10928729048471511,7.1299755279034677E-2,3.0810876786785027E-2,7.0322809665988764E-2,1.5777264668593971E-2]
[null,null,"TSK",0.136842011432108,0.10412664471319169,8.3715912031418246E-2,0.13134796032238311,0.10594271557557858,0.10030425197354521,8.3059695680358508E-2,7.0921043291280086E-2,0.12446404877192774,5.927571620820879E-2,null,null,{"$f":"P59/$Z59","v":0.17657933620955873},0.10224091558722245,6.6087147563328466E-2,0.16268505094308713,0.10583837982126966,9.4872352222510087E-2,6.5055145511221116E-2,4.7429791211369622E-2,0.14607935079305509,{"$f":"Y59/$Z59","v":3.3132530137377735E-2}]
["Occipital O1 & O2","O1","EC",{"$f":"D60/$N60","v":8.0841480620843356E-2},7.0138505015603397E-2,7.2629861437459808E-2,0.34014056845670576,0.16849993042907666,7.437563141703786E-2,6.8617114799061837E-2,5.8704950120084261E-2,4.6385482605644936E-2,1.96664750984821E-2,null,null,{"$f":"P60/$Z60","v":3.6914014138285101E-2},2.7786622800143095E-2,2.9795672174421507E-2,0.65349101757819472,0.16036965978427764,3.1245256016928891E-2,2.6594244793269661E-2,1.946579757561798E-2,1.2153095622209389E-2,{"$f":"Y60/$Z60","v":2.1846195166520164E-3}]
[null,null,"EO",0.12875819496626903,0.11168793457905116,9.5140953116792076E-2,0.16520233195127856,0.11610992423086459,0.11755889502850483,8.2633383370243355E-2,5.732315458147489E-2,8.789125636990594E-2,3.7693971805615525E-2,null,null,{"$f":"P61/$Z61","v":0.14807937289632994},0.11141850488288324,8.0849958754353898E-2,0.24376825800416344,0.12041580415733891,0.12343996721520051,6.0989612920332434E-2,2.9349788200289426E-2,6.8997944370549097E-2,1.2690788598559134E-2]
[null,null,"TSK",0.11685837258245631,0.10927997236422245,0.11004795386542865,0.12705188901551051,9.8897645157679945E-2,0.10848615290809792,8.3933398222604774E-2,7.3206083429935648E-2,0.11508018285655301,5.715834959751067E-2,null,null,{"$f":"P62/$Z62","v":0.13090978986644106},0.11448105184762007,0.11609577156854176,0.15474431794775634,9.3761459627212121E-2,0.11282389154637171,6.7533937511814371E-2,5.1374404748641536E-2,0.12695609177894421,3.131928355665696E-2]
[null,"O2","EC",8.4284721456170386E-2,7.1703525346605471E-2,7.1681103908112082E-2,0.30360416735999424,0.18476953639429938,8.0152463767853246E-2,6.8813945678258506E-2,5.8727184948622599E-2,5.2419091123159504E-2,2.3844260016924503E-2,null,null,4.3953410924393997E-2,3.1810895034615115E-2,3.1791003836567668E-2,0.57030913576270992,0.21123000523307378,3.9749221242610065E-2,2.9298662304934411E-2,2.1338959490484515E-2,1.7000975626566491E-2,3.5177305440440908E-3]
[null,null,"EO",0.12393987452186864,0.10848888631526162,9.4292777476320797E-2,0.16412880806125443,0.11759550492143576,0.11387744269356075,8.013711610788235E-2,5.7465124066419272E-2,9.5270326106845687E-2,4.4804139729150656E-2,null,null,0.13893250688639788,0.10645161875203733,8.0415288579314695E-2,0.24364157541400949,0.12507289727828619,0.1172889718958727,5.8083019671868144E-2,2.9866921827610686E-2,8.2091288331265416E-2,1.8155911363337392E-2]
[null,null,"TSK",0.11017954652417106,0.11129533661304972,0.11371999232438212,0.1243945962427582,9.9144270897541784E-2,0.10607200566621022,8.3051420496089018E-2,7.1629401259079489E-2,0.12177773821945313,5.8735691757265243E-2,null,null,{"$f":"P65/$Z65","v":0.11636676528139989},0.11873559575636125,0.12396544518883401,0.14833035311859849,9.4224154189058607E-2,0.10785208928942415,6.6118216599124022E-2,4.9182391541705707E-2,0.14215521883876131,{"$f":"Y65/$Z65","v":3.3069770196732261E-2}]
[]
["Frontal    Fp1 & Fp2","Fp1","EC",{"$f":"(D6-D9)","v":-2.2445088235294097},{"$f":"(E6-E9)","v":-1.6913970588235294},-2.5308823529411661E-2,-0.88078529411764706,8.2647058823521746E-3,0.44635000000000069,0.73227058823529489,0.93760588235294051,1.0874970588235335,0.30004117647058504]
[null,null,"EO",{"$f":"(D7-D10)","v":0},0,0,0,0,0,0,0,0,0]
[null,null,"TSK",{"$f":"(D8-D11)","v":0},0,0,0,0,0,0,0,0,0]
["Frontal    F3 & F4","F3","EC",{"$f":"(D12-D15)","v":-2.4153487179487172},-1.5269487179487253,-0.83346153846153825,-1.956097435897437,-0.91930512820512966,-1.1160666666666641,-0.81576666666666942,0.23572820512820591,-0.23092820512820644,2.0243589743589308E-2]
[null,null,"EO",{"$f":"(D13-D16)","v":-2.3487083333333363},-1.5091041666666669,-0.81289791666666211,-1.806631249999997,-1.1832270833333327,-0.78862499999999969,-0.38720624999999842,-0.4877083333333343,8.9287499999997522E-2,-0.11212499999999981]
[null,null,"TSK",{"$f":"(D14-D17)","v":-0.7981301886792469},-0.71671509433962566,-0.55552830188679181,-1.3508415094339661,-0.67233962264150993,-0.41292264150943314,-0.76258679245283112,-0.1356849056603795,-0.53159245283018564,-0.24338867924528396]
["Frontal    F7 & F8","F8","EC",{"$f":"(D18-D21)","v":-6.9699282051282037},{"$f":"(E18-E21)","v":-4.0754153846153844},-2.6850769230769229,-4.4632897435897458,-1.5281641025641051,0.11085641025640935,3.3167384615384643,5.4326153846153833,9.6918102564102568,4.9336589743589734]
[null,null,"EO",{"$f":"(D19-D22)","v":-4.7619839999999929},-4.2593900000000016,-2.2528920000000028,-3.5320820000000035,-1.1334960000000009,0.96721800000000169,5.0474779999999999,7.7802759999999971,15.693947999999995,8.3164639999999981]
[null,null,"TSK",{"$f":"(D20-D23)","v":-4.5365184210526337},-3.965478947368422,-2.5313763157894735,-5.7400210526315796,-0.91545263157894219,0.80145263157894675,6.8472894736842074,11.160005263157892,16.417402631578948,8.683457894736847]
["Central    C3 & C4","C3","EC",{"$f":"(D24-D27)","v":-0.30264210526316049},{"$f":"(E24-E27)","v":-0.25530701754385987},-0.50096666666666767,-1.0623175438596526,-0.48973333333333713,-0.81164385964912267,-0.69514912280701591,-0.12199298245614187,0.19433508771929819,0.15090526315789399]
[null,null,"EO",{"$f":"(D25-D28)","v":-0.11284406779661182},-0.87544406779661177,-0.42618644067796652,-1.2293966101694895,-1.1219322033898287,-1.0379864406779689,-0.68727796610169811,-0.14639830508474683,6.9294915254240586E-2,7.5211864406779849E-2]
[null,null,"TSK",{"$f":"(D26-D29)","v":-2.1816666666669704E-3},-0.47543333333333138,-0.40506000000000153,-0.93593333333333106,-0.87228000000000261,-1.0799416666666692,-0.77380666666666897,-0.18878500000000153,0.37139333333333013,0.32136833333333348]
["Midline    Fz & Pz","Fz","EC",{"$f":"(D30-D33)","v":0.81406909090908819},{"$f":"(E30-E33)","v":0.44207818181818315},-0.29930181818181811,-4.2025309090909122,-0.59193818181818258,-2.8087981818181804,-2.2906709090909088,-0.33042909090909323,-0.56314363636363574,-0.25072545454545425]
[null,null,"EO",{"$f":"(D31-D34)","v":1.5953535714285687},1.2896821428571394,1.1320339285714311,-1.3211303571428594,-0.88120178571428287,-1.2904107142857146,-1.0297910714285736,-0.14491785714285665,-0.50771071428571535,-0.23663035714285874]
[null,null,"TSK",{"$f":"(D32-D35)","v":2.1409933333333324},1.2734333333333323,0.36094499999999829,-0.69857666666666685,-0.42944000000000404,-0.70877666666666528,-0.82009666666666892,-0.26535499999999868,-0.38248166666666705,-0.20821666666666516]
["Midline    Cz & Oz","Cz","EC",{"$f":"(D36-D39)","v":0.16969999999999708},{"$f":"(E36-E39)","v":0.31710185185184869},0.58697777777777826,-11.053955555555556,-7.2989648148148145,-0.41887962962962888,-0.62451296296296555,-1.5755685185185184,-2.2504111111111085,-1.4531055555555557]
[null,null,"EO",{"$f":"(D37-D40)","v":0.79008928571428516},0.1125767857142872,0.46211428571428748,-0.77139821428571409,-0.97331428571428624,-0.91283750000000108,2.5633928571428655E-2,-0.71243750000000095,-2.7956785714285708,-1.4982749999999996]
[null,null,"TSK",{"$f":"(D38-D41)","v":0.93503833333333031},0.10267833333333076,0.48699666666666541,0.12819999999999965,-0.55422833333333443,-0.88173333333333659,-0.13788333333333291,-1.0780033333333301,-3.0948950000000028,-1.7826633333333337]
["Temporal    T3 & T4","T3","EC",{"$f":"(D42-D45)","v":-3.5337101694915214},{"$f":"(E42-E45)","v":-2.6110915254237259},-2.3956254237288155,-5.4496677966101661,-1.3137559322033932,-2.5713983050847471,-1.4247016949152531,0.94045254237288134,-0.41926610169491951,0.44605423728813332]
[null,null,"EO",{"$f":"(D43-D46)","v":-2.4856283333333353},-2.3790533333333341,-1.8822899999999994,-5.5488716666666651,-2.720298333333333,-2.3523333333333314,-1.3060266666666669,0.63954833333333205,1.1344399999999943,0.39059333333333157]
[null,null,"TSK",{"$f":"(D44-D47)","v":-2.1669800000000006},-2.0346983333333348,-2.3355916666666636,-5.3684450000000012,-3.7136833333333348,-2.6812066666666663,-1.5653883333333356,-0.43499833333333271,-0.5593350000000008,-0.66929166666666973]
["Temporal    T5 & T6","T5","EC",{"$f":"(D48-D51)","v":-2.7897457627118634},{"$f":"(E48-E51)","v":-1.8885169491525451},-1.616662711864409,-0.94666271186440554,-1.5180796610169445,-2.002247457627119,-1.3080067796610164,-1.341054237288136,-5.7087983050847484,-3.2396711864406766]
[null,null,"EO",{"$f":"(D49-D52)","v":-2.7005000000000008},-1.0224599999999988,-1.2513216666666693,-2.795031666666663,-1.617670000000003,-1.8498149999999995,-1.3772899999999986,-2.1077083333333313,-5.8625250000000007,-3.711418333333333]
[null,null,"TSK",{"$f":"(D50-D53)","v":-2.9515551724137943},-2.3569724137931072,-1.3003000000000018,-2.9919586206896529,-1.7739413793103456,-1.6344965517241388,-1.339568965517242,-1.454413793103448,-5.4051844827586208,-3.3081837931034475]
["Parietal    P3 & P4","P3","EC",{"$f":"(D54-D57)","v":-0.29407068965517524},{"$f":"(E54-E57)","v":-0.71469482758621261},-0.35862931034483125,-0.64926034482758155,-0.23440517241379233,-0.84125344827586357,-0.33956379310344786,-0.24190344827586152,-1.1289448275862073,-0.60062396551724051]
[null,null,"EO",{"$f":"(D55-D58)","v":-0.97950526315789777},-0.60183333333333433,-9.6635087719300294E-2,-0.58924561403509301,-0.64831228070175406,-0.36325263157894661,-0.14521578947368408,-0.43351228070175507,-1.2334877192982434,-0.62917157894736775]
[null,null,"TSK",{"$f":"(D56-D59)","v":-0.11111833333333543},-0.15665499999999799,-0.24990833333333562,-0.73288983333333579,-0.84338833333333074,-0.67351833333333389,-0.40128500000000011,-0.51589666666666778,-1.2441199999999997,-0.70723466666666734]
["Occipital O1 & O2","O1","EC",{"$f":"(D60-D63)","v":-0.42073620689654945},{"$f":"(E60-E63)","v":-0.21890862068965244},3.7277586206900359E-2,3.4716448275862071,-1.8110896551724132,-0.65511724137931182,-7.7087931034484747E-2,-5.0936206896554204E-2,-0.65830000000000055,-0.44550000000000178]
[null,null,"EO",{"$f":"(D61-D64)","v":-0.19334210526315321},-0.23086315789473755,-0.3175543859649137,-0.57711578947368913,-0.54990350877192906,-0.2227578947368416,-0.16247017543859332,-0.23338947368421037,-0.81911929824561369,-0.60542999999999969]
[null,null,"TSK",{"$f":"(D62-D65)","v":4.902037037036866E-2},-0.4447000000000001,-0.54535740740740746,-0.22009629629629668,-0.30879259259259584,-0.17931481481481537,-0.19726851851851812,-0.12411111111111062,-0.73997962962963015,-0.26366666666666649]

{"sheet":"HeadData","index":17,"n_rows":131,"n_cols":33,"rows_kept":131,"cut":false,"hidden":true,"merged":[]}
[null,"Eyes Closed Percent Data",null,null,null,null,null,null,null,null,null,null,"Eyes Open Percent Data",null,null,null,null,null,null,null,null,null,null,"Task Percent Data"]
[null,"2-4 Hz","3/3","5/7","3/3","1/1","Z/0","2/2","4/4","6/8","4/4",null,"2-4 Hz","3/3","5/7","3/3","1/1","Z/0","2/2","4/4","6/8","4/4",null,"2-4 Hz","3/3","5/7","3/3","1/1","Z/0","2/2","4/4","6/8","4/4"]
[null,"O",10.736981391906738,10.528556823730469,8.1049674987792972,8.6425037384033203,{"$f":" 100 * Amplitude!$D$102","v":9.200845246482805},8.8146648406982422,8.4450668334960941,10.864758809407553,11.178685188293457,null,"O",12.096356391906738,12.352643330891928,12.869609069824218,11.801074981689453,{"$f":" 100 * Amplitude!$D$103","v":10.726324812733621},11.560162862141928,12.392845916748048,12.087005615234375,11.783916473388672,null,"O",11.020461082458496,11.548863728841146,11.695914459228515,11.325758616129557,{"$f":" 100 * Amplitude!$D$104","v":10.96566790310278},10.99181874593099,11.02826156616211,11.535467783610025,11.316911697387695]
[null,"PO",10.71088981628418,10.714672088623047,9.9888748168945316,{"$f":" 100 * Amplitude!$D$123","v":8.0841480620843349},9.159423192342123,{"$f":" 100 * Amplitude!$D$126","v":8.4284721456170395},9.9518058776855476,11.173014322916666,11.172088623046875,null,"PO",12.063253402709961,12.068113962809244,13.215754699707031,{"$f":" 100 * Amplitude!$D$124","v":12.875819496626903},12.123536427815756,{"$f":" 100 * Amplitude!$D$127","v":12.393987452186863},13.132789611816406,11.743526458740234,11.736583709716797,null,"PO",10.927486419677734,10.941113789876303,13.404080200195313,{"$f":" 100 * Amplitude!$D$125","v":11.68583725824563},11.564135233561197,{"$f":" 100 * Amplitude!$D$128","v":11.017954652417107},12.348952484130859,11.27121607462565,11.26338005065918]
[null,"P/T",10.710143089294434,{"$f":" 100 * Amplitude!$D$111","v":10.710117622632493},{"$f":" 100 * Amplitude!$D$117","v":11.890786449094385},10.29971981048584,{"$f":" 100 * Amplitude!$D$96","v":10.924209229091279},10.274359703063965,{"$f":" 100 * Amplitude!$D$120","v":11.470374940918807},{"$f":" 100 * Amplitude!$D$114","v":11.171894265380471},11.171928405761719,null,"P/T",12.062268257141113,{"$f":" 100 * Amplitude!$D$112","v":12.062273368028155},{"$f":" 100 * Amplitude!$D$118","v":13.560208651805409},12.97800350189209,{"$f":" 100 * Amplitude!$D$97","v":12.49800247688562},12.923008918762207,{"$f":" 100 * Amplitude!$D$121","v":13.877059726235133},{"$f":" 100 * Amplitude!$D$115","v":11.735181470533936},11.735207557678223,null,"P/T",10.9248046875,{"$f":" 100 * Amplitude!$D$113","v":10.924731187255681},{"$f":" 100 * Amplitude!$D$119","v":15.132017262019696},13.13495922088623,{"$f":" 100 * Amplitude!$D$98","v":12.587063723315058},12.429734230041504,{"$f":" 100 * Amplitude!$D$122","v":13.6842011432108},{"$f":" 100 * Amplitude!$D$116","v":11.261794453433771},11.261828422546387]
[null,"CP",11.190473556518555,10.73152847290039,13.236668178013392,12.404293605259486,11.575990676879883,12.207410539899554,12.843304225376674,11.192181396484376,13.069480895996094,null,"CP",10.189676284790039,12.066793060302734,13.584480285644531,13.199491228376116,12.812534332275391,13.04375239780971,13.273660932268415,11.745334625244141,11.283329963684082,null,"CP",11.464165687561035,10.958585357666015,15.029857090541295,14.115831647600446,13.199587821960449,13.485255650111608,13.771573747907366,11.280392456054688,11.050068855285645]
[null,"C/T",{"$f":" 100 * Amplitude!$D$105","v":11.192338378357473},12.892356872558594,{"$f":" 100 * Amplitude!$D$87","v":14.592448485883111},13.410110473632813,{"$f":" 100 * Amplitude!$D$99","v":12.227777337643001},13.225279808044434,{"$f":" 100 * Amplitude!$D$90","v":14.222781617517407},13.649857838948568,{"$f":" 100 * Amplitude!$D$108","v":13.076894474804371},null,"C/T",{"$f":" 100 * Amplitude!$D$106","v":10.182343677905273},11.898516337076822,{"$f":" 100 * Amplitude!$D$88","v":13.614713659964004},13.370891571044922,{"$f":" 100 * Amplitude!$D$100","v":13.127060905064964},12.901679992675781,{"$f":" 100 * Amplitude!$D$91","v":12.676282722037048},11.97897974650065,{"$f":" 100 * Amplitude!$D$109","v":11.281554915551915},null,"C/T",{"$f":" 100 * Amplitude!$D$107","v":11.466254540029311},13.204967498779297,{"$f":" 100 * Amplitude!$D$89","v":14.943758844601732},14.377942085266113,{"$f":" 100 * Amplitude!$D$101","v":13.812109923494631},13.840445518493652,{"$f":" 100 * Amplitude!$D$92","v":13.868766208484789},12.459033966064453,{"$f":" 100 * Amplitude!$D$110","v":11.049227326961756}]
[null,"FC",11.187313079833984,9.9400472640991211,14.986179351806641,13.926107788085938,12.857414245605469,14.121440124511718,15.3902219136556,18.528244018554688,13.098296165466309,null,"FC",10.179470062255859,9.4767341613769531,13.953013102213541,14.113641357421875,14.266976674397787,14.250588989257812,14.24212900797526,19.054759979248047,11.312080383300781,null,"FC",11.456573486328125,9.0411529541015625,16.805334726969402,15.939628601074219,15.060897827148438,15.519515991210938,15.980153401692709,17.28441047668457,11.073648452758789]
[null,"F",9.8957595825195313,{"$f":" 100 * Amplitude!$D$81","v":9.8956552930062678},{"$f":" 100 * Amplitude!$D$75","v":15.399815523749389},14.443374633789062,{"$f":" 100 * Amplitude!$D$93","v":13.487032373330635},15.016163417271205,{"$f":" 100 * Amplitude!$D$78","v":16.545247418451762},{"$f":" 100 * Amplitude!$D$84","v":18.574102023141258},18.573989868164063,null,"F",9.4390239715576172,{"$f":" 100 * Amplitude!$D$82","v":9.4389376219674492},{"$f":" 100 * Amplitude!$D$76","v":14.308954507022065},14.857881164550781,{"$f":" 100 * Amplitude!$D$94","v":15.406897730692318},15.597930908203125,{"$f":" 100 * Amplitude!$D$79","v":15.788921665667432},{"$f":" 100 * Amplitude!$D$85","v":19.122796195586318},19.122627258300781,null,"F",8.9710893630981445,{"$f":" 100 * Amplitude!$D$83","v":8.970902559366678},{"$f":" 100 * Amplitude!$D$77","v":18.697534927875765},17.503533935546876,{"$f":" 100 * Amplitude!$D$95","v":16.309677593294204},17.197998046875,{"$f":" 100 * Amplitude!$D$80","v":18.086332322307449},{"$f":" 100 * Amplitude!$D$86","v":17.318975238629662},17.318891525268555]
[null,"AF",9.8992605209350586,9.9170805613199864,15.368370056152344,12.804969787597656,13.491346740722657,15.289146423339844,16.548244476318359,18.566200256347656,18.572772979736328,null,"AF",9.4421262741088867,9.4578866958618164,14.290008544921875,14.856150309244791,15.4068972269694,15.599063873291016,15.801893870035807,19.109825134277344,19.120613098144531,null,"AF",8.9772720336914062,9.0087490081787109,18.659683227539063,17.500809987386067,16.309688568115234,17.198043823242187,18.083343505859375,17.32196044921875,17.319477081298828]
[null,"Fp",10.020893096923828,11.657814025878906,12.792202949523926,{"$f":" 100 * Amplitude!$D$69","v":12.792170181946824},14.041719055175781,{"$f":" 100 * Amplitude!$D$72","v":15.291275604215802},15.291305541992188,16.902702331542969,18.527938842773437,null,"Fp",9.5497465133666992,10.138605117797852,13.615278879801432,14.795566558837891,15.404122670491537,15.638472239176432,16.265023549397785,18.643823623657227,19.046939849853516,null,"Fp",9.1922149658203125,10.368313789367676,17.296820322672527,17.405414581298828,16.325819651285808,17.19939676920573,17.970531463623047,17.429220199584961,17.336435317993164]
[]
[null,"Eyes Closed Percent Data",null,null,null,null,null,null,null,null,null,null,"Eyes Open Percent Data",null,null,null,null,null,null,null,null,null,null,"Task Percent Data"]
[null,"4-6 Hz","3/3","5/7","3/3","1/1","Z/0","2/2","4/4","6/8","4/4",null,"4-6 Hz","3/3","5/7","3/3","1/1","Z/0","2/2","4/4","6/8","4/4",null,"4-6 Hz","3/3","5/7","3/3","1/1","Z/0","2/2","4/4","6/8","4/4"]
[null,"O",8.7091045379638672,8.6860027313232422,7.0273735046386721,6.892832438151042,{"$f":" 100 * Amplitude!$E$102","v":6.7718008218426275},6.9710833231608076,7.1832191467285158,8.6848278045654297,8.6564779281616211,null,"O",10.035093307495117,10.217633565266928,11.155997467041015,9.9980748494466152,{"$f":" 100 * Amplitude!$E$103","v":8.8273549388788091},9.8381239573160801,10.837516784667969,8.67431640625,8.0718250274658203,null,"O",10.963047981262207,11.001180013020834,10.922639465332031,10.022575378417969,{"$f":" 100 * Amplitude!$E$104","v":9.1171491983263717},10.123342514038086,11.118562316894531,10.604443868001303,10.545433044433594]
[null,"PO",8.6694211959838867,8.6752077738444004,8.7387832641601566,{"$f":" 100 * Amplitude!$E$123","v":7.0138505015603396},7.3550841013590498,{"$f":" 100 * Amplitude!$E$126","v":7.1703525346605472},8.9066581726074219,8.6180909474690761,8.6115303039550781,null,"PO",10.026705741882324,10.027952194213867,10.785894012451172,{"$f":" 100 * Amplitude!$E$124","v":11.168793457905116},10.013284683227539,{"$f":" 100 * Amplitude!$E$127","v":10.848888631526162},10.627452087402343,8.0266176859537754,8.0188112258911133,null,"PO",10.954156875610352,10.955459594726563,11.141730499267577,{"$f":" 100 * Amplitude!$E$125","v":10.927997236422245},10.212750752766928,{"$f":" 100 * Amplitude!$E$128","v":11.129533661304972},10.770661163330079,10.548004150390625,10.548434257507324]
[null,"P/T",8.6682605743408203,{"$f":" 100 * Amplitude!$E$111","v":8.6682449472510825},{"$f":" 100 * Amplitude!$E$117","v":10.463999073017929},8.6473855972290039,{"$f":" 100 * Amplitude!$E$96","v":8.4643122147051653},8.7595958709716797,{"$f":" 100 * Amplitude!$E$120","v":10.644128577324807},{"$f":" 100 * Amplitude!$E$114","v":8.6101993781067083},8.6102409362792969,null,"P/T",10.026432037353516,{"$f":" 100 * Amplitude!$E$112","v":10.026458075539137},{"$f":" 100 * Amplitude!$E$118","v":10.405971693997946},10.260952949523926,{"$f":" 100 * Amplitude!$E$97","v":9.208098765749515},10.15772533416748,{"$f":" 100 * Amplitude!$E$121","v":10.416221416944989},{"$f":" 100 * Amplitude!$E$115","v":8.0172408952971335},8.017298698425293,null,"P/T",10.953863143920898,{"$f":" 100 * Amplitude!$E$113","v":10.953893757250192},{"$f":" 100 * Amplitude!$E$119","v":11.356207702797283},10.653507232666016,{"$f":" 100 * Amplitude!$E$98","v":9.6763160118712932},10.406171798706055,{"$f":" 100 * Amplitude!$E$122","v":10.41266447131917},{"$f":" 100 * Amplitude!$E$116","v":10.548523440124375},10.548495292663574]
[null,"CP",7.8214831352233887,8.6777336120605462,10.318631853376116,9.5863680158342639,8.8562126159667969,9.5824475969587048,10.310400826590401,8.6260795593261719,9.3133096694946289,null,"CP",7.9418644905090332,10.019821929931641,10.213139125279017,9.8902609688895087,9.5644712448120117,10.012113298688616,10.45401109967913,8.041412353515625,9.3891820907592773,null,"CP",8.4600515365600586,10.946585845947265,11.258636474609375,10.615999494280134,9.972041130065918,10.391401018415179,10.808756147112165,10.543585968017577,8.7550640106201172]
[null,"C/T",{"$f":" 100 * Amplitude!$E$105","v":7.8181617945672421},8.9989369710286464,{"$f":" 100 * Amplitude!$E$87","v":10.179734054894347},9.7139244079589844,{"$f":" 100 * Amplitude!$E$99","v":9.2481095772314301},9.6157245635986328,{"$f":" 100 * Amplitude!$E$90","v":9.9833336104107477},9.6497097015380859,{"$f":" 100 * Amplitude!$E$108","v":9.3160517950378789},null,"C/T",{"$f":" 100 * Amplitude!$E$106","v":7.9337086370708816},8.9773712158203125,{"$f":" 100 * Amplitude!$E$88","v":10.021041860372296},9.9709386825561523,{"$f":" 100 * Amplitude!$E$100","v":9.9208295984427313},10.211079597473145,{"$f":" 100 * Amplitude!$E$91","v":10.501324798196867},9.9479560852050781,{"$f":" 100 * Amplitude!$E$109","v":9.3945357384264909},null,"C/T",{"$f":" 100 * Amplitude!$E$107","v":8.4502953270248113},9.8062674204508458,{"$f":" 100 * Amplitude!$E$89","v":11.162270136644587},10.71501636505127,{"$f":" 100 * Amplitude!$E$101","v":10.2677519614735},10.73681640625,{"$f":" 100 * Amplitude!$E$92","v":11.20587404452465},9.976989110310873,{"$f":" 100 * Amplitude!$E$110","v":8.7480474512405735}]
[null,"FC",7.8159399032592773,7.270754337310791,10.484837214152018,10.106541442871094,9.7228501637776699,10.208341979980469,10.6964111328125,12.35781192779541,9.3279905319213867,null,"FC",7.9289193153381348,6.7336397171020508,10.539553960164389,10.637871551513673,10.729975382486979,10.932688903808593,11.141306559244791,14.77067756652832,9.4156560897827148,null,"FC",8.4394216537475586,5.7133064270019531,12.384614308675131,11.734911346435547,11.074044545491537,11.69311294555664,12.311874389648438,12.238295555114746,8.7616977691650391]
[null,"F",7.2435207366943359,{"$f":" 100 * Amplitude!$E$81","v":7.2434570456361547},{"$f":" 100 * Amplitude!$E$75","v":10.802612560113168},10.500067574637276,{"$f":" 100 * Amplitude!$E$93","v":10.197584553285406},10.800264630998884,{"$f":" 100 * Amplitude!$E$78","v":11.402912044684827},{"$f":" 100 * Amplitude!$E$84","v":12.382699324130503},12.382637977600098,null,"F",6.6992454528808594,{"$f":" 100 * Amplitude!$E$82","v":6.699159412144633},{"$f":" 100 * Amplitude!$E$76","v":11.07307233596336},11.306059265136719,{"$f":" 100 * Amplitude!$E$94","v":11.539121749432988},11.653046417236329,{"$f":" 100 * Amplitude!$E$79","v":11.766928200642671},{"$f":" 100 * Amplitude!$E$85","v":14.820089022975763},14.819960594177246,null,"F",5.6505579948425293,{"$f":" 100 * Amplitude!$E$83","v":5.6503931641802883},{"$f":" 100 * Amplitude!$E$77","v":13.633280743607507},12.756745147705079,{"$f":" 100 * Amplitude!$E$95","v":11.880327422967071},12.649221038818359,{"$f":" 100 * Amplitude!$E$80","v":13.418127574381177},{"$f":" 100 * Amplitude!$E$86","v":12.251353123171974},12.251317977905273]
[null,"AF",7.2457871437072754,7.257313410441081,10.785495758056641,9.9503196716308597,10.20291976928711,11.816432189941406,11.408340454101563,12.378885904947916,12.38205623626709,null,"AF",6.702023983001709,6.7161788940429687,11.05605443318685,11.304587046305338,11.539122263590494,11.654062906901041,11.77880859375,14.808209419250488,14.818088531494141,null,"AF",5.6556210517883301,5.6814546585083008,13.602216084798178,12.754475911458334,11.880336761474609,12.649097442626953,13.413585662841797,12.255893707275391,12.252117156982422]
[null,"Fp",7.324439525604248,8.7656160990397129,9.9460325241088867,{"$f":" 100 * Amplitude!$E$69","v":9.9460262636988741},10.885194396972656,{"$f":" 100 * Amplitude!$E$72","v":11.824373524668426},11.824368476867676,12.049311319986979,12.360405921936035,null,"Fp",6.798680305480957,7.3275532722473145,10.448326746622721,11.253082275390625,11.538199106852213,11.689470926920572,12.203350067138672,14.38144588470459,14.750619888305664,null,"Fp",5.8320298194885254,6.7972831726074219,12.484369913736979,12.675025939941406,11.893081665039063,12.644649505615234,13.245930989583334,12.418981552124023,12.277901649475098]
[]
[null,"Eyes Closed Percent Data",null,null,null,null,null,null,null,null,null,null,"Eyes Open Percent Data",null,null,null,null,null,null,null,null,null,null,"Task Percent Data"]
[null,"6-8 Hz","3/3","5/7","3/3","1/1","Z/0","2/2","4/4","6/8","4/4",null,"6-8 Hz","3/3","5/7","3/3","1/1","Z/0","2/2","4/4","6/8","4/4",null,"6-8 Hz","3/3","5/7","3/3","1/1","Z/0","2/2","4/4","6/8","4/4"]
[null,"O",8.4389009475708008,8.2153428395589199,7.2617721557617188,6.766693115234375,{"$f":" 100 * Amplitude!$F$102","v":6.2703936461555907},6.7192560831705732,7.1672080993652347,7.9546871185302734,8.1243915557861328,null,"O",9.6703395843505859,9.605896631876627,9.5085212707519524,8.9105434417724609,{"$f":" 100 * Amplitude!$F$103","v":8.3069902641010849},8.8681348164876308,9.4207946777343743,8.3394711812337246,8.1263618469238281,null,"O",8.4834346771240234,8.8407262166341152,10.982233428955078,9.3816649119059239,{"$f":" 100 * Amplitude!$F$104","v":7.7585334027328052},9.5652662913004551,11.343839263916015,8.107514063517252,7.5349979400634766]
[null,"PO",8.4547510147094727,8.4524122873942051,7.5023109436035158,{"$f":" 100 * Amplitude!$F$123","v":7.2629861437459811},7.264322916666667,{"$f":" 100 * Amplitude!$F$126","v":7.1681103908112078},7.4185295104980469,8.1332219441731777,8.1347541809082031,null,"PO",9.6797056198120117,9.6783307393391933,9.3856765747070305,{"$f":" 100 * Amplitude!$F$124","v":9.514095311679208},9.0830198923746739,{"$f":" 100 * Amplitude!$F$127","v":9.4292777476320797},9.004557037353516,8.1175619761149083,8.1160287857055664,null,"PO",8.4749574661254883,8.4762376149495449,9.9287063598632805,{"$f":" 100 * Amplitude!$F$125","v":11.004795386542865},9.8051815032958984,{"$f":" 100 * Amplitude!$F$128","v":11.371999232438213},9.867197418212891,7.5189094543457031,7.5160799026489258]
[null,"P/T",8.4551877975463867,{"$f":" 100 * Amplitude!$F$111","v":8.4552213292402278},{"$f":" 100 * Amplitude!$F$117","v":7.7379159559803776},7.7855691909790039,{"$f":" 100 * Amplitude!$F$96","v":8.3557960784952598},7.7300219535827637,{"$f":" 100 * Amplitude!$F$120","v":7.6661513011177203},{"$f":" 100 * Amplitude!$F$114","v":8.1350615376683972},8.1350584030151367,null,"P/T",9.6799373626708984,{"$f":" 100 * Amplitude!$F$112","v":9.6799826736968182},{"$f":" 100 * Amplitude!$F$118","v":9.2561138437214829},9.2839765548706055,{"$f":" 100 * Amplitude!$F$97","v":9.0817149869026448},9.0314302444458008,{"$f":" 100 * Amplitude!$F$121","v":8.5833110827781471},{"$f":" 100 * Amplitude!$F$115","v":8.1157230020120732},8.1157293319702148,null,"P/T",8.4746894836425781,{"$f":" 100 * Amplitude!$F$113","v":8.4747062770775798},{"$f":" 100 * Amplitude!$F$119","v":8.8583067567218254},9.6494941711425781,{"$f":" 100 * Amplitude!$F$98","v":9.0854007354534918},9.6096525192260742,{"$f":" 100 * Amplitude!$F$122","v":8.3715912031418238},{"$f":" 100 * Amplitude!$F$116","v":7.5155197860186931},7.5155415534973145]
[null,"CP",6.9287881851196289,8.4478431701660153,8.266204833984375,8.4563527788434705,8.6492013931274414,8.4933591570172986,8.3398252214704236,8.1374969482421875,8.3545770645141602,null,"CP",7.0860843658447266,9.6662101745605469,9.1993364606584827,9.3499614170619427,9.5010910034179687,9.1536026000976563,8.8045643397739948,8.1208045959472663,8.051793098449707,null,"CP",6.9061183929443359,8.4751029968261715,9.3117141723632812,9.2940357753208698,9.271636962890625,9.177313668387276,9.076194218226842,7.5297561645507809,8.0729503631591797]
[null,"C/T",{"$f":" 100 * Amplitude!$F$105","v":6.922818236563705},7.8582820892333984,{"$f":" 100 * Amplitude!$F$87","v":8.7937589591045011},8.8681859970092773,{"$f":" 100 * Amplitude!$F$99","v":8.9426185315480531},8.9784564971923828,{"$f":" 100 * Amplitude!$F$90","v":9.0142999043460392},8.6848697662353516,{"$f":" 100 * Amplitude!$F$108","v":8.3554347984236692},null,"C/T",{"$f":" 100 * Amplitude!$F$106","v":7.0759405518691549},8.108307520548502,{"$f":" 100 * Amplitude!$F$88","v":9.140684247702989},9.5305795669555664,{"$f":" 100 * Amplitude!$F$100","v":9.9204721038469064},9.4744882583618164,{"$f":" 100 * Amplitude!$F$91","v":9.0285057857866402},8.5400346120198574,{"$f":" 100 * Amplitude!$F$109","v":8.0515398965474851},null,"C/T",{"$f":" 100 * Amplitude!$F$107","v":6.8999785263231654},8.3341623942057286,{"$f":" 100 * Amplitude!$F$89","v":9.7683913954322144},9.6131277084350586,{"$f":" 100 * Amplitude!$F$101","v":9.4578658202301114},9.62237548828125,{"$f":" 100 * Amplitude!$F$92","v":9.7868888184377525},8.930999755859375,{"$f":" 100 * Amplitude!$F$110","v":8.0751230282843185}]
[null,"FC",6.9199762344360352,6.2124810218811035,8.7659708658854161,8.891326904296875,9.0125306447347011,8.9462005615234368,8.8811194101969395,9.6279325485229492,8.3604307174682617,null,"FC",7.0697336196899414,5.5126709938049316,9.1856301625569667,9.8635116577148434,10.535580317179361,9.8175315856933594,9.101776758829752,10.354448318481445,8.0605783462524414,null,"FC",6.8917179107666016,4.820432186126709,9.8485037485758458,9.7130477905273445,9.5692914326985683,9.6930854797363288,9.8160889943440761,9.3557958602905273,8.0801200866699219]
[null,"F",6.1897683143615723,{"$f":" 100 * Amplitude!$F$81","v":6.1897180025470835},{"$f":" 100 * Amplitude!$F$75","v":8.7482496467773885},8.9153208051409045,{"$f":" 100 * Amplitude!$F$93","v":9.0824474814039213},8.9137115478515625,{"$f":" 100 * Amplitude!$F$78","v":8.7449814124542371},{"$f":" 100 * Amplitude!$F$84","v":9.638749604609572},9.6387176513671875,null,"F",5.4778957366943359,{"$f":" 100 * Amplitude!$F$82","v":5.4778130994422769},{"$f":" 100 * Amplitude!$F$76","v":9.2450577240816685},10.197844696044921,{"$f":" 100 * Amplitude!$F$94","v":11.150705681082897},10.160392761230469,{"$f":" 100 * Amplitude!$F$79","v":9.1700792431604938},{"$f":" 100 * Amplitude!$F$85","v":10.373250251124423},10.373196601867676,null,"F",4.7730607986450195,{"$f":" 100 * Amplitude!$F$83","v":4.7729492589269027},{"$f":" 100 * Amplitude!$F$77","v":9.9484512904355267},9.8145454406738288,{"$f":" 100 * Amplitude!$F$95","v":9.6807161324440134},9.7639007568359375,{"$f":" 100 * Amplitude!$F$80","v":9.8470893947041223},{"$f":" 100 * Amplitude!$F$86","v":9.357195018660903},9.3571834564208984]
[null,"AF",6.1913933753967285,6.1996777852376299,8.7352638244628906,7.9635147094726566,9.0733383178710945,7.8672752380371094,8.7450132369995117,9.6352685292561855,9.6381645202636719,null,"AF",5.4802803993225098,5.4924716949462891,9.2304051717122402,10.196335474650065,11.15069580078125,10.160462061564127,9.1747665405273437,10.368568420410156,10.372461318969727,null,"AF",4.7763385772705078,4.7930874824523926,9.9283129374186192,9.8129323323567714,9.6807187398274746,9.7637697855631504,9.845183690388998,9.3591012954711914,9.3575153350830078]
[null,"Fp",6.2479324340820312,7.2025616963704424,7.9560904502868652,{"$f":" 100 * Amplitude!$F$69","v":7.9560827891618393},7.9075981140136715,{"$f":" 100 * Amplitude!$F$72","v":7.8590947040535095},7.8591136932373047,8.7486165364583339,9.6184139251708984,null,"Fp",5.5635309219360352,6.019047737121582,8.7119814554850254,10.14356549580892,11.135641733805338,10.162841796875,9.3489640553792324,10.20039176940918,10.345873832702637,null,"Fp",4.8907089233398437,5.5165061950683594,9.2064800262451172,9.7565670013427734,9.6823991139729824,9.7592233022054042,9.7763868967692051,9.427577018737793,9.3683414459228516]
[]
[null,"Eyes Closed Percent Data",null,null,null,null,null,null,null,null,null,null,"Eyes Open Percent Data",null,null,null,null,null,null,null,null,null,null,"Task Percent Data"]
[null,"8-10 Hz","3/3","5/7","3/3","1/1","Z/0","2/2","4/4","6/8","4/4",null,"8-10 Hz","3/3","5/7","3/3","1/1","Z/0","2/2","4/4","6/8","4/4",null,"8-10 Hz","3/3","5/7","3/3","1/1","Z/0","2/2","4/4","6/8","4/4"]
[null,"O",26.514041900634766,27.183949788411457,33.940130615234374,30.127418518066406,{"$f":" 100 * Amplitude!$G$102","v":26.240821282753313},28.300613403320313,30.310403442382814,22.254926045735676,20.790227890014648,null,"O",15.802823066711426,16.074951171875,16.522561645507814,16.40063985188802,{"$f":" 100 * Amplitude!$G$103","v":16.281043630552048},16.346964518229168,16.412681579589844,14.879826863606771,14.350795745849609,null,"O",21.359592437744141,19.384353637695313,12.715986633300782,13.129440307617188,{"$f":" 100 * Amplitude!$G$104","v":13.553688063714537},12.996576944986979,12.450592803955079,17.231927235921223,18.596197128295898]
[null,"PO",26.570943832397461,26.562723795572918,29.001068115234375,{"$f":" 100 * Amplitude!$G$123","v":34.014056845670574},28.163948059082031,{"$f":" 100 * Amplitude!$G$126","v":30.360416735999422},26.776614379882812,20.743544260660808,20.735363006591797,null,"PO",15.76478099822998,15.770364125569662,17.000273132324217,{"$f":" 100 * Amplitude!$G$124","v":16.520233195127858},16.598169962565105,{"$f":" 100 * Amplitude!$G$127","v":16.412880806125443},16.625073242187501,14.302659352620443,14.294363021850586,null,"PO",21.545211791992188,21.517896016438801,12.944906616210938,{"$f":" 100 * Amplitude!$G$125","v":12.70518890155105},13.463039398193359,{"$f":" 100 * Amplitude!$G$128","v":12.43945962427582},12.798702239990234,18.701513926188152,18.719694137573242]
[null,"P/T",26.572380065917969,{"$f":" 100 * Amplitude!$G$111","v":26.572631509485312},{"$f":" 100 * Amplitude!$G$117","v":23.997595878381862},26.684043884277344,{"$f":" 100 * Amplitude!$G$96","v":22.040505502601757},25.205760955810547,{"$f":" 100 * Amplitude!$G$120","v":23.216434391580176},{"$f":" 100 * Amplitude!$G$114","v":20.733738426382274},20.733713150024414,null,"P/T",15.763608932495117,{"$f":" 100 * Amplitude!$G$112","v":15.763653736653586},{"$f":" 100 * Amplitude!$G$118","v":17.48514514017528},17.061286926269531,{"$f":" 100 * Amplitude!$G$97","v":17.178515136368599},16.812578201293945,{"$f":" 100 * Amplitude!$G$121","v":16.846377794601327},{"$f":" 100 * Amplitude!$G$115","v":14.292691019597893},14.292758941650391,null,"P/T",21.550363540649414,{"$f":" 100 * Amplitude!$G$113","v":21.550715298187097},{"$f":" 100 * Amplitude!$G$119","v":13.151002302018613},13.670041084289551,{"$f":" 100 * Amplitude!$G$98","v":15.153817580116838},13.5760498046875,{"$f":" 100 * Amplitude!$G$122","v":13.134796032238311},{"$f":" 100 * Amplitude!$G$116","v":18.723353462933783},18.723173141479492]
[null,"CP",12.601413726806641,26.478164672851563,21.362008231026785,21.188624790736608,20.998565673828125,21.10504368373326,21.192598615373885,20.721145629882813,16.568489074707031,null,"CP",11.067538261413574,15.756207275390626,17.153805324009486,17.044988359723771,16.934894561767578,16.997706821986608,17.057146344866073,14.321206665039062,16.130901336669922,null,"CP",7.0700669288635254,21.42205810546875,12.176575796944755,13.672962733677455,15.186956405639648,13.884490966796875,12.595222473144531,18.651324462890624,12.372378349304199]
[null,"C/T",{"$f":" 100 * Amplitude!$G$105","v":12.546792550160538},15.626497904459635,{"$f":" 100 * Amplitude!$G$87","v":18.706053976819646},19.331319808959961,{"$f":" 100 * Amplitude!$G$99","v":19.956567196765317},19.563560485839844,{"$f":" 100 * Amplitude!$G$90","v":19.170544468837839},17.861403147379558,{"$f":" 100 * Amplitude!$G$108","v":16.552195156649866},null,"C/T",{"$f":" 100 * Amplitude!$G$106","v":11.049162288325624},13.938501993815104,{"$f":" 100 * Amplitude!$G$88","v":16.827913446576691},16.759593963623047,{"$f":" 100 * Amplitude!$G$100","v":16.691279095151867},16.984996795654297,{"$f":" 100 * Amplitude!$G$91","v":17.278719400901309},16.708356221516926,{"$f":" 100 * Amplitude!$G$109","v":16.138076924373131},null,"C/T",{"$f":" 100 * Amplitude!$G$107","v":7.0134747486159403},9.0896027882893886,{"$f":" 100 * Amplitude!$G$89","v":11.165527935059725},13.192832946777344,{"$f":" 100 * Amplitude!$G$101","v":15.220139905207212},13.625917434692383,{"$f":" 100 * Amplitude!$G$92","v":12.031697889537128},12.189735412597656,{"$f":" 100 * Amplitude!$G$110","v":12.347568713184689}]
[null,"FC",12.54686450958252,12.601337432861328,18.223617553710938,18.95306396484375,19.67352294921875,19.148506164550781,18.623271942138672,18.386333465576172,16.559362411499023,null,"FC",11.031856536865234,6.6845993995666504,15.982977549235025,16.022119140625001,16.046005249023437,16.277987670898437,16.505250295003254,13.683156967163086,16.128402709960937,null,"FC",7.0221405029296875,9.232487678527832,9.8046181996663417,12.169893646240235,14.535004933675131,12.742420959472657,10.963675181070963,19.038309097290039,12.373942375183105]
[null,"F",12.557619094848633,{"$f":" 100 * Amplitude!$G$81","v":12.557539079248805},{"$f":" 100 * Amplitude!$G$75","v":17.763321076825438},18.576847621372767,{"$f":" 100 * Amplitude!$G$93","v":19.390496732305991},18.733688354492188,{"$f":" 100 * Amplitude!$G$78","v":18.076908134165048},{"$f":" 100 * Amplitude!$G$84","v":18.391642807870454},18.391611099243164,null,"F",6.5949640274047852,{"$f":" 100 * Amplitude!$G$82","v":6.5947637677684385},{"$f":" 100 * Amplitude!$G$76","v":15.174725663411742},15.287667846679687,{"$f":" 100 * Amplitude!$G$94","v":15.40073365424885},15.571824645996093,{"$f":" 100 * Amplitude!$G$79","v":15.742937558204256},{"$f":" 100 * Amplitude!$G$85","v":13.651475906781755},13.651546478271484,null,"F",9.2366323471069336,{"$f":" 100 * Amplitude!$G$83","v":9.2366768019097254},{"$f":" 100 * Amplitude!$G$77","v":8.4459090045933412},11.147904205322266,{"$f":" 100 * Amplitude!$G$95","v":13.849917100565074},11.856890106201172,{"$f":" 100 * Amplitude!$G$80","v":9.8637424210576388},{"$f":" 100 * Amplitude!$G$86","v":19.127653040980512},19.127408981323242]
[null,"AF",12.560947418212891,12.577804565429687,17.737541198730469,16.333905029296876,19.369760131835939,17.128622436523436,18.074407577514648,18.390416463216145,18.391435623168945,null,"AF",6.6003823280334473,6.6281490325927734,15.141342163085938,15.284881591796875,15.400736490885416,15.571206410725912,15.73479970296224,13.659613609313965,13.65284538269043,null,"AF",9.2361583709716797,9.2336006164550781,8.4490000406901036,11.147286732991537,13.849895477294922,11.859212239583334,9.8997999827067051,19.091606140136719,19.121585845947266]
[null,"Fp",12.675987243652344,14.694402058919271,16.316400527954102,{"$f":" 100 * Amplitude!$G$69","v":16.316387025849139},16.716255187988281,{"$f":" 100 * Amplitude!$G$72","v":17.116078586836718},17.116100311279297,17.778861999511719,18.384481430053711,null,"Fp",6.7899861335754395,7.8274345397949219,13.946917215983072,15.187694549560547,15.40118408203125,15.549737294514975,15.442320505777994,13.951952934265137,13.699063301086426,null,"Fp",9.218684196472168,9.1230688095092773,8.5771547953287754,11.125919342041016,13.813522338867187,11.940499623616537,11.2035280863444,17.796720504760742,18.916868209838867]
[]
[null,"Eyes Closed Percent Data",null,null,null,null,null,null,null,null,null,null,"Eyes Open Percent Data",null,null,null,null,null,null,null,null,null,null,"Task Percent Data"]
[null,"10-12 Hz","3/3","5/7","3/3","1/1","Z/0","2/2","4/4","6/8","4/4",null,"10-12 Hz","3/3","5/7","3/3","1/1","Z/0","2/2","4/4","6/8","4/4",null,"10-12 Hz","3/3","5/7","3/3","1/1","Z/0","2/2","4/4","6/8","4/4"]
[null,"O",13.474348068237305,13.790267944335938,16.83662567138672,17.598902384440105,{"$f":" 100 * Amplitude!$H$102","v":18.347833005209104},18.412377675374348,18.446707153320311,12.615150451660156,11.748794555664063,null,"O",12.072330474853516,11.933400472005209,11.609697723388672,11.548624674479166,{"$f":" 100 * Amplitude!$H$103","v":11.486259206236845},11.622903188069662,11.755789947509765,10.547709147135416,10.23930549621582,null,"O",12.843171119689941,12.170417785644531,9.8927009582519538,9.932555516560873,{"$f":" 100 * Amplitude!$H$104","v":9.9753456963907805},9.9448884328206386,9.9181327819824219,10.95660654703776,11.178638458251953]
[null,"PO",13.496949195861816,13.493690490722656,14.660160827636719,{"$f":" 100 * Amplitude!$H$123","v":16.849993042907666},16.930721282958984,{"$f":" 100 * Amplitude!$H$126","v":18.476953639429937},15.203912353515625,11.745122273763021,11.74437141418457,null,"PO",12.089255332946777,12.086770375569662,11.468632507324219,{"$f":" 100 * Amplitude!$H$124","v":11.61099242308646},11.446690877278646,{"$f":" 100 * Amplitude!$H$127","v":11.759550492143577},11.539551544189454,10.218378067016602,10.214759826660156,null,"PO",12.906240463256836,12.896958669026693,9.977650451660157,{"$f":" 100 * Amplitude!$H$125","v":9.889764515767995},10.040545781453451,{"$f":" 100 * Amplitude!$H$128","v":9.9144270897541791},10.256176757812501,11.189898173014322,11.191852569580078]
[null,"P/T",13.497576713562012,{"$f":" 100 * Amplitude!$H$111","v":13.497619904415266},{"$f":" 100 * Amplitude!$H$117","v":12.474865889488514},14.457660675048828,{"$f":" 100 * Amplitude!$H$96","v":14.048122618110682},14.823141098022461,{"$f":" 100 * Amplitude!$H$120","v":11.944382959318851},{"$f":" 100 * Amplitude!$H$114","v":11.744240330464372},11.744226455688477,null,"P/T",12.089735984802246,{"$f":" 100 * Amplitude!$H$112","v":12.089757343097531},{"$f":" 100 * Amplitude!$H$118","v":11.323850131972828},11.288272857666016,{"$f":" 100 * Amplitude!$H$97","v":10.929955799250422},11.338075637817383,{"$f":" 100 * Amplitude!$H$121","v":11.324734015304328},{"$f":" 100 * Amplitude!$H$115","v":10.21403316599517},10.214086532592773,null,"P/T",12.907986640930176,{"$f":" 100 * Amplitude!$H$113","v":12.908109229921685},{"$f":" 100 * Amplitude!$H$119","v":10.054089324194178},10.108846664428711,{"$f":" 100 * Amplitude!$H$98","v":10.382640085119055},10.297118186950684,{"$f":" 100 * Amplitude!$H$122","v":10.594271557557859},{"$f":" 100 * Amplitude!$H$116","v":11.192244913596918},11.192225456237793]
[null,"CP",11.625463485717773,13.484994506835937,12.803429739815849,13.543765476771764,14.278983116149902,13.405089242117745,12.520299639020648,11.745751953125,10.584718704223633,null,"CP",11.404051780700684,12.088516998291016,12.27287837437221,11.637047903878349,11.000763893127441,11.783102852957589,12.56142098563058,10.241201019287109,12.537152290344238,null,"CP",7.628319263458252,12.870970153808594,10.752931867327009,10.478087288992745,10.207804679870605,10.795607430594307,11.384626116071429,11.190972900390625,10.480099678039551]
[null,"C/T",{"$f":" 100 * Amplitude!$H$105","v":11.618142995469777},12.373685201009115,{"$f":" 100 * Amplitude!$H$87","v":13.129268000139071},13.819554328918457,{"$f":" 100 * Amplitude!$H$99","v":14.509843045703294},13.804533004760742,{"$f":" 100 * Amplitude!$H$90","v":13.099229038806733},11.83969751993815,{"$f":" 100 * Amplitude!$H$108","v":10.580179220875804},null,"C/T",{"$f":" 100 * Amplitude!$H$106","v":11.401368270046504},12.311946868896484,{"$f":" 100 * Amplitude!$H$88","v":13.222631235474546},12.147087097167969,{"$f":" 100 * Amplitude!$H$100","v":11.07155488758114},12.439413070678711,{"$f":" 100 * Amplitude!$H$91","v":13.807287493444639},13.176700592041016,{"$f":" 100 * Amplitude!$H$109","v":12.546226772302182},null,"C/T",{"$f":" 100 * Amplitude!$H$107","v":7.6076782205282978},9.5255330403645839,{"$f":" 100 * Amplitude!$H$89","v":11.443368390239954},10.738162040710449,{"$f":" 100 * Amplitude!$H$101","v":10.032965658549644},11.104349136352539,{"$f":" 100 * Amplitude!$H$92","v":12.175746177696599},11.326521555582682,{"$f":" 100 * Amplitude!$H$110","v":10.477312993378934}]
[null,"FC",11.606806755065918,8.7446784973144531,12.630193074544271,13.733332824707031,14.830440521240234,13.652848815917968,12.473070780436197,10.90742301940918,10.581418991088867,null,"FC",11.37972354888916,5.9097490310668945,12.431875864664713,11.422369384765625,10.401816050211588,11.602989959716798,12.798019409179688,9.2961950302124023,12.533425331115723,null,"FC",7.6072592735290527,7.5155811309814453,9.8836097717285156,9.8460296630859379,9.8045533498128261,10.096950531005859,10.390220006306967,10.9815673828125,10.479300498962402]
[null,"F",8.7031345367431641,{"$f":" 100 * Amplitude!$H$81","v":8.7030369967563885},{"$f":" 100 * Amplitude!$H$75","v":12.146448546914081},13.64870125906808,{"$f":" 100 * Amplitude!$H$93","v":15.151065163151154},13.502027239118304,{"$f":" 100 * Amplitude!$H$78","v":11.853065743403459},{"$f":" 100 * Amplitude!$H$84","v":10.896446515559056},10.896456718444824,null,"F",5.8374171257019043,{"$f":" 100 * Amplitude!$H$82","v":5.8372424130704763},{"$f":" 100 * Amplitude!$H$76","v":11.666892838924777},10.699441528320312,{"$f":" 100 * Amplitude!$H$94","v":9.7320552287160016},10.767321777343749,{"$f":" 100 * Amplitude!$H$79","v":11.802600794285359},{"$f":" 100 * Amplitude!$H$85","v":9.2560877774690056},9.2561779022216797,null,"F",7.4966998100280762,{"$f":" 100 * Amplitude!$H$83","v":7.4966845074049253},{"$f":" 100 * Amplitude!$H$77","v":8.3331811625955048},8.9546546936035156,{"$f":" 100 * Amplitude!$H$95","v":9.5761407859068317},9.0892715454101562,{"$f":" 100 * Amplitude!$H$80","v":8.6023628127077689},{"$f":" 100 * Amplitude!$H$86","v":10.988166030136995},10.988122940063477]
[null,"AF",8.7052927017211914,8.7164427439371739,12.129568099975586,11.251509094238282,15.119940185546875,11.061913299560548,11.846226692199707,10.900169372558594,10.897071838378906,null,"AF",5.8410601615905762,5.8599257469177246,11.644205729166666,10.697881062825521,9.7320671081542969,10.766831715901693,11.7926877339681,9.265995979309082,9.2577543258666992,null,"AF",7.4972324371337891,7.4999394416809082,8.3299299875895176,8.9541829427083339,9.5761362711588536,9.0898729960123692,8.6116485595703125,10.978882789611816,10.986602783203125]
[null,"Fp",8.7813863754272461,10.136516571044922,11.232793807983398,{"$f":" 100 * Amplitude!$H$69","v":11.232786468228806},11.137848663330079,{"$f":" 100 * Amplitude!$H$72","v":11.042848635702089},11.042861938476563,11.038017272949219,10.918212890625,null,"Fp",5.9698867797851563,6.6747803688049316,10.825696309407553,10.643522262573242,9.7475802103678379,10.749937693277994,11.431063334147135,9.6219415664672852,9.3140287399291992,null,"Fp",7.5157175064086914,7.6168627738952637,8.2175477345784511,8.9378827412923183,9.5675481160481777,9.1111036936442051,8.9472312927246094,10.645401000976563,10.933880805969238]
[]
[null,"Eyes Closed Percent Data",null,null,null,null,null,null,null,null,null,null,"Eyes Open Percent Data",null,null,null,null,null,null,null,null,null,null,"Task Percent Data"]
[null,"12-15 Hz","3/3","5/7","3/3","1/1","Z/0","2/2","4/4","6/8","4/4",null,"12-15 Hz","3/3","5/7","3/3","1/1","Z/0","2/2","4/4","6/8","4/4",null,"12-15 Hz","3/3","5/7","3/3","1/1","Z/0","2/2","4/4","6/8","4/4"]
[null,"O",8.4156827926635742,8.4899050394694004,7.4510765075683594,7.6969420115152998,{"$f":" 100 * Amplitude!$I$102","v":7.9563060011520674},7.9857826232910156,8.0253463745117184,8.7199554443359375,8.572138786315918,null,"O",10.647547721862793,10.881538391113281,11.751683044433594,11.423838297526041,{"$f":" 100 * Amplitude!$I$103","v":11.091788653774294},11.239767710367838,11.384175109863282,9.9983113606770839,9.6201047897338867,null,"O",9.4543848037719727,9.6661752065022792,10.846836853027344,11.262657165527344,{"$f":" 100 * Amplitude!$I$104","v":11.676702864553375},11.141951243082682,10.607825469970702,9.0360997517903652,8.6381101608276367]
[null,"PO",8.3744869232177734,8.3805052439371739,8.8366119384765618,{"$f":" 100 * Amplitude!$I$123","v":7.4375631417037864},8.5622577667236328,{"$f":" 100 * Amplitude!$I$126","v":8.0152463767853241},9.2986488342285156,8.5332781473795567,8.5266199111938477,null,"PO",10.627740859985352,10.630658467610678,11.637690734863281,{"$f":" 100 * Amplitude!$I$124","v":11.755889502850483},11.499006907145182,{"$f":" 100 * Amplitude!$I$127","v":11.387744269356075},11.222413635253906,9.5922737121582031,9.5874662399291992,null,"PO",9.4467239379882812,9.4478677113850917,10.319162750244141,{"$f":" 100 * Amplitude!$I$125","v":10.848615290809791},11.221789042154947,{"$f":" 100 * Amplitude!$I$128","v":10.607200566621023},10.315476989746093,8.61126708984375,8.6066255569458008]
[null,"P/T",8.3733015060424805,{"$f":" 100 * Amplitude!$I$111","v":8.3732662642323881},{"$f":" 100 * Amplitude!$I$117","v":10.237469922192096},9.5049705505371094,{"$f":" 100 * Amplitude!$I$96","v":10.839903061519236},9.8133974075317383,{"$f":" 100 * Amplitude!$I$120","v":10.585072345340411},{"$f":" 100 * Amplitude!$I$114","v":8.525271463606515},8.5253257751464844,null,"P/T",10.627129554748535,{"$f":" 100 * Amplitude!$I$112","v":10.627153914060015},{"$f":" 100 * Amplitude!$I$118","v":11.523440067609089},11.67996883392334,{"$f":" 100 * Amplitude!$I$97","v":11.76060116256204},11.403928756713867,{"$f":" 100 * Amplitude!$I$121","v":11.06347327316761},{"$f":" 100 * Amplitude!$I$115","v":9.5864990510102057},9.5865201950073242,null,"P/T",9.4464912414550781,{"$f":" 100 * Amplitude!$I$113","v":9.4464981423089114},{"$f":" 100 * Amplitude!$I$119","v":9.7931114886603048},10.798782348632813,{"$f":" 100 * Amplitude!$I$98","v":11.754638337176546},10.797411918640137,{"$f":" 100 * Amplitude!$I$122","v":10.030425197354521},{"$f":" 100 * Amplitude!$I$116","v":8.6056929746689583},8.6057329177856445]
[null,"CP",8.7435359954833984,8.3875877380371087,10.038592747279576,10.188539777483259,10.341205596923828,10.424708775111608,10.509674072265625,8.5462280273437496,9.9706583023071289,null,"CP",8.0586013793945313,10.617801666259766,10.704954964773995,10.977337428501674,11.248154640197754,11.044588361467634,10.838374546595983,9.5956466674804695,9.4475193023681641,null,"CP",8.5828447341918945,9.4486564636230472,10.158111572265625,10.849247523716517,11.539450645446777,11.200217110770089,10.858583722795759,8.6274749755859368,9.7281475067138672]
[null,"C/T",{"$f":" 100 * Amplitude!$I$105","v":8.7449758512550613},9.2955811818440761,{"$f":" 100 * Amplitude!$I$87","v":9.8462270059921746},9.8443746566772461,{"$f":" 100 * Amplitude!$I$99","v":9.842523766499939},10.142278671264648,{"$f":" 100 * Amplitude!$I$90","v":10.44203710147144},10.209136327107748,{"$f":" 100 * Amplitude!$I$108","v":9.9763011134887716},null,"C/T",{"$f":" 100 * Amplitude!$I$106","v":8.0485544505825484},8.9676691691080723,{"$f":" 100 * Amplitude!$I$88","v":9.8867738166710275},10.311246871948242,{"$f":" 100 * Amplitude!$I$100","v":10.735715087356148},10.676939010620117,{"$f":" 100 * Amplitude!$I$91","v":10.618165935053845},10.032551447550455,{"$f":" 100 * Amplitude!$I$109","v":9.4469688144113224},null,"C/T",{"$f":" 100 * Amplitude!$I$107","v":8.5794621503318798},9.5526523590087891,{"$f":" 100 * Amplitude!$I$89","v":10.525885695889814},10.925079345703125,{"$f":" 100 * Amplitude!$I$101","v":11.324279811856176},11.509904861450195,{"$f":" 100 * Amplitude!$I$92","v":11.695543526186075},10.713995615641275,{"$f":" 100 * Amplitude!$I$110","v":9.7325271726702294}]
[null,"FC",8.7397727966308594,7.4279732704162598,9.5083173116048183,9.3524932861328125,9.1932017008463536,9.5739173889160156,9.9506950378417969,7.6323142051696777,9.9670743942260742,null,"FC",8.0459394454956055,7.3937325477600098,9.5432567596435547,9.9345321655273437,10.322405497233072,10.091139984130859,9.8573958079020176,8.3063249588012695,9.4424686431884766,null,"FC",8.5731401443481445,6.9788107872009277,9.4394009908040371,10.164789581298828,10.886371612548828,10.412952423095703,9.9368451436360683,8.2109546661376953,9.726531982421875]
[null,"F",7.4065923690795898,{"$f":" 100 * Amplitude!$I$81","v":7.4065443427791724},{"$f":" 100 * Amplitude!$I$75","v":9.1786214487256448},8.8612311226981024,{"$f":" 100 * Amplitude!$I$93","v":8.5438764309541515},9.0061749049595416,{"$f":" 100 * Amplitude!$I$78","v":9.4685222085495955},{"$f":" 100 * Amplitude!$I$84","v":7.6050100456520813},7.6050753593444824,null,"F",7.3743877410888672,{"$f":" 100 * Amplitude!$I$82","v":7.3743484097108274},{"$f":" 100 * Amplitude!$I$76","v":9.2082108370961393},9.558644104003907,{"$f":" 100 * Amplitude!$I$94","v":9.9091051158194734},9.5059219360351559,{"$f":" 100 * Amplitude!$I$79","v":9.1027495093646351},{"$f":" 100 * Amplitude!$I$85","v":8.2897276393146786},8.2897577285766602,null,"F",6.9533443450927734,{"$f":" 100 * Amplitude!$I$83","v":6.9532970516800585},{"$f":" 100 * Amplitude!$I$77","v":8.3626216893752332},9.4055351257324222,{"$f":" 100 * Amplitude!$I$95","v":10.448478128491582},9.3167175292968754,{"$f":" 100 * Amplitude!$I$80","v":8.1849624527506659},{"$f":" 100 * Amplitude!$I$86","v":8.191500465713359},8.1915254592895508]
[null,"AF",7.4077043533325195,7.4134400685628252,9.1654567718505859,7.5645080566406246,8.5336585998535153,6.9119613647460936,9.4513254165649414,7.6122595469156904,7.6062302589416504,null,"AF",7.37554931640625,7.3814840316772461,9.2010777791341152,9.5579427083333339,9.9091027577718105,9.5055287679036464,9.0995890299479161,8.2928905487060547,8.2902593612670898,null,"AF",6.9542198181152344,6.9587807655334473,8.3571434020996094,9.4047457377115879,10.448467890421549,9.3163509368896484,8.1849943796793614,8.1914749145507812,8.1914958953857422]
[null,"Fp",7.4468646049499512,7.611888249715169,7.5544028282165527,{"$f":" 100 * Amplitude!$I$69","v":7.554378497910939},7.2249977111816408,{"$f":" 100 * Amplitude!$I$72","v":6.8955958661766497},6.8956379890441895,7.4219792683919268,7.6474108695983887,null,"Fp",7.4160747528076172,7.6378169059753418,8.9479573567708339,9.5335216522216797,9.9032630920410156,9.4919325510660801,8.9890219370524083,8.4065332412719727,8.3082265853881836,null,"Fp",6.9853639602661133,7.1557726860046387,8.1677742004394531,9.3773301442464199,10.431620279947916,9.30377197265625,8.1934445699055996,8.1905612945556641,8.1913518905639648]
[]
[null,"Eyes Closed Percent Data",null,null,null,null,null,null,null,null,null,null,"Eyes Open Percent Data",null,null,null,null,null,null,null,null,null,null,"Task Percent Data"]
[null,"15-19 Hz","3/3","5/7","3/3","1/1","Z/0","2/2","4/4","6/8","4/4",null,"15-19 Hz","3/3","5/7","3/3","1/1","Z/0","2/2","4/4","6/8","4/4",null,"15-19 Hz","3/3","5/7","3/3","1/1","Z/0","2/2","4/4","6/8","4/4"]
[null,"O",7.8368806838989258,7.7878189086914063,6.8704109191894531,7.0720062255859375,{"$f":" 100 * Amplitude!$J$102","v":7.282292172037315},7.08184814453125,6.8890289306640629,7.3862400054931641,7.3300714492797852,null,"O",9.1523561477661133,9.0848337809244786,8.2696762084960937,8.3561242421468105,{"$f":" 100 * Amplitude!$J$103","v":8.4489047628472864},8.2313117980957031,8.0189521789550788,8.0767472585042324,7.9657325744628906,null,"O",8.3416290283203125,8.3601271311442051,8.3938926696777347,8.4373455047607422,{"$f":" 100 * Amplitude!$J$104","v":8.4813504129040425},8.3932482401529942,8.3053039550781254,7.6794370015462237,7.4883828163146973]
[null,"PO",7.8215298652648926,7.8237635294596357,7.6889678955078127,{"$f":" 100 * Amplitude!$J$123","v":6.8617114799061838},7.6329097747802734,{"$f":" 100 * Amplitude!$J$126","v":6.8813945678258506},7.6251892089843754,7.3099886576334638,7.3065500259399414,null,"PO",9.1431264877319336,9.1444644927978516,8.9123725891113281,{"$f":" 100 * Amplitude!$J$124","v":8.2633383370243347},8.6429074605305996,{"$f":" 100 * Amplitude!$J$127","v":8.0137116107882349},8.473897552490234,7.9470030466715498,7.9437880516052246,null,"PO",8.3391208648681641,8.3394896189371739,8.42279052734375,{"$f":" 100 * Amplitude!$J$125","v":8.3933398222604776},8.6876722971598301,{"$f":" 100 * Amplitude!$J$128","v":8.3051420496089019},8.3039268493652347,7.472614924112956,7.4698944091796875]
[null,"P/T",7.8210954666137695,{"$f":" 100 * Amplitude!$J$111","v":7.8210755046445088},{"$f":" 100 * Amplitude!$J$117","v":8.51570639462226},8.2945461273193359,{"$f":" 100 * Amplitude!$J$96","v":9.5062347528805073},8.2526130676269531,{"$f":" 100 * Amplitude!$J$120","v":8.3702285693363585},{"$f":" 100 * Amplitude!$J$114","v":7.3058533093771514},7.305884838104248,null,"P/T",9.1428594589233398,{"$f":" 100 * Amplitude!$J$112","v":9.1428528004252687},{"$f":" 100 * Amplitude!$J$118","v":9.5605078765723697},9.2231674194335937,{"$f":" 100 * Amplitude!$J$97","v":9.8456676840631658},8.9318389892578125,{"$f":" 100 * Amplitude!$J$121","v":8.9361547555451839},{"$f":" 100 * Amplitude!$J$115","v":7.9431382685129988},7.9431672096252441,null,"P/T",8.3390865325927734,{"$f":" 100 * Amplitude!$J$113","v":8.3390463444352552},{"$f":" 100 * Amplitude!$J$119","v":8.4525674639036623},8.8055839538574219,{"$f":" 100 * Amplitude!$J$98","v":9.5708545668191487},8.7273168563842773,{"$f":" 100 * Amplitude!$J$122","v":8.3059695680358505},{"$f":" 100 * Amplitude!$J$116","v":7.4693470092963965},7.4693946838378906]
[null,"CP",8.4355878829956055,7.8252792358398438,8.0564433506556927,8.5774503435407361,9.1015987396240234,8.6797834123883923,8.260069165910993,7.3170082092285158,8.2787666320800781,null,"CP",9.0861930847167969,9.1405097961425774,8.8682915823800226,9.2345134190150677,9.6031999588012695,9.1660799298967639,8.7300725664411267,7.952616119384766,8.8174161911010742,null,"CP",10.766879081726074,8.3513877868652351,8.7177260262625555,9.033972603934151,9.3509616851806641,9.1804188319614948,9.0091378348214288,7.4900009155273439,9.7242012023925781]
[null,"C/T",{"$f":" 100 * Amplitude!$J$105","v":8.4379895129819467},8.0180581410725917,{"$f":" 100 * Amplitude!$J$87","v":7.598097524149205},8.1475419998168945,{"$f":" 100 * Amplitude!$J$99","v":8.6969850177083803},8.4253101348876953,{"$f":" 100 * Amplitude!$J$90","v":8.1536364238011085},8.2180824279785156,{"$f":" 100 * Amplitude!$J$108","v":8.2825673775757807},null,"C/T",{"$f":" 100 * Amplitude!$J$106","v":9.0859716388648728},8.6305039723714199,{"$f":" 100 * Amplitude!$J$88","v":8.1750000606554671},8.7678766250610352,{"$f":" 100 * Amplitude!$J$100","v":9.3607498478450264},8.943903923034668,{"$f":" 100 * Amplitude!$J$91","v":8.5270610079457345},8.6739241282145176,{"$f":" 100 * Amplitude!$J$109","v":8.8208323583443917},null,"C/T",{"$f":" 100 * Amplitude!$J$107","v":10.776370846265596},9.8803596496582031,{"$f":" 100 * Amplitude!$J$89","v":8.9843564692654798},9.0577163696289062,{"$f":" 100 * Amplitude!$J$101","v":9.1310807240526426},9.4246950149536133,{"$f":" 100 * Amplitude!$J$92","v":9.7183190697575252},9.7256240844726563,{"$f":" 100 * Amplitude!$J$110","v":9.7330133298065835}]
[null,"FC",8.4447336196899414,10.143991470336914,7.3638356526692705,7.7847045898437504,8.2102750142415371,7.9640815734863279,7.7163206736246748,6.718604564666748,8.2764244079589844,null,"FC",9.091130256652832,10.38972282409668,8.1130301157633458,8.4894371032714844,8.8697020212809239,8.443461608886718,8.0148658752441406,6.5027332305908203,8.8117265701293945,null,"FC",10.779284477233887,11.500174522399902,8.3377342224121094,8.4685783386230469,8.6046524047851562,8.7744430541992191,8.9408493041992187,6.9197349548339844,9.7219581604003906]
[null,"F",10.172345161437988,{"$f":" 100 * Amplitude!$J$81","v":10.172418550725954},{"$f":" 100 * Amplitude!$J$75","v":7.1185955631669131},7.4211191449846536,{"$f":" 100 * Amplitude!$J$93","v":7.7235738140742454},7.5032626560756137,{"$f":" 100 * Amplitude!$J$78","v":7.2829539491592588},{"$f":" 100 * Amplitude!$J$84","v":6.7046851655693702},6.7047185897827148,null,"F",10.412581443786621,{"$f":" 100 * Amplitude!$J$82","v":10.41263717872666},{"$f":" 100 * Amplitude!$J$76","v":8.0420697354180195},8.2103858947753903,{"$f":" 100 * Amplitude!$J$94","v":8.3786647342384839},7.9436515808105472,{"$f":" 100 * Amplitude!$J$79","v":7.5086541102389255},{"$f":" 100 * Amplitude!$J$85","v":6.4818417792155971},6.4818935394287109,null,"F",11.527688980102539,{"$f":" 100 * Amplitude!$J$83","v":11.527757207203281},{"$f":" 100 * Amplitude!$J$77","v":7.6786436946352632},7.8784667968750002,{"$f":" 100 * Amplitude!$J$95","v":8.0782262443620017},8.124797058105468,{"$f":" 100 * Amplitude!$J$80","v":8.1713786178820769},{"$f":" 100 * Amplitude!$J$86","v":6.8929244512381205},6.8929877281188965]
[null,"AF",10.170418739318848,10.16053326924642,7.1372456550598145,8.8647277832031257,7.7285346984863281,7.8488822937011715,7.2829179763793945,6.7069384256998701,6.7050638198852539,null,"AF",10.411084175109863,10.403412818908691,8.0512949625651036,8.2110881805419922,8.378662745157877,7.9431807200113935,7.5046609242757158,6.4858369827270508,6.4825139045715332,null,"AF",11.525236129760742,11.51278018951416,7.6936219533284502,7.8796304066975908,8.0782260894775391,8.1243985493977871,8.1664047241210937,6.8978986740112305,6.893761157989502]
[null,"Fp",10.102933883666992,9.3380311330159511,8.8759803771972656,{"$f":" 100 * Amplitude!$J$69","v":8.8760043777632891},8.3637886047363281,{"$f":" 100 * Amplitude!$J$72","v":7.8515827332674206},7.8515715599060059,7.2785065968831377,6.7178425788879395,null,"Fp",10.358697891235352,10.072060585021973,8.3826325734456386,8.2357101440429687,8.3739884694417324,7.9268372853597002,7.3645254770914717,6.6293621063232422,6.5052051544189453,null,"Fp",11.440176963806152,10.974761009216309,8.2311286926269531,7.920429865519206,8.0770384470621739,8.110626856486002,7.9880072275797529,7.0765981674194336,6.9220132827758789]
[]
[null,"Eyes Closed Percent Data",null,null,null,null,null,null,null,null,null,null,"Eyes Open Percent Data",null,null,null,null,null,null,null,null,null,null,"Task Percent Data"]
[null,"19-23 Hz","3/3","5/7","3/3","1/1","Z/0","2/2","4/4","6/8","4/4",null,"19-23 Hz","3/3","5/7","3/3","1/1","Z/0","2/2","4/4","6/8","4/4",null,"19-23 Hz","3/3","5/7","3/3","1/1","Z/0","2/2","4/4","6/8","4/4"]
[null,"O",6.2979187965393066,6.1648654937744141,5.8706592559814457,6.0079383850097656,{"$f":" 100 * Amplitude!$K$102","v":6.1453853521685158},6.0090510050455732,5.8725360870361332,6.0941416422526045,6.2152600288391113,null,"O",6.9886951446533203,6.6923122406005859,5.7380905151367187,6.3807531992594404,{"$f":" 100 * Amplitude!$K$103","v":7.0291938814914579},6.3878523508707685,5.753184127807617,7.1433766682942705,7.5515899658203125,null,"O",6.6478490829467773,6.7528559366861982,7.320973968505859,7.6665515899658203,{"$f":" 100 * Amplitude!$K$104","v":8.0125020084889353},7.5877195994059248,7.1654785156249998,6.6040083567301435,6.4434490203857422]
[null,"PO",6.3145065307617188,6.3120702107747393,5.7186016082763675,{"$f":" 100 * Amplitude!$K$123","v":5.8704950120084263},5.8906154632568359,{"$f":" 100 * Amplitude!$K$126","v":5.8727184948622595},5.6841693878173825,6.2291857401529951,6.2315812110900879,null,"PO",7.0176544189453125,7.0133946736653643,5.7226932525634764,{"$f":" 100 * Amplitude!$K$124","v":5.7323154581474887},6.2340621948242188,{"$f":" 100 * Amplitude!$K$127","v":5.7465124066419273},5.8138957977294918,7.5839354197184248,7.5895171165466309,null,"PO",6.6435656547546387,6.6442031860351562,7.0780975341796877,{"$f":" 100 * Amplitude!$K$125","v":7.3206083429935651},7.4220358530680342,{"$f":" 100 * Amplitude!$K$128","v":7.1629401259079488},7.12615966796875,6.4309399922688799,6.4287805557250977]
[null,"P/T",6.3150420188903809,{"$f":" 100 * Amplitude!$K$111","v":6.3149982838847594},{"$f":" 100 * Amplitude!$K$117","v":5.5643781895538451},5.7029156684875488,{"$f":" 100 * Amplitude!$K$96","v":5.6738614546281223},5.680023193359375,{"$f":" 100 * Amplitude!$K$120","v":5.4934798491515613},{"$f":" 100 * Amplitude!$K$114","v":6.2320652093582867},6.2320570945739746,null,"P/T",7.0185399055480957,{"$f":" 100 * Amplitude!$K$112","v":7.0185134154909399},{"$f":" 100 * Amplitude!$K$118","v":5.7080039679847685},5.9561891555786133,{"$f":" 100 * Amplitude!$K$97","v":6.4282266594535367},6.0163674354553223,{"$f":" 100 * Amplitude!$K$121","v":5.8743347365795593},{"$f":" 100 * Amplitude!$K$115","v":7.5906414541797123},7.5906052589416504,null,"P/T",6.6434922218322754,{"$f":" 100 * Amplitude!$K$113","v":6.6434390039656881},{"$f":" 100 * Amplitude!$K$119","v":6.8372829934753909},7.1166591644287109,{"$f":" 100 * Amplitude!$K$98","v":7.1920950134138435},7.1490426063537598,{"$f":" 100 * Amplitude!$K$122","v":7.0921043291280084},{"$f":" 100 * Amplitude!$K$116","v":6.4283460728431328},6.4283738136291504]
[null,"CP",9.8889694213867187,6.3244216918945311,5.7424550737653464,5.7851943969726562,5.8287158012390137,5.7297799246651788,5.6315716334751675,6.2280601501464847,6.3974223136901855,null,"CP",10.019415855407715,7.0227371215820309,6.0610678536551337,6.2821693420410156,6.5059785842895508,6.2478948320661276,5.99346923828125,7.5755973815917965,6.8973250389099121,null,"CP",9.8912420272827148,6.6546340942382809,6.4632443019321988,6.7595732552664618,7.0551962852478027,6.797482081821987,6.5389556884765625,6.4335617065429691,7.5531582832336426]
[null,"C/T",{"$f":" 100 * Amplitude!$K$105","v":9.9029502215190295},7.9106235504150391,{"$f":" 100 * Amplitude!$K$87","v":5.9182840622001009},5.950927734375,{"$f":" 100 * Amplitude!$K$99","v":5.9835720631555986},5.8754415512084961,{"$f":" 100 * Amplitude!$K$90","v":5.7673139024190947},6.0826841990152998,{"$f":" 100 * Amplitude!$K$108","v":6.3980721011327821},null,"C/T",{"$f":" 100 * Amplitude!$K$106","v":10.031157565115853},8.2207889556884766,{"$f":" 100 * Amplitude!$K$88","v":6.4103810763868312},6.4970598220825195,{"$f":" 100 * Amplitude!$K$100","v":6.5837406183308564},6.3450503349304199,{"$f":" 100 * Amplitude!$K$91","v":6.1063602261318257},6.5004920959472656,{"$f":" 100 * Amplitude!$K$109","v":6.8946215860320086},null,"C/T",{"$f":" 100 * Amplitude!$K$107","v":9.9039444972702579},7.9962507883707685,{"$f":" 100 * Amplitude!$K$89","v":6.0884882242623481},6.5033993721008301,{"$f":" 100 * Amplitude!$K$101","v":6.9183038461016295},6.4522700309753418,{"$f":" 100 * Amplitude!$K$92","v":5.9862319711083893},6.7718798319498701,{"$f":" 100 * Amplitude!$K$110","v":7.5575569152338939}]
[null,"FC",9.9069499969482422,10.893896102905273,6.0854848225911455,6.0339736938476563,5.9903322855631513,5.7429115295410158,5.4947700500488281,5.0099377632141113,6.3926305770874023,null,"FC",10.041583061218262,12.656091690063477,6.4258588155110674,6.4380966186523434,6.4605636596679687,6.3199474334716799,6.1784718831380205,5.6307625770568848,6.8896641731262207,null,"FC",9.9203252792358398,14.043834686279297,6.6550108591715498,6.723541259765625,6.8042259216308594,6.5644798278808594,6.3227907816569013,5.0988836288452148,7.5479092597961426]
[null,"F",10.935318946838379,{"$f":" 100 * Amplitude!$K$81","v":10.935405725279296},{"$f":" 100 * Amplitude!$K$75","v":6.2337315010894701},6.1154610770089288,{"$f":" 100 * Amplitude!$K$93","v":5.9970943018734255},5.6106251307896207,{"$f":" 100 * Amplitude!$K$78","v":5.2241532001286055},{"$f":" 100 * Amplitude!$K$84","v":5.0007202417199714},5.0007452964782715,null,"F",12.714978218078613,{"$f":" 100 * Amplitude!$K$82","v":12.715114885017959},{"$f":" 100 * Amplitude!$K$76","v":6.4167589192813708},6.3771236419677733,{"$f":" 100 * Amplitude!$K$94","v":6.3373897261400653},6.2950679779052736,{"$f":" 100 * Amplitude!$K$79","v":6.2527562414233362},{"$f":" 100 * Amplitude!$K$85","v":5.6215381191293012},5.6215677261352539,null,"F",14.117674827575684,{"$f":" 100 * Amplitude!$K$83","v":14.117844223153464},{"$f":" 100 * Amplitude!$K$77","v":7.1923733806537395},6.9413169860839847,{"$f":" 100 * Amplitude!$K$95","v":6.6901526078951683},6.6771652221679689,{"$f":" 100 * Amplitude!$K$80","v":6.6642022769528015},{"$f":" 100 * Amplitude!$K$86","v":5.0796990592708156},5.0797615051269531]
[null,"AF",10.932326316833496,10.917102813720703,6.2572274208068848,7.5826560974121096,6.0046237945556644,6.3371772766113281,5.2276253700256348,5.0015932718912763,5.0008659362792969,null,"AF",12.710988998413086,12.690608024597168,6.4412663777669268,6.379150390625,6.3373902638753252,6.2948519388834638,6.2503007253011065,5.6239943504333496,5.6219511032104492,null,"AF",14.113307952880859,14.090896606445312,7.219319661458333,6.943613688151042,6.690155029296875,6.6766535441080732,6.6580371856689453,5.0858645439147949,5.0807366371154785]
[null,"Fp",10.828427314758301,9.0301761627197266,7.5941004753112793,{"$f":" 100 * Amplitude!$K$69","v":7.5941128360133519},6.968475341796875,{"$f":" 100 * Amplitude!$K$72","v":6.3428530082360242},6.3428330421447754,5.6371421813964844,5.0058040618896484,null,"Fp",12.571806907653809,11.810238838195801,7.3183536529541016,6.4500096638997393,6.3373692830403643,6.2873223622639971,6.1626542409261065,5.7122244834899902,5.6359004974365234,null,"Fp",13.960268020629883,13.122871398925781,8.1823546091715489,7.0238482157389326,6.6919981638590498,6.6587944030761719,6.4374039967854815,5.3073420524597168,5.1157517433166504]
[]
[null,"Eyes Closed Percent Data",null,null,null,null,null,null,null,null,null,null,"Eyes Open Percent Data",null,null,null,null,null,null,null,null,null,null,"Task Percent Data"]
[null,"23-38 Hz","3/3","5/7","3/3","1/1","Z/0","2/2","4/4","6/8","4/4",null,"23-38 Hz","3/3","5/7","3/3","1/1","Z/0","2/2","4/4","6/8","4/4",null,"23-38 Hz","3/3","5/7","3/3","1/1","Z/0","2/2","4/4","6/8","4/4"]
[null,"O",6.4478330612182617,6.2139358520507812,4.6592124938964847,6.2752869923909502,{"$f":" 100 * Amplitude!$L$102","v":7.9120261537639971},6.5769672393798828,5.2644020080566403,10.143206278483072,11.34367561340332,null,"O",9.278167724609375,9.0391095479329433,8.7983238220214837,10.508060455322266,{"$f":" 100 * Amplitude!$L$103","v":12.22701165648434},10.87701416015625,9.5381454467773441,13.117790222167969,14.305639266967773,null,"O",7.5346407890319824,8.4364121754964199,11.513928222656251,12.739830017089844,{"$f":" 100 * Amplitude!$L$104","v":13.971657464283663},13.074710845947266,12.185529327392578,11.976648966471354,11.87734317779541]
[null,"PO",6.4492149353027344,6.4489860534667969,5.5144565582275389,{"$f":" 100 * Amplitude!$L$123","v":4.6385482605644937},6.2142378489176435,{"$f":" 100 * Amplitude!$L$126","v":5.24190911231595},6.2972389221191403,11.421002705891928,11.434379577636719,null,"PO",9.3152942657470703,9.3098494211832676,8.214894104003907,{"$f":" 100 * Amplitude!$L$124","v":8.7891256369905939},9.919342041015625,{"$f":" 100 * Amplitude!$L$127","v":9.527032610684568},9.2110778808593743,14.410390218098959,14.428447723388672,null,"PO",7.4504833221435547,7.4628690083821612,11.374473571777344,{"$f":" 100 * Amplitude!$L$125","v":11.508018285655302},11.988508860270182,{"$f":" 100 * Amplitude!$L$128","v":12.177773821945314},12.311214447021484,11.866364796956381,11.864474296569824]
[null,"P/T",6.4493818283081055,{"$f":" 100 * Amplitude!$L$111","v":6.4492563031189301},{"$f":" 100 * Amplitude!$L$117","v":6.3867035756014792},6.0299105644226074,{"$f":" 100 * Amplitude!$L$96","v":7.0644641325799089},6.5463118553161621,{"$f":" 100 * Amplitude!$L$120","v":7.3324860867944359},{"$f":" 100 * Amplitude!$L$114","v":11.437068126080547},11.43701171875,null,"P/T",9.3164920806884766,{"$f":" 100 * Amplitude!$L$112","v":9.3163944715776061},{"$f":" 100 * Amplitude!$L$118","v":7.6363496695225797},8.519902229309082,{"$f":" 100 * Amplitude!$L$97","v":9.1342036819046211},9.178680419921875,{"$f":" 100 * Amplitude!$L$121","v":8.8747222248508049},{"$f":" 100 * Amplitude!$L$115","v":14.43208829470122},14.431964874267578,null,"P/T",7.4482440948486328,{"$f":" 100 * Amplitude!$L$113","v":7.4479898434472629},{"$f":" 100 * Amplitude!$L$119","v":11.256265199802231},11.02027416229248,{"$f":" 100 * Amplitude!$L$98","v":10.296585438437218},11.640253067016602,{"$f":" 100 * Amplitude!$L$122","v":12.446404877192773},{"$f":" 100 * Amplitude!$L$116","v":11.864093383329411},11.864151000976562]
[null,"CP",14.67912769317627,6.4853347778320316,6.9892654418945313,7.112940652029855,7.2406244277954102,7.1802275521414618,7.1306468418666293,11.405207061767578,11.813117027282715,null,"CP",17.277585983276367,9.338358306884766,8.1666314261300226,8.5905881609235486,9.0161685943603516,8.6996067592075885,8.3913514273507257,14.375398254394531,11.864436149597168,null,"CP",20.227731704711914,7.5252639770507814,11.032963344029017,10.562980651855469,10.085173606872559,10.500705174037389,10.914374215262276,11.868914031982422,15.003338813781738]
[null,"C/T",{"$f":" 100 * Amplitude!$L$105","v":14.711314110881391},11.1526247660319,{"$f":" 100 * Amplitude!$L$87","v":7.5939213299480182},7.5053596496582031,{"$f":" 100 * Amplitude!$L$99","v":7.416798545491428},7.1643896102905273,{"$f":" 100 * Amplitude!$L$90","v":6.9119780712877947},9.3632901509602871,{"$f":" 100 * Amplitude!$L$108","v":11.814610020267299},null,"C/T",{"$f":" 100 * Amplitude!$L$106","v":17.308726646969173},13.000601450602213,{"$f":" 100 * Amplitude!$L$88","v":8.6923926015808117},8.7952680587768555,{"$f":" 100 * Amplitude!$L$100","v":8.8981401197138048},8.3912572860717773,{"$f":" 100 * Amplitude!$L$91","v":7.8843683781850542},9.8694178263346348,{"$f":" 100 * Amplitude!$L$109","v":11.85442486795181},null,"C/T",{"$f":" 100 * Amplitude!$L$107","v":20.277698664807055},15.550641377766928,{"$f":" 100 * Amplitude!$L$89","v":10.823645261379745},10.348698616027832,{"$f":" 100 * Amplitude!$L$101","v":9.8737451801931631},9.6261920928955078,{"$f":" 100 * Amplitude!$L$92","v":9.3786239511219733},12.19708506266276,{"$f":" 100 * Amplitude!$L$110","v":15.015622118122129}]
[null,"FC",14.723692893981934,17.813228607177734,8.1586742401123047,7.7416595458984379,7.3403504689534502,7.3876091003417965,7.4345442454020185,7.2610316276550293,11.796795845031738,null,"FC",17.332521438598633,23.302053451538086,9.5292402903238926,9.1051864624023437,8.7036012013753261,8.5155113220214851,8.3276659647623692,8.4497489929199219,11.841110229492188,null,"FC",20.27947998046875,20.673330307006836,11.450658162434896,10.579701995849609,9.7235844930013027,10.125459289550781,10.522208531697592,7.4973077774047852,14.986138343811035]
[null,"F",17.900730133056641,{"$f":" 100 * Amplitude!$L$81","v":17.900921463830215},{"$f":" 100 * Amplitude!$L$75","v":8.6853582550128614},7.9747341700962613,{"$f":" 100 * Amplitude!$L$93","v":7.263899863375749},7.6108927045549661,{"$f":" 100 * Amplitude!$L$78","v":7.9578529547934238},{"$f":" 100 * Amplitude!$L$84","v":7.2418857792098628},7.241966724395752,null,"F",23.4329833984375,{"$f":" 100 * Amplitude!$L$82","v":23.433277050439084},{"$f":" 100 * Amplitude!$L$76","v":10.31175956106428},9.4105171203613285,{"$f":" 100 * Amplitude!$L$94","v":8.5090613684883714},8.639791107177734,{"$f":" 100 * Amplitude!$L$79","v":8.7705248517849483},{"$f":" 100 * Amplitude!$L$85","v":8.4374059932663865},8.4374637603759766,null,"F",20.746929168701172,{"$f":" 100 * Amplitude!$L$83","v":20.747070024171638},{"$f":" 100 * Amplitude!$L$77","v":12.041341457350105},10.807452392578124,{"$f":" 100 * Amplitude!$L$95","v":9.5734123494801544},10.625585174560547,{"$f":" 100 * Amplitude!$L$80","v":11.677812091833433},{"$f":" 100 * Amplitude!$L$86","v":7.4442606947524235},7.4444408416748047]
[null,"AF",17.89488410949707,17.865048726399738,8.7333145141601562,11.813583374023438,7.2935935974121096,10.322445678710938,7.9643235206604004,7.244679768880208,7.2423543930053711,null,"AF",23.4246826171875,23.382219314575195,10.362812042236328,9.4150040944417324,8.5090681711832676,8.6397266387939453,8.7692286173502598,8.4387016296386719,8.4376230239868164,null,"AF",20.741367340087891,20.71319580078125,12.075210571289063,10.810633341471354,9.573424657185873,10.624568939208984,11.661333719889322,7.4607334136962891,7.4470329284667969]
[null,"Fp",17.69123649597168,14.393413543701172,11.843528747558594,{"$f":" 100 * Amplitude!$L$69","v":11.843562374628332},11.093568420410156,{"$f":" 100 * Amplitude!$L$72","v":10.343632977580095},10.343588829040527,8.7281417846679687,7.258176326751709,null,"Fp",23.134719848632813,21.548128128051758,12.184614817301432,9.5717798868815098,8.5170625050862636,8.6374645233154297,8.721954345703125,8.4852638244628906,8.4449853897094727,null,"Fp",20.548986434936523,19.496332168579102,13.279683430989584,10.921758015950521,9.5911337534586583,10.58900260925293,11.064595540364584,8.0524883270263672,7.5405879020690918]
[]
[null,"Eyes Closed Percent Data",null,null,null,null,null,null,null,null,null,null,"Eyes Open Percent Data",null,null,null,null,null,null,null,null,null,null,"Task Percent Data"]
[null,"38-42 Hz","3/3","5/7","3/3","1/1","Z/0","2/2","4/4","6/8","4/4",null,"38-42 Hz","3/3","5/7","3/3","1/1","Z/0","2/2","4/4","6/8","4/4",null,"38-42 Hz","3/3","5/7","3/3","1/1","Z/0","2/2","4/4","6/8","4/4"]
[null,"O",3.1283080577850342,2.9393498102823892,1.9777656555175782,2.9194711049397788,{"$f":" 100 * Amplitude!$M$102","v":3.8722963184346573},3.1283601125081382,2.3960756301879882,5.2821019490559893,6.0402765274047852,null,"O",4.2562923431396484,4.1176783243815107,3.7758342742919924,4.6722596486409502,{"$f":" 100 * Amplitude!$M$103","v":5.5751281929002099},5.0277674992879229,4.4859081268310543,7.1354433695475263,7.9847273826599121,null,"O",3.351787805557251,3.8388853073120117,5.7148891448974606,6.1016152699788408,{"$f":" 100 * Amplitude!$M$104","v":6.487402985502702},6.1804828643798828,5.8764678955078127,6.2678470611572266,6.3805384635925293]
[null,"PO",3.1373014450073242,3.1359666188557944,2.3501537322998045,{"$f":" 100 * Amplitude!$M$123","v":1.9666475098482099},2.8264907201131186,{"$f":" 100 * Amplitude!$M$126","v":2.3844260016924501},2.8372266769409178,6.0935503641764326,6.1027560234069824,null,"PO",4.2724804878234863,4.2701021830240888,3.6561103820800782,{"$f":" 100 * Amplitude!$M$124","v":3.7693971805615525},4.4399878184000654,{"$f":" 100 * Amplitude!$M$127","v":4.4804139729150654},4.3492855072021488,8.0576540629069004,8.0702285766601562,null,"PO",3.3120484352111816,3.3179044723510742,5.4083950042724611,{"$f":" 100 * Amplitude!$M$125","v":5.7158349597510671},5.594349543253581,{"$f":" 100 * Amplitude!$M$128","v":5.8735691757265247},5.9015247344970705,6.3892733256022138,6.3907809257507324]
[null,"P/T",3.1376380920410156,{"$f":" 100 * Amplitude!$M$111","v":3.1375683310950282},{"$f":" 100 * Amplitude!$M$117","v":2.730578672067256},2.5932776927947998,{"$f":" 100 * Amplitude!$M$96","v":3.0825909553880844},2.9147763252258301,{"$f":" 100 * Amplitude!$M$120","v":3.277260979116877},{"$f":" 100 * Amplitude!$M$114","v":6.1046079535752735},6.1045584678649902,null,"P/T",4.2730045318603516,{"$f":" 100 * Amplitude!$M$112","v":4.2729602014309398},{"$f":" 100 * Amplitude!$M$118","v":3.5404089566382462},3.7482783794403076,{"$f":" 100 * Amplitude!$M$97","v":3.9350136468598382},4.2063655853271484,{"$f":" 100 * Amplitude!$M$121","v":4.2036109739929053},{"$f":" 100 * Amplitude!$M$115","v":8.0727633781596584},8.0726661682128906,null,"P/T",3.310985803604126,{"$f":" 100 * Amplitude!$M$113","v":3.3108709161506442},{"$f":" 100 * Amplitude!$M$119","v":5.1091495064068209},5.0418500900268555,{"$f":" 100 * Amplitude!$M$98","v":4.3005885082775013},5.3672471046447754,{"$f":" 100 * Amplitude!$M$122","v":5.9275716208208786},{"$f":" 100 * Amplitude!$M$116","v":6.3910845037545423},6.3910908699035645]
[null,"CP",8.0851650238037109,3.1571228027343752,3.1863019125802174,3.1564775194440569,3.1288957595825195,3.1921593802315846,3.2616075788225447,6.0808475494384764,5.6494598388671875,null,"CP",7.8689990043640137,4.2830493927001951,3.7754154205322266,3.7936447688511441,3.8127365112304687,3.8515573229108537,3.8959279741559709,8.0307884216308594,5.5809431076049805,null,"CP",9.0025901794433594,3.3467617034912109,5.0982404436383932,4.61731447492327,4.1311817169189453,4.5871129717145651,5.042575291224888,6.3840217590332031,7.2605929374694824]
[null,"C/T",{"$f":" 100 * Amplitude!$M$105","v":8.1045163482438358},5.8733577728271484,{"$f":" 100 * Amplitude!$M$87","v":3.6422066008698413},3.4087052345275879,{"$f":" 100 * Amplitude!$M$99","v":3.1752049182535642},3.2050256729125977,{"$f":" 100 * Amplitude!$M$90","v":3.2348458611018005},4.441273371378581,{"$f":" 100 * Amplitude!$M$108","v":5.6476939417437881},null,"C/T",{"$f":" 100 * Amplitude!$M$106","v":7.8830662732501153},5.9457963307698565,{"$f":" 100 * Amplitude!$M$88","v":4.0084679946153212},3.8494637012481689,{"$f":" 100 * Amplitude!$M$100","v":3.6904577366665503},3.6311929225921631,{"$f":" 100 * Amplitude!$M$91","v":3.5719242523170416},4.5715920130411787,{"$f":" 100 * Amplitude!$M$109","v":5.5712181260592617},null,"C/T",{"$f":" 100 * Amplitude!$M$107","v":9.0248424788036825},7.0595684051513672,{"$f":" 100 * Amplitude!$M$89","v":5.0943076472244044},4.5280337333679199,{"$f":" 100 * Amplitude!$M$101","v":3.9617571688412894},4.057037353515625,{"$f":" 100 * Amplitude!$M$92","v":4.1523083431451058},5.7081425984700518,{"$f":" 100 * Amplitude!$M$110","v":7.2640009511169046}]
[null,"FC",8.1079607009887695,8.9516124725341797,3.7928915023803711,3.4768009185791016,3.1690689722696939,3.2541469573974608,3.3395652770996094,3.5703666210174561,5.6395750045776367,null,"FC",7.899132251739502,11.941007614135742,4.2955665588378906,3.9732402801513671,3.6633628209431968,3.7481559753417968,3.8331076304117837,3.9511914253234863,5.5648846626281738,null,"FC",9.0306673049926758,10.480891227722168,5.3905175526936846,4.6598812103271481,3.9373601277669272,4.3775833129882811,4.8152844111124677,3.374741792678833,7.2487521171569824]
[null,"F",8.9952125549316406,{"$f":" 100 * Amplitude!$M$81","v":8.9953035001906798},{"$f":" 100 * Amplitude!$M$75","v":3.923245877625634},3.5431472233363559,{"$f":" 100 * Amplitude!$M$93","v":3.1629292862453244},3.3031842367989674,{"$f":" 100 * Amplitude!$M$78","v":3.4434029342097752},{"$f":" 100 * Amplitude!$M$84","v":3.564058492537868},3.5640885829925537,null,"F",12.01653003692627,{"$f":" 100 * Amplitude!$M$82","v":12.016706161712202},{"$f":" 100 * Amplitude!$M$76","v":4.5524978777365757},4.094441604614258,{"$f":" 100 * Amplitude!$M$94","v":3.6362650111405403},3.865056610107422,{"$f":" 100 * Amplitude!$M$79","v":4.093847825227952},{"$f":" 100 * Amplitude!$M$85","v":3.9457873151367604},3.945814847946167,null,"F",10.526329040527344,{"$f":" 100 * Amplitude!$M$83","v":10.526425202003047},{"$f":" 100 * Amplitude!$M$77","v":5.6666626488780159},4.7898506164550785,{"$f":" 100 * Amplitude!$M$95","v":3.9129516345939024},4.6984592437744137,{"$f":" 100 * Amplitude!$M$80","v":5.4839900354228597},{"$f":" 100 * Amplitude!$M$86","v":3.3482728774452339},3.348365306854248]
[null,"AF",8.9919805526733398,8.9755605061848964,3.9505205154418945,5.8703151702880856,3.1822938919067383,5.4161537170410154,3.4515805244445801,3.5635941823323569,3.5639793872833252,null,"AF",12.01181697845459,11.987662315368652,4.5815391540527344,4.0969765981038408,3.6362689336140952,3.8650827407836914,4.0932706197102862,3.9463634490966797,3.9458842277526855,null,"AF",10.523241996765137,10.507515907287598,5.6855684916178388,4.7916863759358721,3.9129606882731118,4.698028564453125,5.4756762186686201,3.3565828800201416,3.3496713638305664]
[null,"Fp",8.8798971176147461,7.1695741017659502,5.8884668350219727,{"$f":" 100 * Amplitude!$M$69","v":5.8884891847985914},5.6605579376220705,{"$f":" 100 * Amplitude!$M$72","v":5.4326643592632635},5.4326295852661133,4.4167137145996094,3.5613131523132324,null,"Fp",11.846871376037598,10.944334030151367,5.6182403564453125,4.1855481465657549,3.6415898005167642,3.8659852345784507,4.071121533711751,3.9670588970184326,3.9491562843322754,null,"Fp",10.415849685668945,9.8282299041748047,6.3566837310791016,4.8558216094970703,3.9258384704589844,4.682933171590169,5.1729399363199873,3.6551082134246826,3.3968675136566162]
[]
[null,"Eyes Closed Percent Data",null,null,null,null,null,null,null,null,null,null,"Eyes Open Percent Data",null,null,null,null,null,null,null,null,null,null,"Task Percent Data"]
[null,"Total","3/3","5/7","3/3","1/1","Z/0","2/2","4/4","6/8","4/4",null,"Total","3/3","5/7","3/3","1/1","Z/0","2/2","4/4","6/8","4/4",null,"Total","3/3","5/7","3/3","1/1","Z/0","2/2","4/4","6/8","4/4"]
[null,"O",0,0,0,0,{"$f":" 100 * Amplitude!$N$102","v":0},0,0,0,0,null,"O",0,0,0,0,{"$f":" 100 * Amplitude!$N$103","v":0},0,0,0,0,null,"O",0,0,0,0,{"$f":" 100 * Amplitude!$N$104","v":0},0,0,0,0]
[null,"PO",0,0,0,{"$f":" 100 * Amplitude!$N$123","v":0},0,{"$f":" 100 * Amplitude!$N$126","v":0},0,0,0,null,"PO",0,0,0,{"$f":" 100 * Amplitude!$N$124","v":0},0,{"$f":" 100 * Amplitude!$N$127","v":0},0,0,0,null,"PO",0,0,0,{"$f":" 100 * Amplitude!$N$125","v":0},0,{"$f":" 100 * Amplitude!$N$128","v":0},0,0,0]
[null,"P/T",0,{"$f":" 100 * Amplitude!$N$111","v":0},{"$f":" 100 * Amplitude!$N$117","v":0},0,{"$f":" 100 * Amplitude!$N$96","v":0},0,{"$f":" 100 * Amplitude!$N$120","v":0},{"$f":" 100 * Amplitude!$N$114","v":0},0,null,"P/T",0,{"$f":" 100 * Amplitude!$N$112","v":0},{"$f":" 100 * Amplitude!$N$118","v":0},0,{"$f":" 100 * Amplitude!$N$97","v":0},0,{"$f":" 100 * Amplitude!$N$121","v":0},{"$f":" 100 * Amplitude!$N$115","v":0},0,null,"P/T",0,{"$f":" 100 * Amplitude!$N$113","v":0},{"$f":" 100 * Amplitude!$N$119","v":0},0,{"$f":" 100 * Amplitude!$N$98","v":0},0,{"$f":" 100 * Amplitude!$N$122","v":0},{"$f":" 100 * Amplitude!$N$116","v":0},0]
[null,"CP",0,0,0,0,0,0,0,0,0,null,"CP",0,0,0,0,0,0,0,0,0,null,"CP",0,0,0,0,0,0,0,0,0]
[null,"C/T",{"$f":" 100 * Amplitude!$N$105","v":0},0,{"$f":" 100 * Amplitude!$N$87","v":0},0,{"$f":" 100 * Amplitude!$N$99","v":0},0,{"$f":" 100 * Amplitude!$N$90","v":0},0,{"$f":" 100 * Amplitude!$N$108","v":0},null,"C/T",{"$f":" 100 * Amplitude!$N$106","v":0},0,{"$f":" 100 * Amplitude!$N$88","v":0},0,{"$f":" 100 * Amplitude!$N$100","v":0},0,{"$f":" 100 * Amplitude!$N$91","v":0},0,{"$f":" 100 * Amplitude!$N$109","v":0},null,"C/T",{"$f":" 100 * Amplitude!$N$107","v":0},0,{"$f":" 100 * Amplitude!$N$89","v":0},0,{"$f":" 100 * Amplitude!$N$101","v":0},0,{"$f":" 100 * Amplitude!$N$92","v":0},0,{"$f":" 100 * Amplitude!$N$110","v":0}]
[null,"FC",0,0,0,0,0,0,0,0,0,null,"FC",0,0,0,0,0,0,0,0,0,null,"FC",0,0,0,0,0,0,0,0,0]
[null,"F",0,{"$f":" 100 * Amplitude!$N$81","v":0},{"$f":" 100 * Amplitude!$N$75","v":0},0,{"$f":" 100 * Amplitude!$N$93","v":0},0,{"$f":" 100 * Amplitude!$N$78","v":0},{"$f":" 100 * Amplitude!$N$84","v":0},0,null,"F",0,{"$f":" 100 * Amplitude!$N$82","v":0},{"$f":" 100 * Amplitude!$N$76","v":0},0,{"$f":" 100 * Amplitude!$N$94","v":0},0,{"$f":" 100 * Amplitude!$N$79","v":0},{"$f":" 100 * Amplitude!$N$85","v":0},0,null,"F",0,{"$f":" 100 * Amplitude!$N$83","v":0},{"$f":" 100 * Amplitude!$N$77","v":0},0,{"$f":" 100 * Amplitude!$N$95","v":0},0,{"$f":" 100 * Amplitude!$N$80","v":0},{"$f":" 100 * Amplitude!$N$86","v":0},0]
[null,"AF",0,0,0,0,0,0,0,0,0,null,"AF",0,0,0,0,0,0,0,0,0,null,"AF",0,0,0,0,0,0,0,0,0]
[null,"Fp",0,0,0,{"$f":" 100 * Amplitude!$N$69","v":0},0,{"$f":" 100 * Amplitude!$N$72","v":0},0,0,0,null,"Fp",0,0,0,0,0,0,0,0,0,null,"Fp",0,0,0,0,0,0,0,0,0]